{"text_format":"1","workbook":"xlsx","n_sheets":8,"sheets":["1確認","2確認","3確認","1学期","2学期","3学期","出席簿に貼る","名簿"],"not_rendered":{"charts":0,"images":0,"macros":1,"external_links":0,"defined_names":4,"comments":0,"pivot_tables":0},"unopened":[],"bounds":{"document_bytes":16777216,"sheet_cells":100000,"rows_first":2000,"rows_last":500,"rows_between":2000,"halvings":0,"cell_chars":16384,"cell_head_chars":4096},"cells_cut":0,"cells_raw":0,"read":"whole","date_system":"1900"}

{"sheet":"1確認","index":0,"n_rows":35,"n_cols":10,"rows_kept":35,"cut":false,"hidden":false,"merged":[[34,0,34,7],[27,0,27,7],[28,0,28,7],[6,0,6,7],[7,0,7,7],[13,0,13,7],[14,0,14,7],[20,0,20,7],[21,0,21,7]]}
[]
[{"$f":"名簿!A1-1+'1確認'!J2","v":1101},{"$f":"VLOOKUP($A2,名簿!$A:$C,3,0)","v":"田中太郎"},null,null,null,null,null,null,null,1]
["1学期の\n授業日数",null,null,null,null,null,"備考"]
[{"$f":"VLOOKUP($A2,テーブル1[],'1学期'!C$1,0)","v":61},null,null,null,null,null,{"$f":"VLOOKUP($A2,テーブル3[],'3学期'!I$1,0)","v":0}]
[null,"4月からの\n出停・忌引","4月からの留学日数","4月からの\n欠席日数","4月からの\n遅刻回数","4月からの\n早退回数","備考","理由"]
[null,{"$f":"SUMIF(テーブル1[番号],'1確認'!$A2,テーブル1[1学期の出停忌引])","v":0},{"$f":"SUMIF(テーブル1[番号],'1確認'!$A2,テーブル1[1学期の留学日数])+SUMIF(テーブル2[番号],'1確認'!$A2,テーブル2[2学期の留学日数])+SUMIF(テーブル3[番号],'1確認'!$A2,テーブル3[3学期の留学日数])","v":0},{"$f":"SUMIF(テーブル1[番号],'1確認'!$A2,テーブル1[1学期の欠席日数])","v":0},{"$f":"SUMIF(テーブル1[番号],'1確認'!$A2,テーブル1[1学期の遅刻回数])","v":0},{"$f":"SUMIF(テーブル1[番号],'1確認'!$A2,テーブル1[1学期の早退回数])","v":0},{"$f":"SUMIF(テーブル1[1学期の出停忌引],'1確認'!$A2,テーブル1[備考])+SUMIF(テーブル2[2学期の出停忌引],'1確認'!$A2,テーブル2[備考])+SUMIF(テーブル3[3学期の出停忌引],'1確認'!$A2,テーブル3[備考])","v":0},{"$f":"VLOOKUP($A2,テーブル1[],'1学期'!J$1,0)","v":"皆勤"}]
["※ここでいう「1学期」とは4月から1学期期末考査最終日までのこと"]
[]
[{"$f":"A2+8","v":1109},{"$f":"VLOOKUP($A9,名簿!$A:$C,3,0)","v":0}]
["1学期の\n授業日数",null,null,null,null,null,"備考"]
[{"$f":"VLOOKUP($A9,テーブル1[],'1学期'!C$1,0)","v":61},null,null,null,null,null,{"$f":"VLOOKUP($A9,テーブル3[],'3学期'!I$1,0)","v":0}]
[null,"4月からの\n出停・忌引","4月からの留学日数","4月からの\n欠席日数","4月からの\n遅刻回数","4月からの\n早退回数","備考","理由"]
[null,{"$f":"SUMIF(テーブル1[番号],'1確認'!$A9,テーブル1[1学期の出停忌引])","v":0},{"$f":"SUMIF(テーブル1[番号],'1確認'!$A9,テーブル1[1学期の留学日数])+SUMIF(テーブル2[番号],'1確認'!$A9,テーブル2[2学期の留学日数])+SUMIF(テーブル3[番号],'1確認'!$A9,テーブル3[3学期の留学日数])","v":0},{"$f":"SUMIF(テーブル1[番号],'1確認'!$A9,テーブル1[1学期の欠席日数])","v":6},{"$f":"SUMIF(テーブル1[番号],'1確認'!$A9,テーブル1[1学期の遅刻回数])","v":0},{"$f":"SUMIF(テーブル1[番号],'1確認'!$A9,テーブル1[1学期の早退回数])","v":0},{"$f":"SUMIF(テーブル1[1学期の出停忌引],'1確認'!$A9,テーブル1[備考])+SUMIF(テーブル2[2学期の出停忌引],'1確認'!$A9,テーブル2[備考])+SUMIF(テーブル3[3学期の出停忌引],'1確認'!$A9,テーブル3[備考])","v":0},{"$f":"VLOOKUP($A9,テーブル1[],'1学期'!J$1,0)","v":"体調不良5、発熱1"}]
["※ここでいう「1学期」とは4月から1学期期末考査最終日までのこと"]
[]
[{"$f":"A9+8","v":1117},{"$f":"VLOOKUP($A16,名簿!$A:$C,3,0)","v":0}]
["1学期の\n授業日数",null,null,null,null,null,"備考"]
[{"$f":"VLOOKUP($A16,テーブル1[],'1学期'!C$1,0)","v":61},null,null,null,null,null,{"$f":"VLOOKUP($A16,テーブル3[],'3学期'!I$1,0)","v":0}]
[null,"4月からの\n出停・忌引","4月からの留学日数","4月からの\n欠席日数","4月からの\n遅刻回数","4月からの\n早退回数","備考","理由"]
[null,{"$f":"SUMIF(テーブル1[番号],'1確認'!$A16,テーブル1[1学期の出停忌引])","v":0},{"$f":"SUMIF(テーブル1[番号],'1確認'!$A16,テーブル1[1学期の留学日数])+SUMIF(テーブル2[番号],'1確認'!$A16,テーブル2[2学期の留学日数])+SUMIF(テーブル3[番号],'1確認'!$A16,テーブル3[3学期の留学日数])","v":0},{"$f":"SUMIF(テーブル1[番号],'1確認'!$A16,テーブル1[1学期の欠席日数])","v":1},{"$f":"SUMIF(テーブル1[番号],'1確認'!$A16,テーブル1[1学期の遅刻回数])","v":0},{"$f":"SUMIF(テーブル1[番号],'1確認'!$A16,テーブル1[1学期の早退回数])","v":0},{"$f":"SUMIF(テーブル1[1学期の出停忌引],'1確認'!$A16,テーブル1[備考])+SUMIF(テーブル2[2学期の出停忌引],'1確認'!$A16,テーブル2[備考])+SUMIF(テーブル3[3学期の出停忌引],'1確認'!$A16,テーブル3[備考])","v":0},{"$f":"VLOOKUP($A16,テーブル1[],'1学期'!J$1,0)","v":"頭痛1"}]
["※ここでいう「1学期」とは4月から1学期期末考査最終日までのこと"]
[]
[{"$f":"A16+8","v":1125},{"$f":"VLOOKUP($A23,名簿!$A:$C,3,0)","v":0}]
["1学期の\n授業日数",null,null,null,null,null,"備考"]
[{"$f":"VLOOKUP($A23,テーブル1[],'1学期'!C$1,0)","v":61},null,null,null,null,null,{"$f":"VLOOKUP($A23,テーブル3[],'3学期'!I$1,0)","v":0}]
[null,"4月からの\n出停・忌引","4月からの留学日数","4月からの\n欠席日数","4月からの\n遅刻回数","4月からの\n早退回数","備考","理由"]
[null,{"$f":"SUMIF(テーブル1[番号],'1確認'!$A23,テーブル1[1学期の出停忌引])","v":0},{"$f":"SUMIF(テーブル1[番号],'1確認'!$A23,テーブル1[1学期の留学日数])+SUMIF(テーブル2[番号],'1確認'!$A23,テーブル2[2学期の留学日数])+SUMIF(テーブル3[番号],'1確認'!$A23,テーブル3[3学期の留学日数])","v":0},{"$f":"SUMIF(テーブル1[番号],'1確認'!$A23,テーブル1[1学期の欠席日数])","v":1},{"$f":"SUMIF(テーブル1[番号],'1確認'!$A23,テーブル1[1学期の遅刻回数])","v":1},{"$f":"SUMIF(テーブル1[番号],'1確認'!$A23,テーブル1[1学期の早退回数])","v":0},{"$f":"SUMIF(テーブル1[1学期の出停忌引],'1確認'!$A23,テーブル1[備考])+SUMIF(テーブル2[2学期の出停忌引],'1確認'!$A23,テーブル2[備考])+SUMIF(テーブル3[3学期の出停忌引],'1確認'!$A23,テーブル3[備考])","v":0},{"$f":"VLOOKUP($A23,テーブル1[],'1学期'!J$1,0)","v":"体調不良1"}]
["※ここでいう「1学期」とは4月から1学期期末考査最終日までのこと"]
[]
[{"$f":"A23+8","v":1133},{"$f":"VLOOKUP($A30,名簿!$A:$C,3,0)","v":0}]
["1学期の\n授業日数",null,null,null,null,null,"備考"]
[{"$f":"VLOOKUP($A30,テーブル1[],'1学期'!C$1,0)","v":61},null,null,null,null,null,{"$f":"VLOOKUP($A30,テーブル3[],'3学期'!I$1,0)","v":0}]
[null,"4月からの\n出停・忌引","4月からの留学日数","4月からの\n欠席日数","4月からの\n遅刻回数","4月からの\n早退回数","備考","理由"]
[null,{"$f":"SUMIF(テーブル1[番号],'1確認'!$A30,テーブル1[1学期の出停忌引])","v":7},{"$f":"SUMIF(テーブル1[番号],'1確認'!$A30,テーブル1[1学期の留学日数])+SUMIF(テーブル2[番号],'1確認'!$A30,テーブル2[2学期の留学日数])+SUMIF(テーブル3[番号],'1確認'!$A30,テーブル3[3学期の留学日数])","v":0},{"$f":"SUMIF(テーブル1[番号],'1確認'!$A30,テーブル1[1学期の欠席日数])","v":0},{"$f":"SUMIF(テーブル1[番号],'1確認'!$A30,テーブル1[1学期の遅刻回数])","v":1},{"$f":"SUMIF(テーブル1[番号],'1確認'!$A30,テーブル1[1学期の早退回数])","v":0},{"$f":"SUMIF(テーブル1[1学期の出停忌引],'1確認'!$A30,テーブル1[備考])+SUMIF(テーブル2[2学期の出停忌引],'1確認'!$A30,テーブル2[備考])+SUMIF(テーブル3[3学期の出停忌引],'1確認'!$A30,テーブル3[備考])","v":0},{"$f":"VLOOKUP($A30,テーブル1[],'1学期'!J$1,0)","v":"感染症予防のため7"}]
["※ここでいう「1学期」とは4月から1学期期末考査最終日までのこと"]

{"sheet":"2確認","index":1,"n_rows":35,"n_cols":10,"rows_kept":35,"cut":false,"hidden":false,"merged":[[34,0,34,7],[27,0,27,7],[28,0,28,7],[7,0,7,7],[13,0,13,7],[14,0,14,7],[20,0,20,7],[21,0,21,7]]}
[]
[{"$f":"3500+J2","v":3508},{"$f":"VLOOKUP($A2,名簿!$A:$C,3,0)","v":{"$error":"#N/A"}},null,null,null,null,null,null,null,8]
["2学期の\n授業日数","2学期の\n出停・忌引","3学期の\n留学日数","2学期の\n欠席日数","2学期の\n遅刻回数","2学期の\n早退回数","備考"]
[{"$f":"VLOOKUP($A2,テーブル2[],'2学期'!C$1,0)","v":{"$error":"#N/A"}},{"$f":"VLOOKUP($A2,テーブル2[],'2学期'!D$1,0)","v":{"$error":"#N/A"}},{"$f":"VLOOKUP($A2,テーブル2[],'2学期'!E$1,0)","v":{"$error":"#N/A"}},{"$f":"VLOOKUP($A2,テーブル2[],'2学期'!F$1,0)","v":{"$error":"#N/A"}},{"$f":"VLOOKUP($A2,テーブル2[],'2学期'!G$1,0)","v":{"$error":"#N/A"}},{"$f":"VLOOKUP($A2,テーブル2[],'2学期'!H$1,0)","v":{"$error":"#N/A"}},{"$f":"VLOOKUP($A2,テーブル3[],'3学期'!I$1,0)","v":{"$error":"#N/A"}}]
[null,"4月からの\n出停・忌引","4月からの留学日数","4月からの\n欠席日数","4月からの\n遅刻回数","4月からの\n早退回数","備考","理由"]
[null,{"$f":"SUMIF(テーブル1[番号],'2確認'!$A2,テーブル1[1学期の出停忌引])+SUMIF(テーブル2[番号],'2確認'!$A2,テーブル2[2学期の出停忌引])","v":0},{"$f":"SUMIF(テーブル1[番号],'2確認'!$A2,テーブル1[1学期の留学日数])+SUMIF(テーブル2[番号],'2確認'!$A2,テーブル2[2学期の留学日数])+SUMIF(テーブル3[番号],'2確認'!$A2,テーブル3[3学期の留学日数])","v":0},{"$f":"SUMIF(テーブル1[番号],'2確認'!$A2,テーブル1[1学期の欠席日数])+SUMIF(テーブル2[番号],'2確認'!$A2,テーブル2[2学期の欠席日数])","v":0},{"$f":"SUMIF(テーブル1[番号],'2確認'!$A2,テーブル1[1学期の遅刻回数])+SUMIF(テーブル2[番号],'2確認'!$A2,テーブル2[2学期の遅刻回数])","v":0},{"$f":"SUMIF(テーブル1[番号],'2確認'!$A2,テーブル1[1学期の早退回数])+SUMIF(テーブル2[番号],'2確認'!$A2,テーブル2[2学期の早退回数])","v":0},{"$f":"SUMIF(テーブル1[1学期の出停忌引],'2確認'!$A2,テーブル1[備考])+SUMIF(テーブル2[2学期の出停忌引],'2確認'!$A2,テーブル2[備考])+SUMIF(テーブル3[3学期の出停忌引],'2確認'!$A2,テーブル3[備考])","v":0},{"$f":"VLOOKUP($A2,テーブル2[],'2学期'!J$1,0)","v":{"$error":"#N/A"}}]
["※ここでいう「2学期」とは1学期期末テストが終わった翌日から2学期期末テスト最終日までのこと"]
[]
[{"$f":"A2+8","v":3516},{"$f":"VLOOKUP($A9,名簿!$A:$C,3,0)","v":{"$error":"#N/A"}}]
["2学期の\n授業日数","2学期の\n出停・忌引","3学期の\n留学日数","2学期の\n欠席日数","2学期の\n遅刻回数","2学期の\n早退回数","備考"]
[{"$f":"VLOOKUP($A9,テーブル2[],'2学期'!C$1,0)","v":{"$error":"#N/A"}},{"$f":"VLOOKUP($A9,テーブル2[],'2学期'!D$1,0)","v":{"$error":"#N/A"}},{"$f":"VLOOKUP($A9,テーブル2[],'2学期'!E$1,0)","v":{"$error":"#N/A"}},{"$f":"VLOOKUP($A9,テーブル2[],'2学期'!F$1,0)","v":{"$error":"#N/A"}},{"$f":"VLOOKUP($A9,テーブル2[],'2学期'!G$1,0)","v":{"$error":"#N/A"}},{"$f":"VLOOKUP($A9,テーブル2[],'2学期'!H$1,0)","v":{"$error":"#N/A"}},{"$f":"VLOOKUP($A9,テーブル3[],'3学期'!I$1,0)","v":{"$error":"#N/A"}}]
[null,"4月からの\n出停・忌引","4月からの留学日数","4月からの\n欠席日数","4月からの\n遅刻回数","4月からの\n早退回数","備考","理由"]
[null,{"$f":"SUMIF(テーブル1[番号],'2確認'!$A9,テーブル1[1学期の出停忌引])+SUMIF(テーブル2[番号],'2確認'!$A9,テーブル2[2学期の出停忌引])","v":0},{"$f":"SUMIF(テーブル1[番号],'2確認'!$A9,テーブル1[1学期の留学日数])+SUMIF(テーブル2[番号],'2確認'!$A9,テーブル2[2学期の留学日数])+SUMIF(テーブル3[番号],'2確認'!$A9,テーブル3[3学期の留学日数])","v":0},{"$f":"SUMIF(テーブル1[番号],'2確認'!$A9,テーブル1[1学期の欠席日数])+SUMIF(テーブル2[番号],'2確認'!$A9,テーブル2[2学期の欠席日数])","v":0},{"$f":"SUMIF(テーブル1[番号],'2確認'!$A9,テーブル1[1学期の遅刻回数])+SUMIF(テーブル2[番号],'2確認'!$A9,テーブル2[2学期の遅刻回数])","v":0},{"$f":"SUMIF(テーブル1[番号],'2確認'!$A9,テーブル1[1学期の早退回数])+SUMIF(テーブル2[番号],'2確認'!$A9,テーブル2[2学期の早退回数])","v":0},{"$f":"SUMIF(テーブル1[1学期の出停忌引],'2確認'!$A9,テーブル1[備考])+SUMIF(テーブル2[2学期の出停忌引],'2確認'!$A9,テーブル2[備考])+SUMIF(テーブル3[3学期の出停忌引],'2確認'!$A9,テーブル3[備考])","v":0},{"$f":"VLOOKUP($A9,テーブル2[],'2学期'!J$1,0)","v":{"$error":"#N/A"}}]
["※ここでいう「2学期」とは1学期期末テストが終わった翌日から2学期期末テスト最終日までのこと"]
[]
[{"$f":"A9+8","v":3524},{"$f":"VLOOKUP($A16,名簿!$A:$C,3,0)","v":{"$error":"#N/A"}}]
["2学期の\n授業日数","2学期の\n出停・忌引","3学期の\n留学日数","2学期の\n欠席日数","2学期の\n遅刻回数","2学期の\n早退回数","備考"]
[{"$f":"VLOOKUP($A16,テーブル2[],'2学期'!C$1,0)","v":{"$error":"#N/A"}},{"$f":"VLOOKUP($A16,テーブル2[],'2学期'!D$1,0)","v":{"$error":"#N/A"}},{"$f":"VLOOKUP($A16,テーブル2[],'2学期'!E$1,0)","v":{"$error":"#N/A"}},{"$f":"VLOOKUP($A16,テーブル2[],'2学期'!F$1,0)","v":{"$error":"#N/A"}},{"$f":"VLOOKUP($A16,テーブル2[],'2学期'!G$1,0)","v":{"$error":"#N/A"}},{"$f":"VLOOKUP($A16,テーブル2[],'2学期'!H$1,0)","v":{"$error":"#N/A"}},{"$f":"VLOOKUP($A16,テーブル3[],'3学期'!I$1,0)","v":{"$error":"#N/A"}}]
[null,"4月からの\n出停・忌引","4月からの留学日数","4月からの\n欠席日数","4月からの\n遅刻回数","4月からの\n早退回数","備考","理由"]
[null,{"$f":"SUMIF(テーブル1[番号],'2確認'!$A16,テーブル1[1学期の出停忌引])+SUMIF(テーブル2[番号],'2確認'!$A16,テーブル2[2学期の出停忌引])","v":0},{"$f":"SUMIF(テーブル1[番号],'2確認'!$A16,テーブル1[1学期の留学日数])+SUMIF(テーブル2[番号],'2確認'!$A16,テーブル2[2学期の留学日数])+SUMIF(テーブル3[番号],'2確認'!$A16,テーブル3[3学期の留学日数])","v":0},{"$f":"SUMIF(テーブル1[番号],'2確認'!$A16,テーブル1[1学期の欠席日数])+SUMIF(テーブル2[番号],'2確認'!$A16,テーブル2[2学期の欠席日数])","v":0},{"$f":"SUMIF(テーブル1[番号],'2確認'!$A16,テーブル1[1学期の遅刻回数])+SUMIF(テーブル2[番号],'2確認'!$A16,テーブル2[2学期の遅刻回数])","v":0},{"$f":"SUMIF(テーブル1[番号],'2確認'!$A16,テーブル1[1学期の早退回数])+SUMIF(テーブル2[番号],'2確認'!$A16,テーブル2[2学期の早退回数])","v":0},{"$f":"SUMIF(テーブル1[1学期の出停忌引],'2確認'!$A16,テーブル1[備考])+SUMIF(テーブル2[2学期の出停忌引],'2確認'!$A16,テーブル2[備考])+SUMIF(テーブル3[3学期の出停忌引],'2確認'!$A16,テーブル3[備考])","v":0},{"$f":"VLOOKUP($A16,テーブル2[],'2学期'!J$1,0)","v":{"$error":"#N/A"}}]
["※ここでいう「2学期」とは1学期期末テストが終わった翌日から2学期期末テスト最終日までのこと"]
[]
[{"$f":"A16+8","v":3532},{"$f":"VLOOKUP($A23,名簿!$A:$C,3,0)","v":{"$error":"#N/A"}}]
["2学期の\n授業日数","2学期の\n出停・忌引","3学期の\n留学日数","2学期の\n欠席日数","2学期の\n遅刻回数","2学期の\n早退回数","備考"]
[{"$f":"VLOOKUP($A23,テーブル2[],'2学期'!C$1,0)","v":{"$error":"#N/A"}},{"$f":"VLOOKUP($A23,テーブル2[],'2学期'!D$1,0)","v":{"$error":"#N/A"}},{"$f":"VLOOKUP($A23,テーブル2[],'2学期'!E$1,0)","v":{"$error":"#N/A"}},{"$f":"VLOOKUP($A23,テーブル2[],'2学期'!F$1,0)","v":{"$error":"#N/A"}},{"$f":"VLOOKUP($A23,テーブル2[],'2学期'!G$1,0)","v":{"$error":"#N/A"}},{"$f":"VLOOKUP($A23,テーブル2[],'2学期'!H$1,0)","v":{"$error":"#N/A"}},{"$f":"VLOOKUP($A23,テーブル3[],'3学期'!I$1,0)","v":{"$error":"#N/A"}}]
[null,"4月からの\n出停・忌引","4月からの留学日数","4月からの\n欠席日数","4月からの\n遅刻回数","4月からの\n早退回数","備考","理由"]
[null,{"$f":"SUMIF(テーブル1[番号],'2確認'!$A23,テーブル1[1学期の出停忌引])+SUMIF(テーブル2[番号],'2確認'!$A23,テーブル2[2学期の出停忌引])","v":0},{"$f":"SUMIF(テーブル1[番号],'2確認'!$A23,テーブル1[1学期の留学日数])+SUMIF(テーブル2[番号],'2確認'!$A23,テーブル2[2学期の留学日数])+SUMIF(テーブル3[番号],'2確認'!$A23,テーブル3[3学期の留学日数])","v":0},{"$f":"SUMIF(テーブル1[番号],'2確認'!$A23,テーブル1[1学期の欠席日数])+SUMIF(テーブル2[番号],'2確認'!$A23,テーブル2[2学期の欠席日数])","v":0},{"$f":"SUMIF(テーブル1[番号],'2確認'!$A23,テーブル1[1学期の遅刻回数])+SUMIF(テーブル2[番号],'2確認'!$A23,テーブル2[2学期の遅刻回数])","v":0},{"$f":"SUMIF(テーブル1[番号],'2確認'!$A23,テーブル1[1学期の早退回数])+SUMIF(テーブル2[番号],'2確認'!$A23,テーブル2[2学期の早退回数])","v":0},{"$f":"SUMIF(テーブル1[1学期の出停忌引],'2確認'!$A23,テーブル1[備考])+SUMIF(テーブル2[2学期の出停忌引],'2確認'!$A23,テーブル2[備考])+SUMIF(テーブル3[3学期の出停忌引],'2確認'!$A23,テーブル3[備考])","v":0},{"$f":"VLOOKUP($A23,テーブル2[],'2学期'!J$1,0)","v":{"$error":"#N/A"}}]
["※ここでいう「2学期」とは1学期期末テストが終わった翌日から2学期期末テスト最終日までのこと"]
[]
[{"$f":"A23+8","v":3540},{"$f":"VLOOKUP($A30,名簿!$A:$C,3,0)","v":{"$error":"#N/A"}}]
["2学期の\n授業日数","2学期の\n出停・忌引","3学期の\n留学日数","2学期の\n欠席日数","2学期の\n遅刻回数","2学期の\n早退回数","備考"]
[{"$f":"VLOOKUP($A30,テーブル2[],'2学期'!C$1,0)","v":{"$error":"#N/A"}},{"$f":"VLOOKUP($A30,テーブル2[],'2学期'!D$1,0)","v":{"$error":"#N/A"}},{"$f":"VLOOKUP($A30,テーブル2[],'2学期'!E$1,0)","v":{"$error":"#N/A"}},{"$f":"VLOOKUP($A30,テーブル2[],'2学期'!F$1,0)","v":{"$error":"#N/A"}},{"$f":"VLOOKUP($A30,テーブル2[],'2学期'!G$1,0)","v":{"$error":"#N/A"}},{"$f":"VLOOKUP($A30,テーブル2[],'2学期'!H$1,0)","v":{"$error":"#N/A"}},{"$f":"VLOOKUP($A30,テーブル3[],'3学期'!I$1,0)","v":{"$error":"#N/A"}}]
[null,"4月からの\n出停・忌引","4月からの留学日数","4月からの\n欠席日数","4月からの\n遅刻回数","4月からの\n早退回数","備考","理由"]
[null,{"$f":"SUMIF(テーブル1[番号],'2確認'!$A30,テーブル1[1学期の出停忌引])+SUMIF(テーブル2[番号],'2確認'!$A30,テーブル2[2学期の出停忌引])","v":0},{"$f":"SUMIF(テーブル1[番号],'2確認'!$A30,テーブル1[1学期の留学日数])+SUMIF(テーブル2[番号],'2確認'!$A30,テーブル2[2学期の留学日数])+SUMIF(テーブル3[番号],'2確認'!$A30,テーブル3[3学期の留学日数])","v":0},{"$f":"SUMIF(テーブル1[番号],'2確認'!$A30,テーブル1[1学期の欠席日数])+SUMIF(テーブル2[番号],'2確認'!$A30,テーブル2[2学期の欠席日数])","v":0},{"$f":"SUMIF(テーブル1[番号],'2確認'!$A30,テーブル1[1学期の遅刻回数])+SUMIF(テーブル2[番号],'2確認'!$A30,テーブル2[2学期の遅刻回数])","v":0},{"$f":"SUMIF(テーブル1[番号],'2確認'!$A30,テーブル1[1学期の早退回数])+SUMIF(テーブル2[番号],'2確認'!$A30,テーブル2[2学期の早退回数])","v":0},{"$f":"SUMIF(テーブル1[1学期の出停忌引],'2確認'!$A30,テーブル1[備考])+SUMIF(テーブル2[2学期の出停忌引],'2確認'!$A30,テーブル2[備考])+SUMIF(テーブル3[3学期の出停忌引],'2確認'!$A30,テーブル3[備考])","v":0},{"$f":"VLOOKUP($A30,テーブル2[],'2学期'!J$1,0)","v":{"$error":"#N/A"}}]
["※ここでいう「2学期」とは1学期期末テストが終わった翌日から2学期期末テスト最終日までのこと"]

{"sheet":"3確認","index":2,"n_rows":35,"n_cols":10,"rows_kept":35,"cut":false,"hidden":false,"merged":[[27,0,27,7],[28,0,28,7],[34,0,34,7],[7,0,7,7],[13,0,13,7],[14,0,14,7],[20,0,20,7],[21,0,21,7]]}
[]
[{"$f":"'1確認'!A2","v":1101},{"$f":"VLOOKUP($A2,名簿!$A:$C,3,0)","v":"田中太郎"},null,null,null,null,null,null,null,5]
["3学期の\n授業日数","3学期の\n出停・忌引","3学期の\n留学日数","3学期の\n欠席日数","3学期の\n遅刻回数","3学期の\n早退回数","備考"]
[{"$f":"VLOOKUP($A2,テーブル3[],'3学期'!C$1,0)","v":56},{"$f":"VLOOKUP($A2,テーブル3[],'3学期'!D$1,0)","v":0},{"$f":"VLOOKUP($A2,テーブル3[],'3学期'!E$1,0)","v":0},{"$f":"VLOOKUP($A2,テーブル3[],'3学期'!F$1,0)","v":0},{"$f":"VLOOKUP($A2,テーブル3[],'3学期'!G$1,0)","v":0},{"$f":"VLOOKUP($A2,テーブル3[],'3学期'!H$1,0)","v":0},{"$f":"VLOOKUP($A2,テーブル3[],'3学期'!I$1,0)","v":0}]
[null,"4月からの\n出停・忌引","4月からの留学日数","4月からの\n欠席日数","4月からの\n遅刻回数","4月からの\n早退回数","備考","理由"]
[null,{"$f":"SUMIF(テーブル1[番号],'3確認'!$A2,テーブル1[1学期の出停忌引])+SUMIF(テーブル2[番号],'3確認'!$A2,テーブル2[2学期の出停忌引])+SUMIF(テーブル3[番号],'3確認'!$A2,テーブル3[3学期の出停忌引])","v":0},{"$f":"SUMIF(テーブル1[番号],'3確認'!$A2,テーブル1[1学期の留学日数])+SUMIF(テーブル2[番号],'3確認'!$A2,テーブル2[2学期の留学日数])+SUMIF(テーブル3[番号],'3確認'!$A2,テーブル3[3学期の留学日数])","v":0},{"$f":"SUMIF(テーブル1[番号],'3確認'!$A2,テーブル1[1学期の欠席日数])+SUMIF(テーブル2[番号],'3確認'!$A2,テーブル2[2学期の欠席日数])+SUMIF(テーブル3[番号],'3確認'!$A2,テーブル3[3学期の欠席日数])","v":0},{"$f":"SUMIF(テーブル1[番号],'3確認'!$A2,テーブル1[1学期の遅刻回数])+SUMIF(テーブル2[番号],'3確認'!$A2,テーブル2[2学期の遅刻回数])+SUMIF(テーブル3[番号],'3確認'!$A2,テーブル3[3学期の遅刻回数])","v":0},{"$f":"SUMIF(テーブル1[番号],'3確認'!$A2,テーブル1[1学期の早退回数])+SUMIF(テーブル2[番号],'3確認'!$A2,テーブル2[2学期の早退回数])+SUMIF(テーブル3[番号],'3確認'!$A2,テーブル3[3学期の早退回数])","v":0},{"$f":"SUMIF(テーブル1[1学期の出停忌引],'3確認'!$A2,テーブル1[備考])+SUMIF(テーブル2[2学期の出停忌引],'3確認'!$A2,テーブル2[備考])+SUMIF(テーブル3[3学期の出停忌引],'3確認'!$A2,テーブル3[備考])","v":0},{"$f":"VLOOKUP($A2,テーブル3[],'3学期'!J$1,0)","v":"皆勤"}]
["※ここでいう「3学期」とは2学期期末が終わった翌日から学年末テスト最終日までのこと"]
[]
[{"$f":"A2+8","v":1109},{"$f":"VLOOKUP($A9,名簿!$A:$C,3,0)","v":0}]
["3学期の\n授業日数","3学期の\n出停・忌引","3学期の\n留学日数","3学期の\n欠席日数","3学期の\n遅刻回数","3学期の\n早退回数","備考"]
[{"$f":"VLOOKUP($A9,テーブル3[],'3学期'!C$1,0)","v":56},{"$f":"VLOOKUP($A9,テーブル3[],'3学期'!D$1,0)","v":0},{"$f":"VLOOKUP($A9,テーブル3[],'3学期'!E$1,0)","v":0},{"$f":"VLOOKUP($A9,テーブル3[],'3学期'!F$1,0)","v":0},{"$f":"VLOOKUP($A9,テーブル3[],'3学期'!G$1,0)","v":0},{"$f":"VLOOKUP($A9,テーブル3[],'3学期'!H$1,0)","v":0},{"$f":"IF(VLOOKUP($A9,テーブル3[],'3学期'!I$1,0)=\"\",\"\",VLOOKUP($A9,テーブル3[],'3学期'!I$1,0))","v":""}]
[null,"4月からの\n出停・忌引","4月からの留学日数","4月からの\n欠席日数","4月からの\n遅刻回数","4月からの\n早退回数","備考","理由"]
[null,{"$f":"SUMIF(テーブル1[番号],'3確認'!$A9,テーブル1[1学期の出停忌引])+SUMIF(テーブル2[番号],'3確認'!$A9,テーブル2[2学期の出停忌引])+SUMIF(テーブル3[番号],'3確認'!$A9,テーブル3[3学期の出停忌引])","v":2},{"$f":"SUMIF(テーブル1[番号],'3確認'!$A9,テーブル1[1学期の留学日数])+SUMIF(テーブル2[番号],'3確認'!$A9,テーブル2[2学期の留学日数])+SUMIF(テーブル3[番号],'3確認'!$A9,テーブル3[3学期の留学日数])","v":0},{"$f":"SUMIF(テーブル1[番号],'3確認'!$A9,テーブル1[1学期の欠席日数])+SUMIF(テーブル2[番号],'3確認'!$A9,テーブル2[2学期の欠席日数])+SUMIF(テーブル3[番号],'3確認'!$A9,テーブル3[3学期の欠席日数])","v":10},{"$f":"SUMIF(テーブル1[番号],'3確認'!$A9,テーブル1[1学期の遅刻回数])+SUMIF(テーブル2[番号],'3確認'!$A9,テーブル2[2学期の遅刻回数])+SUMIF(テーブル3[番号],'3確認'!$A9,テーブル3[3学期の遅刻回数])","v":0},{"$f":"SUMIF(テーブル1[番号],'3確認'!$A9,テーブル1[1学期の早退回数])+SUMIF(テーブル2[番号],'3確認'!$A9,テーブル2[2学期の早退回数])+SUMIF(テーブル3[番号],'3確認'!$A9,テーブル3[3学期の早退回数])","v":0},{"$f":"SUMIF(テーブル1[1学期の出停忌引],'3確認'!$A9,テーブル1[備考])+SUMIF(テーブル2[2学期の出停忌引],'3確認'!$A9,テーブル2[備考])+SUMIF(テーブル3[3学期の出停忌引],'3確認'!$A9,テーブル3[備考])","v":0},{"$f":"VLOOKUP($A9,テーブル3[],'3学期'!J$1,0)","v":"体調不良7、発熱1、頭痛1、腹痛1、感染症予防のため2"}]
["※ここでいう「3学期」とは2学期期末が終わった翌日から学年末テスト最終日までのこと"]
[]
[{"$f":"A9+8","v":1117},{"$f":"VLOOKUP($A16,名簿!$A:$C,3,0)","v":0}]
["3学期の\n授業日数","3学期の\n出停・忌引","3学期の\n留学日数","3学期の\n欠席日数","3学期の\n遅刻回数","3学期の\n早退回数","備考"]
[{"$f":"VLOOKUP($A16,テーブル3[],'3学期'!C$1,0)","v":56},{"$f":"VLOOKUP($A16,テーブル3[],'3学期'!D$1,0)","v":0},{"$f":"VLOOKUP($A16,テーブル3[],'3学期'!E$1,0)","v":0},{"$f":"VLOOKUP($A16,テーブル3[],'3学期'!F$1,0)","v":0},{"$f":"VLOOKUP($A16,テーブル3[],'3学期'!G$1,0)","v":0},{"$f":"VLOOKUP($A16,テーブル3[],'3学期'!H$1,0)","v":0},{"$f":"IF(VLOOKUP($A16,テーブル3[],'3学期'!I$1,0)=\"\",\"\",VLOOKUP($A16,テーブル3[],'3学期'!I$1,0))","v":""}]
[null,"4月からの\n出停・忌引","4月からの留学日数","4月からの\n欠席日数","4月からの\n遅刻回数","4月からの\n早退回数","備考","理由"]
[null,{"$f":"SUMIF(テーブル1[番号],'3確認'!$A16,テーブル1[1学期の出停忌引])+SUMIF(テーブル2[番号],'3確認'!$A16,テーブル2[2学期の出停忌引])+SUMIF(テーブル3[番号],'3確認'!$A16,テーブル3[3学期の出停忌引])","v":1},{"$f":"SUMIF(テーブル1[番号],'3確認'!$A16,テーブル1[1学期の留学日数])+SUMIF(テーブル2[番号],'3確認'!$A16,テーブル2[2学期の留学日数])+SUMIF(テーブル3[番号],'3確認'!$A16,テーブル3[3学期の留学日数])","v":0},{"$f":"SUMIF(テーブル1[番号],'3確認'!$A16,テーブル1[1学期の欠席日数])+SUMIF(テーブル2[番号],'3確認'!$A16,テーブル2[2学期の欠席日数])+SUMIF(テーブル3[番号],'3確認'!$A16,テーブル3[3学期の欠席日数])","v":1},{"$f":"SUMIF(テーブル1[番号],'3確認'!$A16,テーブル1[1学期の遅刻回数])+SUMIF(テーブル2[番号],'3確認'!$A16,テーブル2[2学期の遅刻回数])+SUMIF(テーブル3[番号],'3確認'!$A16,テーブル3[3学期の遅刻回数])","v":0},{"$f":"SUMIF(テーブル1[番号],'3確認'!$A16,テーブル1[1学期の早退回数])+SUMIF(テーブル2[番号],'3確認'!$A16,テーブル2[2学期の早退回数])+SUMIF(テーブル3[番号],'3確認'!$A16,テーブル3[3学期の早退回数])","v":0},{"$f":"SUMIF(テーブル1[1学期の出停忌引],'3確認'!$A16,テーブル1[備考])+SUMIF(テーブル2[2学期の出停忌引],'3確認'!$A16,テーブル2[備考])+SUMIF(テーブル3[3学期の出停忌引],'3確認'!$A16,テーブル3[備考])","v":0},{"$f":"VLOOKUP($A16,テーブル3[],'3学期'!J$1,0)","v":"頭痛1、感染症予防のため6"}]
["※ここでいう「3学期」とは2学期期末が終わった翌日から学年末テスト最終日までのこと"]
[]
[{"$f":"A16+8","v":1125},{"$f":"VLOOKUP($A23,名簿!$A:$C,3,0)","v":0}]
["3学期の\n授業日数","3学期の\n出停・忌引","3学期の\n留学日数","3学期の\n欠席日数","3学期の\n遅刻回数","3学期の\n早退回数","備考"]
[{"$f":"VLOOKUP($A23,テーブル3[],'3学期'!C$1,0)","v":56},{"$f":"VLOOKUP($A23,テーブル3[],'3学期'!D$1,0)","v":0},{"$f":"VLOOKUP($A23,テーブル3[],'3学期'!E$1,0)","v":0},{"$f":"VLOOKUP($A23,テーブル3[],'3学期'!F$1,0)","v":0},{"$f":"VLOOKUP($A23,テーブル3[],'3学期'!G$1,0)","v":0},{"$f":"VLOOKUP($A23,テーブル3[],'3学期'!H$1,0)","v":0},{"$f":"IF(VLOOKUP($A23,テーブル3[],'3学期'!I$1,0)=\"\",\"\",VLOOKUP($A23,テーブル3[],'3学期'!I$1,0))","v":""}]
[null,"4月からの\n出停・忌引","4月からの留学日数","4月からの\n欠席日数","4月からの\n遅刻回数","4月からの\n早退回数","備考","理由"]
[null,{"$f":"SUMIF(テーブル1[番号],'3確認'!$A23,テーブル1[1学期の出停忌引])+SUMIF(テーブル2[番号],'3確認'!$A23,テーブル2[2学期の出停忌引])+SUMIF(テーブル3[番号],'3確認'!$A23,テーブル3[3学期の出停忌引])","v":0},{"$f":"SUMIF(テーブル1[番号],'3確認'!$A23,テーブル1[1学期の留学日数])+SUMIF(テーブル2[番号],'3確認'!$A23,テーブル2[2学期の留学日数])+SUMIF(テーブル3[番号],'3確認'!$A23,テーブル3[3学期の留学日数])","v":0},{"$f":"SUMIF(テーブル1[番号],'3確認'!$A23,テーブル1[1学期の欠席日数])+SUMIF(テーブル2[番号],'3確認'!$A23,テーブル2[2学期の欠席日数])+SUMIF(テーブル3[番号],'3確認'!$A23,テーブル3[3学期の欠席日数])","v":3},{"$f":"SUMIF(テーブル1[番号],'3確認'!$A23,テーブル1[1学期の遅刻回数])+SUMIF(テーブル2[番号],'3確認'!$A23,テーブル2[2学期の遅刻回数])+SUMIF(テーブル3[番号],'3確認'!$A23,テーブル3[3学期の遅刻回数])","v":4},{"$f":"SUMIF(テーブル1[番号],'3確認'!$A23,テーブル1[1学期の早退回数])+SUMIF(テーブル2[番号],'3確認'!$A23,テーブル2[2学期の早退回数])+SUMIF(テーブル3[番号],'3確認'!$A23,テーブル3[3学期の早退回数])","v":0},{"$f":"SUMIF(テーブル1[1学期の出停忌引],'3確認'!$A23,テーブル1[備考])+SUMIF(テーブル2[2学期の出停忌引],'3確認'!$A23,テーブル2[備考])+SUMIF(テーブル3[3学期の出停忌引],'3確認'!$A23,テーブル3[備考])","v":0},{"$f":"VLOOKUP($A23,テーブル3[],'3学期'!J$1,0)","v":"体調不良2、感染症予防のため1"}]
["※ここでいう「3学期」とは2学期期末が終わった翌日から学年末テスト最終日までのこと"]
[]
[{"$f":"A23+8","v":1133},{"$f":"VLOOKUP($A30,名簿!$A:$C,3,0)","v":0}]
["3学期の\n授業日数","3学期の\n出停・忌引","3学期の\n留学日数","3学期の\n欠席日数","3学期の\n遅刻回数","3学期の\n早退回数","備考"]
[{"$f":"VLOOKUP($A30,テーブル3[],'3学期'!C$1,0)","v":56},{"$f":"VLOOKUP($A30,テーブル3[],'3学期'!D$1,0)","v":0},{"$f":"VLOOKUP($A30,テーブル3[],'3学期'!E$1,0)","v":0},{"$f":"VLOOKUP($A30,テーブル3[],'3学期'!F$1,0)","v":0},{"$f":"VLOOKUP($A30,テーブル3[],'3学期'!G$1,0)","v":0},{"$f":"VLOOKUP($A30,テーブル3[],'3学期'!H$1,0)","v":0},{"$f":"IF(VLOOKUP($A30,テーブル3[],'3学期'!I$1,0)=\"\",\"\",VLOOKUP($A30,テーブル3[],'3学期'!I$1,0))","v":""}]
[null,"4月からの\n出停・忌引","4月からの留学日数","4月からの\n欠席日数","4月からの\n遅刻回数","4月からの\n早退回数","備考","理由"]
[null,{"$f":"SUMIF(テーブル1[番号],'3確認'!$A30,テーブル1[1学期の出停忌引])+SUMIF(テーブル2[番号],'3確認'!$A30,テーブル2[2学期の出停忌引])+SUMIF(テーブル3[番号],'3確認'!$A30,テーブル3[3学期の出停忌引])","v":7},{"$f":"SUMIF(テーブル1[番号],'3確認'!$A30,テーブル1[1学期の留学日数])+SUMIF(テーブル2[番号],'3確認'!$A30,テーブル2[2学期の留学日数])+SUMIF(テーブル3[番号],'3確認'!$A30,テーブル3[3学期の留学日数])","v":0},{"$f":"SUMIF(テーブル1[番号],'3確認'!$A30,テーブル1[1学期の欠席日数])+SUMIF(テーブル2[番号],'3確認'!$A30,テーブル2[2学期の欠席日数])+SUMIF(テーブル3[番号],'3確認'!$A30,テーブル3[3学期の欠席日数])","v":0},{"$f":"SUMIF(テーブル1[番号],'3確認'!$A30,テーブル1[1学期の遅刻回数])+SUMIF(テーブル2[番号],'3確認'!$A30,テーブル2[2学期の遅刻回数])+SUMIF(テーブル3[番号],'3確認'!$A30,テーブル3[3学期の遅刻回数])","v":2},{"$f":"SUMIF(テーブル1[番号],'3確認'!$A30,テーブル1[1学期の早退回数])+SUMIF(テーブル2[番号],'3確認'!$A30,テーブル2[2学期の早退回数])+SUMIF(テーブル3[番号],'3確認'!$A30,テーブル3[3学期の早退回数])","v":0},{"$f":"SUMIF(テーブル1[1学期の出停忌引],'3確認'!$A30,テーブル1[備考])+SUMIF(テーブル2[2学期の出停忌引],'3確認'!$A30,テーブル2[備考])+SUMIF(テーブル3[3学期の出停忌引],'3確認'!$A30,テーブル3[備考])","v":0},{"$f":"VLOOKUP($A30,テーブル3[],'3学期'!J$1,0)","v":"感染症予防のため7、祖父葬儀3"}]
["※ここでいう「3学期」とは2学期期末が終わった翌日から学年末テスト最終日までのこと"]

{"sheet":"1学期","index":3,"n_rows":45,"n_cols":46,"rows_kept":45,"cut":false,"hidden":false,"merged":[]}
[1,2,3,4,5,6,7,8,9,10]
["番号","名前","1学期の授業日数","1学期の出停忌引","1学期の留学日数","1学期の欠席日数","1学期の遅刻回数","1学期の早退回数","備考","連絡",null,"感染症予防のため","感染症のため","祖母葬儀","祖父葬儀","入試","体調不良","発熱","風邪","頭痛","腹痛","腰痛","通院","怪我","家事都合","自己都合","遅刻\n早退","欠席合計",null,"感染症予防のため","感染症のため","祖母葬儀","祖父葬儀","入試","体調不良","発熱","風邪","頭痛","腹痛","腰痛","通院","怪我","家事都合","自己都合",null,"、あり"]
[{"$f":"IF(名簿!$A1=\"\",\"\",名簿!$A1)","v":1101},{"$f":"IFERROR(VLOOKUP($A3,名簿!$A:$C,3,0),\"\")","v":"田中太郎"},61,0,0,0,0,0,null,{"$f":"IF(AT3=\"\",IF('1学期'!AA3=\"あり\",\"特記事項なし\",\"皆勤\"),IF(AND('1学期'!AA3=\"\",COUNTBLANK(AI3:AQ3)=COUNTA($AI$2:$AQ$2)),\"皆勤、\"&LEFT(AT3,LEN(AT3)-1),LEFT(AT3,LEN(AT3)-1)))","v":"皆勤"},null,null,null,null,null,null,null,null,null,null,null,null,null,null,null,null,null,null,null,{"$f":"IF(L3=\"\",\"\",L$2&L3&\"、\")","v":""},{"$f":"IF(M3=\"\",\"\",M$2&M3&\"、\")","v":""},"","","","","","","","","","","","","",null,{"$f":"CONCATENATE(AI3,AJ3,AK3,AL3,AM3,AN3,AO3,AP3,AQ3,AR3,AD3,AE3,AF3,AG3,AH3)","v":""}]
[{"$f":"IF(名簿!$A2=\"\",\"\",名簿!$A2)","v":1102},{"$f":"IFERROR(VLOOKUP($A4,名簿!$A:$C,3,0),\"\")","v":"小林治郎"},61,0,0,0,0,0,null,{"$f":"IF(AT4=\"\",IF('1学期'!AA4=\"あり\",\"特記事項なし\",\"皆勤\"),IF(AND('1学期'!AA4=\"\",COUNTBLANK(AI4:AQ4)=COUNTA($AI$2:$AQ$2)),\"皆勤、\"&LEFT(AT4,LEN(AT4)-1),LEFT(AT4,LEN(AT4)-1)))","v":"皆勤"},null,null,null,null,null,null,null,null,null,null,null,null,null,null,null,null,null,null,null,{"$f":"IF(L4=\"\",\"\",L$2&L4&\"、\")","v":""},{"$f":"IF(M4=\"\",\"\",M$2&M4&\"、\")","v":""},{"$f":"IF(N4=\"\",\"\",N$2&N4&\"、\")","v":""},{"$f":"IF(O4=\"\",\"\",O$2&O4&\"、\")","v":""},{"$f":"IF(P4=\"\",\"\",P$2&P4&\"、\")","v":""},{"$f":"IF(Q4=\"\",\"\",Q$2&Q4&\"、\")","v":""},{"$f":"IF(R4=\"\",\"\",R$2&R4&\"、\")","v":""},{"$f":"IF(S4=\"\",\"\",S$2&S4&\"、\")","v":""},{"$f":"IF(T4=\"\",\"\",T$2&T4&\"、\")","v":""},{"$f":"IF(U4=\"\",\"\",U$2&U4&\"、\")","v":""},{"$f":"IF(V4=\"\",\"\",V$2&V4&\"、\")","v":""},{"$f":"IF(W4=\"\",\"\",W$2&W4&\"、\")","v":""},{"$f":"IF(X4=\"\",\"\",X$2&X4&\"、\")","v":""},{"$f":"IF(Y4=\"\",\"\",Y$2&Y4&\"、\")","v":""},{"$f":"IF(Z4=\"\",\"\",Z$2&Z4&\"、\")","v":""},null,{"$f":"CONCATENATE(AI4,AJ4,AK4,AL4,AM4,AN4,AO4,AP4,AQ4,AR4,AD4,AE4,AF4,AG4,AH4)","v":""}]
[{"$f":"IF(名簿!$A3=\"\",\"\",名簿!$A3)","v":1103},{"$f":"IFERROR(VLOOKUP($A5,名簿!$A:$C,3,0),\"\")","v":"佐藤三郎"},61,0,0,0,0,0,null,{"$f":"IF(AT5=\"\",IF('1学期'!AA5=\"あり\",\"特記事項なし\",\"皆勤\"),IF(AND('1学期'!AA5=\"\",COUNTBLANK(AI5:AQ5)=COUNTA($AI$2:$AQ$2)),\"皆勤、\"&LEFT(AT5,LEN(AT5)-1),LEFT(AT5,LEN(AT5)-1)))","v":"皆勤"},null,null,null,null,null,null,null,null,null,null,null,null,null,null,null,null,null,null,null,"","","","","","","","","","","","","","","",null,""]
[{"$f":"IF(名簿!$A4=\"\",\"\",名簿!$A4)","v":1104},{"$f":"IFERROR(VLOOKUP($A6,名簿!$A:$C,3,0),\"\")","v":"山田花子"},61,0,0,11,0,0,null,{"$f":"IF(AT6=\"\",IF('1学期'!AA6=\"あり\",\"特記事項なし\",\"皆勤\"),IF(AND('1学期'!AA6=\"\",COUNTBLANK(AI6:AQ6)=COUNTA($AI$2:$AQ$2)),\"皆勤、\"&LEFT(AT6,LEN(AT6)-1),LEFT(AT6,LEN(AT6)-1)))","v":"体調不良8、頭痛3"},null,null,null,null,null,null,8,null,null,3,null,null,null,null,null,null,null,null,null,"","","","","","体調不良8、","","","頭痛3、","","","","","","",null,"体調不良8、頭痛3、"]
[{"$f":"IF(名簿!$A5=\"\",\"\",名簿!$A5)","v":1105},{"$f":"IFERROR(VLOOKUP($A7,名簿!$A:$C,3,0),\"\")","v":"山本とし子"},61,0,0,1,1,0,null,{"$f":"IF(AT7=\"\",IF('1学期'!AA7=\"あり\",\"特記事項なし\",\"皆勤\"),IF(AND('1学期'!AA7=\"\",COUNTBLANK(AI7:AQ7)=COUNTA($AI$2:$AQ$2)),\"皆勤、\"&LEFT(AT7,LEN(AT7)-1),LEFT(AT7,LEN(AT7)-1)))","v":"体調不良1"},null,null,null,null,null,null,1,null,null,null,null,null,null,null,null,null,"あり",null,null,"","","","","","体調不良1、","","","","","","","","","",null,"体調不良1、"]
[{"$f":"IF(名簿!$A6=\"\",\"\",名簿!$A6)","v":1106},{"$f":"IFERROR(VLOOKUP($A8,名簿!$A:$C,3,0),\"\")","v":0},61,0,0,2,3,0,null,{"$f":"IF(AT8=\"\",IF('1学期'!AA8=\"あり\",\"特記事項なし\",\"皆勤\"),IF(AND('1学期'!AA8=\"\",COUNTBLANK(AI8:AQ8)=COUNTA($AI$2:$AQ$2)),\"皆勤、\"&LEFT(AT8,LEN(AT8)-1),LEFT(AT8,LEN(AT8)-1)))","v":"体調不良1、腹痛1"},null,null,null,null,null,null,1,null,null,null,1,null,null,null,null,null,"あり",null,null,"","","","","","体調不良1、","","","","腹痛1、","","","","","",null,"体調不良1、腹痛1、"]
[{"$f":"IF(名簿!$A7=\"\",\"\",名簿!$A7)","v":1107},{"$f":"IFERROR(VLOOKUP($A9,名簿!$A:$C,3,0),\"\")","v":0},61,0,0,0,0,0,null,{"$f":"IF(AT9=\"\",IF('1学期'!AA9=\"あり\",\"特記事項なし\",\"皆勤\"),IF(AND('1学期'!AA9=\"\",COUNTBLANK(AI9:AQ9)=COUNTA($AI$2:$AQ$2)),\"皆勤、\"&LEFT(AT9,LEN(AT9)-1),LEFT(AT9,LEN(AT9)-1)))","v":"皆勤"},null,null,null,null,null,null,null,null,null,null,null,null,null,null,null,null,null,null,null,"","","","","","","","","","","","","","","",null,""]
[{"$f":"IF(名簿!$A8=\"\",\"\",名簿!$A8)","v":1108},{"$f":"IFERROR(VLOOKUP($A10,名簿!$A:$C,3,0),\"\")","v":0},61,1,0,16,0,2,null,{"$f":"IF(AT10=\"\",IF('1学期'!AA10=\"あり\",\"特記事項なし\",\"皆勤\"),IF(AND('1学期'!AA10=\"\",COUNTBLANK(AI10:AQ10)=COUNTA($AI$2:$AQ$2)),\"皆勤、\"&LEFT(AT10,LEN(AT10)-1),LEFT(AT10,LEN(AT10)-1)))","v":"体調不良12、発熱4、感染症予防のため1"},null,1,null,null,null,null,12,4,null,null,null,null,null,null,null,null,"あり",null,null,"感染症予防のため1、","","","","","体調不良12、","発熱4、","","","","","","","","",null,"体調不良12、発熱4、感染症予防のため1、"]
[{"$f":"IF(名簿!$A9=\"\",\"\",名簿!$A9)","v":1109},{"$f":"IFERROR(VLOOKUP($A11,名簿!$A:$C,3,0),\"\")","v":0},61,0,0,6,0,0,null,{"$f":"IF(AT11=\"\",IF('1学期'!AA11=\"あり\",\"特記事項なし\",\"皆勤\"),IF(AND('1学期'!AA11=\"\",COUNTBLANK(AI11:AQ11)=COUNTA($AI$2:$AQ$2)),\"皆勤、\"&LEFT(AT11,LEN(AT11)-1),LEFT(AT11,LEN(AT11)-1)))","v":"体調不良5、発熱1"},null,null,null,null,null,null,5,1,null,null,null,null,null,null,null,null,null,null,null,"","","","","","体調不良5、","発熱1、","","","","","","","","",null,"体調不良5、発熱1、"]
[{"$f":"IF(名簿!$A10=\"\",\"\",名簿!$A10)","v":1110},{"$f":"IFERROR(VLOOKUP($A12,名簿!$A:$C,3,0),\"\")","v":0},61,1,0,0,0,0,null,{"$f":"IF(AT12=\"\",IF('1学期'!AA12=\"あり\",\"特記事項なし\",\"皆勤\"),IF(AND('1学期'!AA12=\"\",COUNTBLANK(AI12:AQ12)=COUNTA($AI$2:$AQ$2)),\"皆勤、\"&LEFT(AT12,LEN(AT12)-1),LEFT(AT12,LEN(AT12)-1)))","v":"皆勤、感染症予防のため1"},null,1,null,null,null,null,null,null,null,null,null,null,null,null,null,null,null,null,null,"感染症予防のため1、","","","","","","","","","","","","","","",null,"感染症予防のため1、"]
[{"$f":"IF(名簿!$A11=\"\",\"\",名簿!$A11)","v":1111},{"$f":"IFERROR(VLOOKUP($A13,名簿!$A:$C,3,0),\"\")","v":0},61,0,0,0,3,0,null,{"$f":"IF(AT13=\"\",IF('1学期'!AA13=\"あり\",\"特記事項なし\",\"皆勤\"),IF(AND('1学期'!AA13=\"\",COUNTBLANK(AI13:AQ13)=COUNTA($AI$2:$AQ$2)),\"皆勤、\"&LEFT(AT13,LEN(AT13)-1),LEFT(AT13,LEN(AT13)-1)))","v":"特記事項なし"},null,null,null,null,null,null,null,null,null,null,null,null,null,null,null,null,"あり",null,null,"","","","","","","","","","","","","","","",null,""]
[{"$f":"IF(名簿!$A12=\"\",\"\",名簿!$A12)","v":1112},{"$f":"IFERROR(VLOOKUP($A14,名簿!$A:$C,3,0),\"\")","v":0},61,0,0,0,0,0,null,{"$f":"IF(AT14=\"\",IF('1学期'!AA14=\"あり\",\"特記事項なし\",\"皆勤\"),IF(AND('1学期'!AA14=\"\",COUNTBLANK(AI14:AQ14)=COUNTA($AI$2:$AQ$2)),\"皆勤、\"&LEFT(AT14,LEN(AT14)-1),LEFT(AT14,LEN(AT14)-1)))","v":"皆勤"},null,null,null,null,null,null,null,null,null,null,null,null,null,null,null,null,null,null,null,"","","","","","","","","","","","","","","",null,""]
[{"$f":"IF(名簿!$A13=\"\",\"\",名簿!$A13)","v":1113},{"$f":"IFERROR(VLOOKUP($A15,名簿!$A:$C,3,0),\"\")","v":0},61,0,0,0,0,0,null,{"$f":"IF(AT15=\"\",IF('1学期'!AA15=\"あり\",\"特記事項なし\",\"皆勤\"),IF(AND('1学期'!AA15=\"\",COUNTBLANK(AI15:AQ15)=COUNTA($AI$2:$AQ$2)),\"皆勤、\"&LEFT(AT15,LEN(AT15)-1),LEFT(AT15,LEN(AT15)-1)))","v":"皆勤"},null,null,null,null,null,null,null,null,null,null,null,null,null,null,null,null,null,null,null,"","","","","","","","","","","","","","","",null,""]
[{"$f":"IF(名簿!$A14=\"\",\"\",名簿!$A14)","v":1114},{"$f":"IFERROR(VLOOKUP($A16,名簿!$A:$C,3,0),\"\")","v":0},61,0,0,1,0,0,null,{"$f":"IF(AT16=\"\",IF('1学期'!AA16=\"あり\",\"特記事項なし\",\"皆勤\"),IF(AND('1学期'!AA16=\"\",COUNTBLANK(AI16:AQ16)=COUNTA($AI$2:$AQ$2)),\"皆勤、\"&LEFT(AT16,LEN(AT16)-1),LEFT(AT16,LEN(AT16)-1)))","v":"体調不良1"},null,null,null,null,null,null,1,null,null,null,null,null,null,null,null,null,null,null,null,"","","","","","体調不良1、","","","","","","","","","",null,"体調不良1、"]
[{"$f":"IF(名簿!$A15=\"\",\"\",名簿!$A15)","v":1115},{"$f":"IFERROR(VLOOKUP($A17,名簿!$A:$C,3,0),\"\")","v":0},61,0,0,0,0,0,null,{"$f":"IF(AT17=\"\",IF('1学期'!AA17=\"あり\",\"特記事項なし\",\"皆勤\"),IF(AND('1学期'!AA17=\"\",COUNTBLANK(AI17:AQ17)=COUNTA($AI$2:$AQ$2)),\"皆勤、\"&LEFT(AT17,LEN(AT17)-1),LEFT(AT17,LEN(AT17)-1)))","v":"皆勤"},null,null,null,null,null,null,null,null,null,null,null,null,null,null,null,null,null,null,null,"","","","","","","","","","","","","","","",null,""]
[{"$f":"IF(名簿!$A16=\"\",\"\",名簿!$A16)","v":1116},{"$f":"IFERROR(VLOOKUP($A18,名簿!$A:$C,3,0),\"\")","v":0},61,0,0,0,0,0,null,{"$f":"IF(AT18=\"\",IF('1学期'!AA18=\"あり\",\"特記事項なし\",\"皆勤\"),IF(AND('1学期'!AA18=\"\",COUNTBLANK(AI18:AQ18)=COUNTA($AI$2:$AQ$2)),\"皆勤、\"&LEFT(AT18,LEN(AT18)-1),LEFT(AT18,LEN(AT18)-1)))","v":"皆勤"},null,null,null,null,null,null,null,null,null,null,null,null,null,null,null,null,null,null,null,"","","","","","","","","","","","","","","",null,""]
[{"$f":"IF(名簿!$A17=\"\",\"\",名簿!$A17)","v":1117},{"$f":"IFERROR(VLOOKUP($A19,名簿!$A:$C,3,0),\"\")","v":0},61,0,0,1,0,0,null,{"$f":"IF(AT19=\"\",IF('1学期'!AA19=\"あり\",\"特記事項なし\",\"皆勤\"),IF(AND('1学期'!AA19=\"\",COUNTBLANK(AI19:AQ19)=COUNTA($AI$2:$AQ$2)),\"皆勤、\"&LEFT(AT19,LEN(AT19)-1),LEFT(AT19,LEN(AT19)-1)))","v":"頭痛1"},null,null,null,null,null,null,null,null,null,1,null,null,null,null,null,null,null,null,null,"","","","","","","","","頭痛1、","","","","","","",null,"頭痛1、"]
[{"$f":"IF(名簿!$A18=\"\",\"\",名簿!$A18)","v":1118},{"$f":"IFERROR(VLOOKUP($A20,名簿!$A:$C,3,0),\"\")","v":0},61,0,0,0,0,0,null,{"$f":"IF(AT20=\"\",IF('1学期'!AA20=\"あり\",\"特記事項なし\",\"皆勤\"),IF(AND('1学期'!AA20=\"\",COUNTBLANK(AI20:AQ20)=COUNTA($AI$2:$AQ$2)),\"皆勤、\"&LEFT(AT20,LEN(AT20)-1),LEFT(AT20,LEN(AT20)-1)))","v":"皆勤"},null,null,null,null,null,null,null,null,null,null,null,null,null,null,null,null,null,null,null,"","","","","","","","","","","","","","","",null,""]
[{"$f":"IF(名簿!$A19=\"\",\"\",名簿!$A19)","v":1119},{"$f":"IFERROR(VLOOKUP($A21,名簿!$A:$C,3,0),\"\")","v":0},61,0,0,0,0,0,null,{"$f":"IF(AT21=\"\",IF('1学期'!AA21=\"あり\",\"特記事項なし\",\"皆勤\"),IF(AND('1学期'!AA21=\"\",COUNTBLANK(AI21:AQ21)=COUNTA($AI$2:$AQ$2)),\"皆勤、\"&LEFT(AT21,LEN(AT21)-1),LEFT(AT21,LEN(AT21)-1)))","v":"皆勤"},null,null,null,null,null,null,null,null,null,null,null,null,null,null,null,null,null,null,null,"","","","","","","","","","","","","","","",null,""]
[{"$f":"IF(名簿!$A20=\"\",\"\",名簿!$A20)","v":1120},{"$f":"IFERROR(VLOOKUP($A22,名簿!$A:$C,3,0),\"\")","v":0},61,0,0,22,4,1,null,{"$f":"IF(AT22=\"\",IF('1学期'!AA22=\"あり\",\"特記事項なし\",\"皆勤\"),IF(AND('1学期'!AA22=\"\",COUNTBLANK(AI22:AQ22)=COUNTA($AI$2:$AQ$2)),\"皆勤、\"&LEFT(AT22,LEN(AT22)-1),LEFT(AT22,LEN(AT22)-1)))","v":"体調不良14、発熱4、頭痛2、腹痛2"},null,null,null,null,null,null,14,4,null,2,2,null,null,null,null,null,"あり",null,null,"","","","","","体調不良14、","発熱4、","","頭痛2、","腹痛2、","","","","","",null,"体調不良14、発熱4、頭痛2、腹痛2、"]
[{"$f":"IF(名簿!$A21=\"\",\"\",名簿!$A21)","v":1121},{"$f":"IFERROR(VLOOKUP($A23,名簿!$A:$C,3,0),\"\")","v":0},61,0,0,2,0,0,null,{"$f":"IF(AT23=\"\",IF('1学期'!AA23=\"あり\",\"特記事項なし\",\"皆勤\"),IF(AND('1学期'!AA23=\"\",COUNTBLANK(AI23:AQ23)=COUNTA($AI$2:$AQ$2)),\"皆勤、\"&LEFT(AT23,LEN(AT23)-1),LEFT(AT23,LEN(AT23)-1)))","v":"体調不良1、腹痛1"},null,null,null,null,null,null,1,null,null,null,1,null,null,null,null,null,null,null,null,"","","","","","体調不良1、","","","","腹痛1、","","","","","",null,"体調不良1、腹痛1、"]
[{"$f":"IF(名簿!$A22=\"\",\"\",名簿!$A22)","v":1122},{"$f":"IFERROR(VLOOKUP($A24,名簿!$A:$C,3,0),\"\")","v":0},61,2,0,3,6,1,null,{"$f":"IF(AT24=\"\",IF('1学期'!AA24=\"あり\",\"特記事項なし\",\"皆勤\"),IF(AND('1学期'!AA24=\"\",COUNTBLANK(AI24:AQ24)=COUNTA($AI$2:$AQ$2)),\"皆勤、\"&LEFT(AT24,LEN(AT24)-1),LEFT(AT24,LEN(AT24)-1)))","v":"体調不良2、発熱1、感染症予防のため2"},null,2,null,null,null,null,2,1,null,null,null,null,null,null,null,null,"あり",null,null,"感染症予防のため2、","","","","","体調不良2、","発熱1、","","","","","","","","",null,"体調不良2、発熱1、感染症予防のため2、"]
[{"$f":"IF(名簿!$A23=\"\",\"\",名簿!$A23)","v":1123},{"$f":"IFERROR(VLOOKUP($A25,名簿!$A:$C,3,0),\"\")","v":0},61,0,0,0,0,0,null,{"$f":"IF(AT25=\"\",IF('1学期'!AA25=\"あり\",\"特記事項なし\",\"皆勤\"),IF(AND('1学期'!AA25=\"\",COUNTBLANK(AI25:AQ25)=COUNTA($AI$2:$AQ$2)),\"皆勤、\"&LEFT(AT25,LEN(AT25)-1),LEFT(AT25,LEN(AT25)-1)))","v":"皆勤"},null,null,null,null,null,null,null,null,null,null,null,null,null,null,null,null,null,null,null,"","","","","","","","","","","","","","","",null,""]
[{"$f":"IF(名簿!$A24=\"\",\"\",名簿!$A24)","v":1124},{"$f":"IFERROR(VLOOKUP($A26,名簿!$A:$C,3,0),\"\")","v":0},61,0,0,0,0,0,null,{"$f":"IF(AT26=\"\",IF('1学期'!AA26=\"あり\",\"特記事項なし\",\"皆勤\"),IF(AND('1学期'!AA26=\"\",COUNTBLANK(AI26:AQ26)=COUNTA($AI$2:$AQ$2)),\"皆勤、\"&LEFT(AT26,LEN(AT26)-1),LEFT(AT26,LEN(AT26)-1)))","v":"皆勤"},null,null,null,null,null,null,null,null,null,null,null,null,null,null,null,null,null,null,null,"","","","","","","","","","","","","","","",null,""]
[{"$f":"IF(名簿!$A25=\"\",\"\",名簿!$A25)","v":1125},{"$f":"IFERROR(VLOOKUP($A27,名簿!$A:$C,3,0),\"\")","v":0},61,0,0,1,1,0,null,{"$f":"IF(AT27=\"\",IF('1学期'!AA27=\"あり\",\"特記事項なし\",\"皆勤\"),IF(AND('1学期'!AA27=\"\",COUNTBLANK(AI27:AQ27)=COUNTA($AI$2:$AQ$2)),\"皆勤、\"&LEFT(AT27,LEN(AT27)-1),LEFT(AT27,LEN(AT27)-1)))","v":"体調不良1"},null,null,null,null,null,null,1,null,null,null,null,null,null,null,null,null,"あり",null,null,"","","","","","体調不良1、","","","","","","","","","",null,"体調不良1、"]
[{"$f":"IF(名簿!$A26=\"\",\"\",名簿!$A26)","v":1126},{"$f":"IFERROR(VLOOKUP($A28,名簿!$A:$C,3,0),\"\")","v":0},61,0,0,32,7,0,null,{"$f":"IF(AT28=\"\",IF('1学期'!AA28=\"あり\",\"特記事項なし\",\"皆勤\"),IF(AND('1学期'!AA28=\"\",COUNTBLANK(AI28:AQ28)=COUNTA($AI$2:$AQ$2)),\"皆勤、\"&LEFT(AT28,LEN(AT28)-1),LEFT(AT28,LEN(AT28)-1)))","v":"体調不良32"},null,null,null,null,null,null,32,null,null,null,null,null,null,null,null,null,"あり",null,null,"","","","","","体調不良32、","","","","","","","","","",null,"体調不良32、"]
[{"$f":"IF(名簿!$A27=\"\",\"\",名簿!$A27)","v":1127},{"$f":"IFERROR(VLOOKUP($A29,名簿!$A:$C,3,0),\"\")","v":0},61,0,0,8,4,0,null,{"$f":"IF(AT29=\"\",IF('1学期'!AA29=\"あり\",\"特記事項なし\",\"皆勤\"),IF(AND('1学期'!AA29=\"\",COUNTBLANK(AI29:AQ29)=COUNTA($AI$2:$AQ$2)),\"皆勤、\"&LEFT(AT29,LEN(AT29)-1),LEFT(AT29,LEN(AT29)-1)))","v":"体調不良7、発熱1"},null,null,null,null,null,null,7,1,null,null,null,null,null,null,null,null,"あり",null,null,"","","","","","体調不良7、","発熱1、","","","","","","","","",null,"体調不良7、発熱1、"]
[{"$f":"IF(名簿!$A28=\"\",\"\",名簿!$A28)","v":1128},{"$f":"IFERROR(VLOOKUP($A30,名簿!$A:$C,3,0),\"\")","v":0},61,0,0,2,0,0,null,{"$f":"IF(AT30=\"\",IF('1学期'!AA30=\"あり\",\"特記事項なし\",\"皆勤\"),IF(AND('1学期'!AA30=\"\",COUNTBLANK(AI30:AQ30)=COUNTA($AI$2:$AQ$2)),\"皆勤、\"&LEFT(AT30,LEN(AT30)-1),LEFT(AT30,LEN(AT30)-1)))","v":"頭痛2"},null,null,null,null,null,null,null,null,null,2,null,null,null,null,null,null,null,null,null,"","","","","","","","","頭痛2、","","","","","","",null,"頭痛2、"]
[{"$f":"IF(名簿!$A29=\"\",\"\",名簿!$A29)","v":1129},{"$f":"IFERROR(VLOOKUP($A31,名簿!$A:$C,3,0),\"\")","v":0},61,0,0,0,0,0,null,{"$f":"IF(AT31=\"\",IF('1学期'!AA31=\"あり\",\"特記事項なし\",\"皆勤\"),IF(AND('1学期'!AA31=\"\",COUNTBLANK(AI31:AQ31)=COUNTA($AI$2:$AQ$2)),\"皆勤、\"&LEFT(AT31,LEN(AT31)-1),LEFT(AT31,LEN(AT31)-1)))","v":"皆勤"},null,null,null,null,null,null,null,null,null,null,null,null,null,null,null,null,null,null,null,"","","","","","","","","","","","","","","",null,""]
[{"$f":"IF(名簿!$A30=\"\",\"\",名簿!$A30)","v":1130},{"$f":"IFERROR(VLOOKUP($A32,名簿!$A:$C,3,0),\"\")","v":0},61,0,0,0,0,0,null,{"$f":"IF(AT32=\"\",IF('1学期'!AA32=\"あり\",\"特記事項なし\",\"皆勤\"),IF(AND('1学期'!AA32=\"\",COUNTBLANK(AI32:AQ32)=COUNTA($AI$2:$AQ$2)),\"皆勤、\"&LEFT(AT32,LEN(AT32)-1),LEFT(AT32,LEN(AT32)-1)))","v":"皆勤"},null,null,null,null,null,null,null,null,null,null,null,null,null,null,null,null,null,null,null,"","","","","","","","","","","","","","","",null,""]
[{"$f":"IF(名簿!$A31=\"\",\"\",名簿!$A31)","v":1131},{"$f":"IFERROR(VLOOKUP($A33,名簿!$A:$C,3,0),\"\")","v":0},61,2,0,0,0,0,null,{"$f":"IF(AT33=\"\",IF('1学期'!AA33=\"あり\",\"特記事項なし\",\"皆勤\"),IF(AND('1学期'!AA33=\"\",COUNTBLANK(AI33:AQ33)=COUNTA($AI$2:$AQ$2)),\"皆勤、\"&LEFT(AT33,LEN(AT33)-1),LEFT(AT33,LEN(AT33)-1)))","v":"皆勤、感染症予防のため2"},null,2,null,null,null,null,null,null,null,null,null,null,null,null,null,null,null,null,null,"感染症予防のため2、","","","","","","","","","","","","","","",null,"感染症予防のため2、"]
[{"$f":"IF(名簿!$A32=\"\",\"\",名簿!$A32)","v":1132},{"$f":"IFERROR(VLOOKUP($A34,名簿!$A:$C,3,0),\"\")","v":0},61,0,0,0,0,0,null,{"$f":"IF(AT34=\"\",IF('1学期'!AA34=\"あり\",\"特記事項なし\",\"皆勤\"),IF(AND('1学期'!AA34=\"\",COUNTBLANK(AI34:AQ34)=COUNTA($AI$2:$AQ$2)),\"皆勤、\"&LEFT(AT34,LEN(AT34)-1),LEFT(AT34,LEN(AT34)-1)))","v":"皆勤"},null,null,null,null,null,null,null,null,null,null,null,null,null,null,null,null,null,null,null,"","","","","","","","","","","","","","","",null,""]
[{"$f":"IF(名簿!$A33=\"\",\"\",名簿!$A33)","v":1133},{"$f":"IFERROR(VLOOKUP($A35,名簿!$A:$C,3,0),\"\")","v":0},61,7,0,0,1,0,null,{"$f":"IF(AT35=\"\",IF('1学期'!AA35=\"あり\",\"特記事項なし\",\"皆勤\"),IF(AND('1学期'!AA35=\"\",COUNTBLANK(AI35:AQ35)=COUNTA($AI$2:$AQ$2)),\"皆勤、\"&LEFT(AT35,LEN(AT35)-1),LEFT(AT35,LEN(AT35)-1)))","v":"感染症予防のため7"},null,7,null,null,null,null,null,null,null,null,null,null,null,null,null,null,"あり",null,null,"感染症予防のため7、","","","","","","","","","","","","","","",null,"感染症予防のため7、"]
[{"$f":"IF(名簿!$A34=\"\",\"\",名簿!$A34)","v":1134},{"$f":"IFERROR(VLOOKUP($A36,名簿!$A:$C,3,0),\"\")","v":0},61,0,0,0,0,0,null,{"$f":"IF(AT36=\"\",IF('1学期'!AA36=\"あり\",\"特記事項なし\",\"皆勤\"),IF(AND('1学期'!AA36=\"\",COUNTBLANK(AI36:AQ36)=COUNTA($AI$2:$AQ$2)),\"皆勤、\"&LEFT(AT36,LEN(AT36)-1),LEFT(AT36,LEN(AT36)-1)))","v":"皆勤"},null,null,null,null,null,null,null,null,null,null,null,null,null,null,null,null,null,null,null,"","","","","","","","","","","","","","","",null,""]
[{"$f":"IF(名簿!$A35=\"\",\"\",名簿!$A35)","v":1135},{"$f":"IFERROR(VLOOKUP($A37,名簿!$A:$C,3,0),\"\")","v":0},61,0,0,1,1,0,null,{"$f":"IF(AT37=\"\",IF('1学期'!AA37=\"あり\",\"特記事項なし\",\"皆勤\"),IF(AND('1学期'!AA37=\"\",COUNTBLANK(AI37:AQ37)=COUNTA($AI$2:$AQ$2)),\"皆勤、\"&LEFT(AT37,LEN(AT37)-1),LEFT(AT37,LEN(AT37)-1)))","v":"体調不良1"},null,null,null,null,null,null,1,null,null,null,null,null,null,null,null,null,"あり",null,null,"","","","","","体調不良1、","","","","","","","","","",null,"体調不良1、"]
[{"$f":"IF(名簿!$A36=\"\",\"\",名簿!$A36)","v":1136},{"$f":"IFERROR(VLOOKUP($A38,名簿!$A:$C,3,0),\"\")","v":0},null,0,0,0,0,0,null,{"$f":"IF(AT38=\"\",IF('1学期'!AA38=\"あり\",\"特記事項なし\",\"皆勤\"),IF(AND('1学期'!AA38=\"\",COUNTBLANK(AI38:AQ38)=COUNTA($AI$2:$AQ$2)),\"皆勤、\"&LEFT(AT38,LEN(AT38)-1),LEFT(AT38,LEN(AT38)-1)))","v":"皆勤"},null,null,null,null,null,null,null,null,null,null,null,null,null,null,null,null,null,null,null,"","","","","","","","","","","","","","","",null,""]
[{"$f":"IF(名簿!$A37=\"\",\"\",名簿!$A37)","v":1137},{"$f":"IFERROR(VLOOKUP($A39,名簿!$A:$C,3,0),\"\")","v":0},null,0,0,0,0,0,null,{"$f":"IF(AT39=\"\",IF('1学期'!AA39=\"あり\",\"特記事項なし\",\"皆勤\"),IF(AND('1学期'!AA39=\"\",COUNTBLANK(AI39:AQ39)=COUNTA($AI$2:$AQ$2)),\"皆勤、\"&LEFT(AT39,LEN(AT39)-1),LEFT(AT39,LEN(AT39)-1)))","v":"皆勤"},null,null,null,null,null,null,null,null,null,null,null,null,null,null,null,null,null,null,null,"","","","","","","","","","","","","","","",null,""]
[{"$f":"IF(名簿!$A38=\"\",\"\",名簿!$A38)","v":1138},{"$f":"IFERROR(VLOOKUP($A40,名簿!$A:$C,3,0),\"\")","v":0},null,0,0,0,0,0,null,{"$f":"IF(AT40=\"\",IF('1学期'!AA40=\"あり\",\"特記事項なし\",\"皆勤\"),IF(AND('1学期'!AA40=\"\",COUNTBLANK(AI40:AQ40)=COUNTA($AI$2:$AQ$2)),\"皆勤、\"&LEFT(AT40,LEN(AT40)-1),LEFT(AT40,LEN(AT40)-1)))","v":"皆勤"},null,null,null,null,null,null,null,null,null,null,null,null,null,null,null,null,null,null,null,"","","","","","","","","","","","","","","",null,""]
[{"$f":"IF(名簿!$A39=\"\",\"\",名簿!$A39)","v":1139},{"$f":"IFERROR(VLOOKUP($A41,名簿!$A:$C,3,0),\"\")","v":0},null,0,0,0,0,0,null,{"$f":"IF(AT41=\"\",IF('1学期'!AA41=\"あり\",\"特記事項なし\",\"皆勤\"),IF(AND('1学期'!AA41=\"\",COUNTBLANK(AI41:AQ41)=COUNTA($AI$2:$AQ$2)),\"皆勤、\"&LEFT(AT41,LEN(AT41)-1),LEFT(AT41,LEN(AT41)-1)))","v":"皆勤"},null,null,null,null,null,null,null,null,null,null,null,null,null,null,null,null,null,null,null,"","","","","","","","","","","","","","","",null,""]
[{"$f":"IF(名簿!$A40=\"\",\"\",名簿!$A40)","v":1140},{"$f":"IFERROR(VLOOKUP($A42,名簿!$A:$C,3,0),\"\")","v":0},null,0,0,0,0,0,null,{"$f":"IF(AT42=\"\",IF('1学期'!AA42=\"あり\",\"特記事項なし\",\"皆勤\"),IF(AND('1学期'!AA42=\"\",COUNTBLANK(AI42:AQ42)=COUNTA($AI$2:$AQ$2)),\"皆勤、\"&LEFT(AT42,LEN(AT42)-1),LEFT(AT42,LEN(AT42)-1)))","v":"皆勤"},null,null,null,null,null,null,null,null,null,null,null,null,null,null,null,null,null,null,null,"","","","","","","","","","","","","","","",null,""]
[]
[]
[null,null,null,null,null,null,null,null,null,null,null,null,null,null,null,null,null,null,null,null,null,null,null,null,null,null,null,"あり"]

{"sheet":"2学期","index":4,"n_rows":45,"n_cols":46,"rows_kept":45,"cut":false,"hidden":false,"merged":[]}
[null,2,3,4,5,6,7,8,9,10]
["番号","名前","2学期の授業日数","2学期の出停忌引","2学期の留学日数","2学期の欠席日数","2学期の遅刻回数","2学期の早退回数","備考","連絡",null,"感染症予防のため","感染症のため","祖母葬儀","祖父葬儀","入試","体調不良","発熱","風邪","頭痛","腹痛","腰痛","通院","怪我","家事都合","自己都合","遅刻\n早退","欠席合計",null,"感染症予防のため","感染症のため","祖母葬儀","祖父葬儀","入試","体調不良","発熱","風邪","頭痛","腹痛","腰痛","通院","怪我","家事都合","自己都合",null,"、あり"]
[{"$f":"IF(名簿!$A1=\"\",\"\",名簿!$A1)","v":1101},{"$f":"IFERROR(VLOOKUP($A3,名簿!$A:$C,3,0),\"\")","v":"田中太郎"},72,0,0,0,0,0,null,{"$f":"IF(AT3=\"\",IF(OR('1学期'!AA3=\"あり\",'2学期'!AA3=\"あり\"),\"特記事項なし\",\"皆勤\"),IF(AND('1学期'!AA3=\"\",'2学期'!AA3=\"\",COUNTBLANK(AI3:AQ3)=COUNTA($AI$2:$AQ$2)),\"皆勤、\"&LEFT(AT3,LEN(AT3)-1),LEFT(AT3,LEN(AT3)-1)))","v":"皆勤"},null,null,null,null,null,null,null,null,null,null,null,null,null,null,null,null,null,null,null,{"$f":"IF(AND(L3=\"\",'1学期'!L3=\"\"),\"\",L$2&L3+'1学期'!L3&\"、\")","v":""},{"$f":"IF(AND(M3=\"\",'1学期'!M3=\"\"),\"\",M$2&M3+'1学期'!M3&\"、\")","v":""},{"$f":"IF(AND(N3=\"\",'1学期'!N3=\"\"),\"\",N$2&N3+'1学期'!N3&\"、\")","v":""},{"$f":"IF(AND(O3=\"\",'1学期'!O3=\"\"),\"\",O$2&O3+'1学期'!O3&\"、\")","v":""},{"$f":"IF(AND(P3=\"\",'1学期'!P3=\"\"),\"\",P$2&P3+'1学期'!P3&\"、\")","v":""},{"$f":"IF(AND(Q3=\"\",'1学期'!Q3=\"\"),\"\",Q$2&Q3+'1学期'!Q3&\"、\")","v":""},{"$f":"IF(AND(R3=\"\",'1学期'!R3=\"\"),\"\",R$2&R3+'1学期'!R3&\"、\")","v":""},{"$f":"IF(AND(S3=\"\",'1学期'!S3=\"\"),\"\",S$2&S3+'1学期'!S3&\"、\")","v":""},{"$f":"IF(AND(T3=\"\",'1学期'!T3=\"\"),\"\",T$2&T3+'1学期'!T3&\"、\")","v":""},{"$f":"IF(AND(U3=\"\",'1学期'!U3=\"\"),\"\",U$2&U3+'1学期'!U3&\"、\")","v":""},{"$f":"IF(AND(V3=\"\",'1学期'!V3=\"\"),\"\",V$2&V3+'1学期'!V3&\"、\")","v":""},{"$f":"IF(AND(W3=\"\",'1学期'!W3=\"\"),\"\",W$2&W3+'1学期'!W3&\"、\")","v":""},{"$f":"IF(AND(X3=\"\",'1学期'!X3=\"\"),\"\",X$2&X3+'1学期'!X3&\"、\")","v":""},{"$f":"IF(AND(Y3=\"\",'1学期'!Y3=\"\"),\"\",Y$2&Y3+'1学期'!Y3&\"、\")","v":""},{"$f":"IF(AND(Z3=\"\",'1学期'!Z3=\"\"),\"\",Z$2&Z3+'1学期'!Z3&\"、\")","v":""},null,{"$f":"CONCATENATE(AI3,AJ3,AK3,AL3,AM3,AN3,AO3,AP3,AQ3,AR3,AD3,AE3,AF3,AG3,AH3)","v":""}]
[{"$f":"IF(名簿!$A2=\"\",\"\",名簿!$A2)","v":1102},{"$f":"IFERROR(VLOOKUP($A4,名簿!$A:$C,3,0),\"\")","v":"小林治郎"},72,0,0,0,0,0,null,{"$f":"IF(AT4=\"\",IF(OR('1学期'!AA4=\"あり\",'2学期'!AA4=\"あり\"),\"特記事項なし\",\"皆勤\"),IF(AND('1学期'!AA4=\"\",'2学期'!AA4=\"\",COUNTBLANK(AI4:AQ4)=COUNTA($AI$2:$AQ$2)),\"皆勤、\"&LEFT(AT4,LEN(AT4)-1),LEFT(AT4,LEN(AT4)-1)))","v":"皆勤"},null,null,null,null,null,null,null,null,null,null,null,null,null,null,null,null,null,null,null,{"$f":"IF(AND(L4=\"\",'1学期'!L4=\"\"),\"\",L$2&L4+'1学期'!L4&\"、\")","v":""},{"$f":"IF(AND(M4=\"\",'1学期'!M4=\"\"),\"\",M$2&M4+'1学期'!M4&\"、\")","v":""},{"$f":"IF(AND(N4=\"\",'1学期'!N4=\"\"),\"\",N$2&N4+'1学期'!N4&\"、\")","v":""},{"$f":"IF(AND(O4=\"\",'1学期'!O4=\"\"),\"\",O$2&O4+'1学期'!O4&\"、\")","v":""},{"$f":"IF(AND(P4=\"\",'1学期'!P4=\"\"),\"\",P$2&P4+'1学期'!P4&\"、\")","v":""},{"$f":"IF(AND(Q4=\"\",'1学期'!Q4=\"\"),\"\",Q$2&Q4+'1学期'!Q4&\"、\")","v":""},{"$f":"IF(AND(R4=\"\",'1学期'!R4=\"\"),\"\",R$2&R4+'1学期'!R4&\"、\")","v":""},{"$f":"IF(AND(S4=\"\",'1学期'!S4=\"\"),\"\",S$2&S4+'1学期'!S4&\"、\")","v":""},{"$f":"IF(AND(T4=\"\",'1学期'!T4=\"\"),\"\",T$2&T4+'1学期'!T4&\"、\")","v":""},{"$f":"IF(AND(U4=\"\",'1学期'!U4=\"\"),\"\",U$2&U4+'1学期'!U4&\"、\")","v":""},{"$f":"IF(AND(V4=\"\",'1学期'!V4=\"\"),\"\",V$2&V4+'1学期'!V4&\"、\")","v":""},{"$f":"IF(AND(W4=\"\",'1学期'!W4=\"\"),\"\",W$2&W4+'1学期'!W4&\"、\")","v":""},{"$f":"IF(AND(X4=\"\",'1学期'!X4=\"\"),\"\",X$2&X4+'1学期'!X4&\"、\")","v":""},{"$f":"IF(AND(Y4=\"\",'1学期'!Y4=\"\"),\"\",Y$2&Y4+'1学期'!Y4&\"、\")","v":""},{"$f":"IF(AND(Z4=\"\",'1学期'!Z4=\"\"),\"\",Z$2&Z4+'1学期'!Z4&\"、\")","v":""},null,{"$f":"CONCATENATE(AI4,AJ4,AK4,AL4,AM4,AN4,AO4,AP4,AQ4,AR4,AD4,AE4,AF4,AG4,AH4)","v":""}]
[{"$f":"IF(名簿!$A3=\"\",\"\",名簿!$A3)","v":1103},{"$f":"IFERROR(VLOOKUP($A5,名簿!$A:$C,3,0),\"\")","v":"佐藤三郎"},72,1,0,0,0,0,null,{"$f":"IF(AT5=\"\",IF(OR('1学期'!AA5=\"あり\",'2学期'!AA5=\"あり\"),\"特記事項なし\",\"皆勤\"),IF(AND('1学期'!AA5=\"\",'2学期'!AA5=\"\",COUNTBLANK(AI5:AQ5)=COUNTA($AI$2:$AQ$2)),\"皆勤、\"&LEFT(AT5,LEN(AT5)-1),LEFT(AT5,LEN(AT5)-1)))","v":"皆勤"},null,null,null,null,null,null,null,null,null,null,null,null,null,null,null,null,null,null,null,{"$f":"IF(AND(L5=\"\",'1学期'!L5=\"\"),\"\",L$2&L5+'1学期'!L5&\"、\")","v":""},{"$f":"IF(AND(M5=\"\",'1学期'!M5=\"\"),\"\",M$2&M5+'1学期'!M5&\"、\")","v":""},{"$f":"IF(AND(N5=\"\",'1学期'!N5=\"\"),\"\",N$2&N5+'1学期'!N5&\"、\")","v":""},{"$f":"IF(AND(O5=\"\",'1学期'!O5=\"\"),\"\",O$2&O5+'1学期'!O5&\"、\")","v":""},{"$f":"IF(AND(P5=\"\",'1学期'!P5=\"\"),\"\",P$2&P5+'1学期'!P5&\"、\")","v":""},{"$f":"IF(AND(Q5=\"\",'1学期'!Q5=\"\"),\"\",Q$2&Q5+'1学期'!Q5&\"、\")","v":""},{"$f":"IF(AND(R5=\"\",'1学期'!R5=\"\"),\"\",R$2&R5+'1学期'!R5&\"、\")","v":""},{"$f":"IF(AND(S5=\"\",'1学期'!S5=\"\"),\"\",S$2&S5+'1学期'!S5&\"、\")","v":""},{"$f":"IF(AND(T5=\"\",'1学期'!T5=\"\"),\"\",T$2&T5+'1学期'!T5&\"、\")","v":""},{"$f":"IF(AND(U5=\"\",'1学期'!U5=\"\"),\"\",U$2&U5+'1学期'!U5&\"、\")","v":""},{"$f":"IF(AND(V5=\"\",'1学期'!V5=\"\"),\"\",V$2&V5+'1学期'!V5&\"、\")","v":""},{"$f":"IF(AND(W5=\"\",'1学期'!W5=\"\"),\"\",W$2&W5+'1学期'!W5&\"、\")","v":""},{"$f":"IF(AND(X5=\"\",'1学期'!X5=\"\"),\"\",X$2&X5+'1学期'!X5&\"、\")","v":""},{"$f":"IF(AND(Y5=\"\",'1学期'!Y5=\"\"),\"\",Y$2&Y5+'1学期'!Y5&\"、\")","v":""},{"$f":"IF(AND(Z5=\"\",'1学期'!Z5=\"\"),\"\",Z$2&Z5+'1学期'!Z5&\"、\")","v":""},null,""]
[{"$f":"IF(名簿!$A4=\"\",\"\",名簿!$A4)","v":1104},{"$f":"IFERROR(VLOOKUP($A6,名簿!$A:$C,3,0),\"\")","v":"山田花子"},72,3,0,1,0,0,null,{"$f":"IF(AT6=\"\",IF(OR('1学期'!AA6=\"あり\",'2学期'!AA6=\"あり\"),\"特記事項なし\",\"皆勤\"),IF(AND('1学期'!AA6=\"\",'2学期'!AA6=\"\",COUNTBLANK(AI6:AQ6)=COUNTA($AI$2:$AQ$2)),\"皆勤、\"&LEFT(AT6,LEN(AT6)-1),LEFT(AT6,LEN(AT6)-1)))","v":"体調不良9、頭痛3、感染症のため3"},null,null,3,null,null,null,1,null,null,null,null,null,null,null,null,null,null,null,null,{"$f":"IF(AND(L6=\"\",'1学期'!L6=\"\"),\"\",L$2&L6+'1学期'!L6&\"、\")","v":""},{"$f":"IF(AND(M6=\"\",'1学期'!M6=\"\"),\"\",M$2&M6+'1学期'!M6&\"、\")","v":"感染症のため3、"},{"$f":"IF(AND(N6=\"\",'1学期'!N6=\"\"),\"\",N$2&N6+'1学期'!N6&\"、\")","v":""},{"$f":"IF(AND(O6=\"\",'1学期'!O6=\"\"),\"\",O$2&O6+'1学期'!O6&\"、\")","v":""},{"$f":"IF(AND(P6=\"\",'1学期'!P6=\"\"),\"\",P$2&P6+'1学期'!P6&\"、\")","v":""},{"$f":"IF(AND(Q6=\"\",'1学期'!Q6=\"\"),\"\",Q$2&Q6+'1学期'!Q6&\"、\")","v":"体調不良9、"},{"$f":"IF(AND(R6=\"\",'1学期'!R6=\"\"),\"\",R$2&R6+'1学期'!R6&\"、\")","v":""},{"$f":"IF(AND(S6=\"\",'1学期'!S6=\"\"),\"\",S$2&S6+'1学期'!S6&\"、\")","v":""},{"$f":"IF(AND(T6=\"\",'1学期'!T6=\"\"),\"\",T$2&T6+'1学期'!T6&\"、\")","v":"頭痛3、"},{"$f":"IF(AND(U6=\"\",'1学期'!U6=\"\"),\"\",U$2&U6+'1学期'!U6&\"、\")","v":""},{"$f":"IF(AND(V6=\"\",'1学期'!V6=\"\"),\"\",V$2&V6+'1学期'!V6&\"、\")","v":""},{"$f":"IF(AND(W6=\"\",'1学期'!W6=\"\"),\"\",W$2&W6+'1学期'!W6&\"、\")","v":""},{"$f":"IF(AND(X6=\"\",'1学期'!X6=\"\"),\"\",X$2&X6+'1学期'!X6&\"、\")","v":""},{"$f":"IF(AND(Y6=\"\",'1学期'!Y6=\"\"),\"\",Y$2&Y6+'1学期'!Y6&\"、\")","v":""},{"$f":"IF(AND(Z6=\"\",'1学期'!Z6=\"\"),\"\",Z$2&Z6+'1学期'!Z6&\"、\")","v":""},null,"体調不良9、頭痛3、感染症のため3、"]
[{"$f":"IF(名簿!$A5=\"\",\"\",名簿!$A5)","v":1105},{"$f":"IFERROR(VLOOKUP($A7,名簿!$A:$C,3,0),\"\")","v":"山本とし子"},72,2,0,1,0,0,null,{"$f":"IF(AT7=\"\",IF(OR('1学期'!AA7=\"あり\",'2学期'!AA7=\"あり\"),\"特記事項なし\",\"皆勤\"),IF(AND('1学期'!AA7=\"\",'2学期'!AA7=\"\",COUNTBLANK(AI7:AQ7)=COUNTA($AI$2:$AQ$2)),\"皆勤、\"&LEFT(AT7,LEN(AT7)-1),LEFT(AT7,LEN(AT7)-1)))","v":"体調不良2、感染症予防のため2"},null,2,null,null,null,null,1,null,null,null,null,null,null,null,null,null,null,null,null,{"$f":"IF(AND(L7=\"\",'1学期'!L7=\"\"),\"\",L$2&L7+'1学期'!L7&\"、\")","v":"感染症予防のため2、"},{"$f":"IF(AND(M7=\"\",'1学期'!M7=\"\"),\"\",M$2&M7+'1学期'!M7&\"、\")","v":""},{"$f":"IF(AND(N7=\"\",'1学期'!N7=\"\"),\"\",N$2&N7+'1学期'!N7&\"、\")","v":""},{"$f":"IF(AND(O7=\"\",'1学期'!O7=\"\"),\"\",O$2&O7+'1学期'!O7&\"、\")","v":""},{"$f":"IF(AND(P7=\"\",'1学期'!P7=\"\"),\"\",P$2&P7+'1学期'!P7&\"、\")","v":""},{"$f":"IF(AND(Q7=\"\",'1学期'!Q7=\"\"),\"\",Q$2&Q7+'1学期'!Q7&\"、\")","v":"体調不良2、"},{"$f":"IF(AND(R7=\"\",'1学期'!R7=\"\"),\"\",R$2&R7+'1学期'!R7&\"、\")","v":""},{"$f":"IF(AND(S7=\"\",'1学期'!S7=\"\"),\"\",S$2&S7+'1学期'!S7&\"、\")","v":""},{"$f":"IF(AND(T7=\"\",'1学期'!T7=\"\"),\"\",T$2&T7+'1学期'!T7&\"、\")","v":""},{"$f":"IF(AND(U7=\"\",'1学期'!U7=\"\"),\"\",U$2&U7+'1学期'!U7&\"、\")","v":""},{"$f":"IF(AND(V7=\"\",'1学期'!V7=\"\"),\"\",V$2&V7+'1学期'!V7&\"、\")","v":""},{"$f":"IF(AND(W7=\"\",'1学期'!W7=\"\"),\"\",W$2&W7+'1学期'!W7&\"、\")","v":""},{"$f":"IF(AND(X7=\"\",'1学期'!X7=\"\"),\"\",X$2&X7+'1学期'!X7&\"、\")","v":""},{"$f":"IF(AND(Y7=\"\",'1学期'!Y7=\"\"),\"\",Y$2&Y7+'1学期'!Y7&\"、\")","v":""},{"$f":"IF(AND(Z7=\"\",'1学期'!Z7=\"\"),\"\",Z$2&Z7+'1学期'!Z7&\"、\")","v":""},null,"体調不良2、感染症予防のため2、"]
[{"$f":"IF(名簿!$A6=\"\",\"\",名簿!$A6)","v":1106},{"$f":"IFERROR(VLOOKUP($A8,名簿!$A:$C,3,0),\"\")","v":0},72,0,0,4,1,0,null,{"$f":"IF(AT8=\"\",IF(OR('1学期'!AA8=\"あり\",'2学期'!AA8=\"あり\"),\"特記事項なし\",\"皆勤\"),IF(AND('1学期'!AA8=\"\",'2学期'!AA8=\"\",COUNTBLANK(AI8:AQ8)=COUNTA($AI$2:$AQ$2)),\"皆勤、\"&LEFT(AT8,LEN(AT8)-1),LEFT(AT8,LEN(AT8)-1)))","v":"体調不良3、発熱2、腹痛1"},null,null,null,null,null,null,2,2,null,null,null,null,null,null,null,null,"あり",null,null,{"$f":"IF(AND(L8=\"\",'1学期'!L8=\"\"),\"\",L$2&L8+'1学期'!L8&\"、\")","v":""},{"$f":"IF(AND(M8=\"\",'1学期'!M8=\"\"),\"\",M$2&M8+'1学期'!M8&\"、\")","v":""},{"$f":"IF(AND(N8=\"\",'1学期'!N8=\"\"),\"\",N$2&N8+'1学期'!N8&\"、\")","v":""},{"$f":"IF(AND(O8=\"\",'1学期'!O8=\"\"),\"\",O$2&O8+'1学期'!O8&\"、\")","v":""},{"$f":"IF(AND(P8=\"\",'1学期'!P8=\"\"),\"\",P$2&P8+'1学期'!P8&\"、\")","v":""},{"$f":"IF(AND(Q8=\"\",'1学期'!Q8=\"\"),\"\",Q$2&Q8+'1学期'!Q8&\"、\")","v":"体調不良3、"},{"$f":"IF(AND(R8=\"\",'1学期'!R8=\"\"),\"\",R$2&R8+'1学期'!R8&\"、\")","v":"発熱2、"},{"$f":"IF(AND(S8=\"\",'1学期'!S8=\"\"),\"\",S$2&S8+'1学期'!S8&\"、\")","v":""},{"$f":"IF(AND(T8=\"\",'1学期'!T8=\"\"),\"\",T$2&T8+'1学期'!T8&\"、\")","v":""},{"$f":"IF(AND(U8=\"\",'1学期'!U8=\"\"),\"\",U$2&U8+'1学期'!U8&\"、\")","v":"腹痛1、"},{"$f":"IF(AND(V8=\"\",'1学期'!V8=\"\"),\"\",V$2&V8+'1学期'!V8&\"、\")","v":""},{"$f":"IF(AND(W8=\"\",'1学期'!W8=\"\"),\"\",W$2&W8+'1学期'!W8&\"、\")","v":""},{"$f":"IF(AND(X8=\"\",'1学期'!X8=\"\"),\"\",X$2&X8+'1学期'!X8&\"、\")","v":""},{"$f":"IF(AND(Y8=\"\",'1学期'!Y8=\"\"),\"\",Y$2&Y8+'1学期'!Y8&\"、\")","v":""},{"$f":"IF(AND(Z8=\"\",'1学期'!Z8=\"\"),\"\",Z$2&Z8+'1学期'!Z8&\"、\")","v":""},null,"体調不良3、発熱2、腹痛1、"]
[{"$f":"IF(名簿!$A7=\"\",\"\",名簿!$A7)","v":1107},{"$f":"IFERROR(VLOOKUP($A9,名簿!$A:$C,3,0),\"\")","v":0},72,0,0,0,0,0,null,{"$f":"IF(AT9=\"\",IF(OR('1学期'!AA9=\"あり\",'2学期'!AA9=\"あり\"),\"特記事項なし\",\"皆勤\"),IF(AND('1学期'!AA9=\"\",'2学期'!AA9=\"\",COUNTBLANK(AI9:AQ9)=COUNTA($AI$2:$AQ$2)),\"皆勤、\"&LEFT(AT9,LEN(AT9)-1),LEFT(AT9,LEN(AT9)-1)))","v":"皆勤"},null,null,null,null,null,null,null,null,null,null,null,null,null,null,null,null,null,null,null,{"$f":"IF(AND(L9=\"\",'1学期'!L9=\"\"),\"\",L$2&L9+'1学期'!L9&\"、\")","v":""},{"$f":"IF(AND(M9=\"\",'1学期'!M9=\"\"),\"\",M$2&M9+'1学期'!M9&\"、\")","v":""},{"$f":"IF(AND(N9=\"\",'1学期'!N9=\"\"),\"\",N$2&N9+'1学期'!N9&\"、\")","v":""},{"$f":"IF(AND(O9=\"\",'1学期'!O9=\"\"),\"\",O$2&O9+'1学期'!O9&\"、\")","v":""},{"$f":"IF(AND(P9=\"\",'1学期'!P9=\"\"),\"\",P$2&P9+'1学期'!P9&\"、\")","v":""},{"$f":"IF(AND(Q9=\"\",'1学期'!Q9=\"\"),\"\",Q$2&Q9+'1学期'!Q9&\"、\")","v":""},{"$f":"IF(AND(R9=\"\",'1学期'!R9=\"\"),\"\",R$2&R9+'1学期'!R9&\"、\")","v":""},{"$f":"IF(AND(S9=\"\",'1学期'!S9=\"\"),\"\",S$2&S9+'1学期'!S9&\"、\")","v":""},{"$f":"IF(AND(T9=\"\",'1学期'!T9=\"\"),\"\",T$2&T9+'1学期'!T9&\"、\")","v":""},{"$f":"IF(AND(U9=\"\",'1学期'!U9=\"\"),\"\",U$2&U9+'1学期'!U9&\"、\")","v":""},{"$f":"IF(AND(V9=\"\",'1学期'!V9=\"\"),\"\",V$2&V9+'1学期'!V9&\"、\")","v":""},{"$f":"IF(AND(W9=\"\",'1学期'!W9=\"\"),\"\",W$2&W9+'1学期'!W9&\"、\")","v":""},{"$f":"IF(AND(X9=\"\",'1学期'!X9=\"\"),\"\",X$2&X9+'1学期'!X9&\"、\")","v":""},{"$f":"IF(AND(Y9=\"\",'1学期'!Y9=\"\"),\"\",Y$2&Y9+'1学期'!Y9&\"、\")","v":""},{"$f":"IF(AND(Z9=\"\",'1学期'!Z9=\"\"),\"\",Z$2&Z9+'1学期'!Z9&\"、\")","v":""},null,""]
[{"$f":"IF(名簿!$A8=\"\",\"\",名簿!$A8)","v":1108},{"$f":"IFERROR(VLOOKUP($A10,名簿!$A:$C,3,0),\"\")","v":0},72,0,0,19,1,1,null,{"$f":"IF(AT10=\"\",IF(OR('1学期'!AA10=\"あり\",'2学期'!AA10=\"あり\"),\"特記事項なし\",\"皆勤\"),IF(AND('1学期'!AA10=\"\",'2学期'!AA10=\"\",COUNTBLANK(AI10:AQ10)=COUNTA($AI$2:$AQ$2)),\"皆勤、\"&LEFT(AT10,LEN(AT10)-1),LEFT(AT10,LEN(AT10)-1)))","v":"体調不良28、発熱7、感染症予防のため1"},null,null,null,null,null,null,16,3,null,null,null,null,null,null,null,null,null,null,null,{"$f":"IF(AND(L10=\"\",'1学期'!L10=\"\"),\"\",L$2&L10+'1学期'!L10&\"、\")","v":"感染症予防のため1、"},{"$f":"IF(AND(M10=\"\",'1学期'!M10=\"\"),\"\",M$2&M10+'1学期'!M10&\"、\")","v":""},{"$f":"IF(AND(N10=\"\",'1学期'!N10=\"\"),\"\",N$2&N10+'1学期'!N10&\"、\")","v":""},{"$f":"IF(AND(O10=\"\",'1学期'!O10=\"\"),\"\",O$2&O10+'1学期'!O10&\"、\")","v":""},{"$f":"IF(AND(P10=\"\",'1学期'!P10=\"\"),\"\",P$2&P10+'1学期'!P10&\"、\")","v":""},{"$f":"IF(AND(Q10=\"\",'1学期'!Q10=\"\"),\"\",Q$2&Q10+'1学期'!Q10&\"、\")","v":"体調不良28、"},{"$f":"IF(AND(R10=\"\",'1学期'!R10=\"\"),\"\",R$2&R10+'1学期'!R10&\"、\")","v":"発熱7、"},{"$f":"IF(AND(S10=\"\",'1学期'!S10=\"\"),\"\",S$2&S10+'1学期'!S10&\"、\")","v":""},{"$f":"IF(AND(T10=\"\",'1学期'!T10=\"\"),\"\",T$2&T10+'1学期'!T10&\"、\")","v":""},{"$f":"IF(AND(U10=\"\",'1学期'!U10=\"\"),\"\",U$2&U10+'1学期'!U10&\"、\")","v":""},{"$f":"IF(AND(V10=\"\",'1学期'!V10=\"\"),\"\",V$2&V10+'1学期'!V10&\"、\")","v":""},{"$f":"IF(AND(W10=\"\",'1学期'!W10=\"\"),\"\",W$2&W10+'1学期'!W10&\"、\")","v":""},{"$f":"IF(AND(X10=\"\",'1学期'!X10=\"\"),\"\",X$2&X10+'1学期'!X10&\"、\")","v":""},{"$f":"IF(AND(Y10=\"\",'1学期'!Y10=\"\"),\"\",Y$2&Y10+'1学期'!Y10&\"、\")","v":""},{"$f":"IF(AND(Z10=\"\",'1学期'!Z10=\"\"),\"\",Z$2&Z10+'1学期'!Z10&\"、\")","v":""},null,"体調不良28、発熱7、感染症予防のため1、"]
[{"$f":"IF(名簿!$A9=\"\",\"\",名簿!$A9)","v":1109},{"$f":"IFERROR(VLOOKUP($A11,名簿!$A:$C,3,0),\"\")","v":0},72,2,0,4,0,0,null,{"$f":"IF(AT11=\"\",IF(OR('1学期'!AA11=\"あり\",'2学期'!AA11=\"あり\"),\"特記事項なし\",\"皆勤\"),IF(AND('1学期'!AA11=\"\",'2学期'!AA11=\"\",COUNTBLANK(AI11:AQ11)=COUNTA($AI$2:$AQ$2)),\"皆勤、\"&LEFT(AT11,LEN(AT11)-1),LEFT(AT11,LEN(AT11)-1)))","v":"体調不良7、発熱1、頭痛1、腹痛1、感染症予防のため2"},null,2,null,null,null,null,2,null,null,1,1,null,null,null,null,null,null,null,null,{"$f":"IF(AND(L11=\"\",'1学期'!L11=\"\"),\"\",L$2&L11+'1学期'!L11&\"、\")","v":"感染症予防のため2、"},{"$f":"IF(AND(M11=\"\",'1学期'!M11=\"\"),\"\",M$2&M11+'1学期'!M11&\"、\")","v":""},{"$f":"IF(AND(N11=\"\",'1学期'!N11=\"\"),\"\",N$2&N11+'1学期'!N11&\"、\")","v":""},{"$f":"IF(AND(O11=\"\",'1学期'!O11=\"\"),\"\",O$2&O11+'1学期'!O11&\"、\")","v":""},{"$f":"IF(AND(P11=\"\",'1学期'!P11=\"\"),\"\",P$2&P11+'1学期'!P11&\"、\")","v":""},{"$f":"IF(AND(Q11=\"\",'1学期'!Q11=\"\"),\"\",Q$2&Q11+'1学期'!Q11&\"、\")","v":"体調不良7、"},{"$f":"IF(AND(R11=\"\",'1学期'!R11=\"\"),\"\",R$2&R11+'1学期'!R11&\"、\")","v":"発熱1、"},{"$f":"IF(AND(S11=\"\",'1学期'!S11=\"\"),\"\",S$2&S11+'1学期'!S11&\"、\")","v":""},{"$f":"IF(AND(T11=\"\",'1学期'!T11=\"\"),\"\",T$2&T11+'1学期'!T11&\"、\")","v":"頭痛1、"},{"$f":"IF(AND(U11=\"\",'1学期'!U11=\"\"),\"\",U$2&U11+'1学期'!U11&\"、\")","v":"腹痛1、"},{"$f":"IF(AND(V11=\"\",'1学期'!V11=\"\"),\"\",V$2&V11+'1学期'!V11&\"、\")","v":""},{"$f":"IF(AND(W11=\"\",'1学期'!W11=\"\"),\"\",W$2&W11+'1学期'!W11&\"、\")","v":""},{"$f":"IF(AND(X11=\"\",'1学期'!X11=\"\"),\"\",X$2&X11+'1学期'!X11&\"、\")","v":""},{"$f":"IF(AND(Y11=\"\",'1学期'!Y11=\"\"),\"\",Y$2&Y11+'1学期'!Y11&\"、\")","v":""},{"$f":"IF(AND(Z11=\"\",'1学期'!Z11=\"\"),\"\",Z$2&Z11+'1学期'!Z11&\"、\")","v":""},null,"体調不良7、発熱1、頭痛1、腹痛1、感染症予防のため2、"]
[{"$f":"IF(名簿!$A10=\"\",\"\",名簿!$A10)","v":1110},{"$f":"IFERROR(VLOOKUP($A12,名簿!$A:$C,3,0),\"\")","v":0},72,0,0,0,0,0,null,{"$f":"IF(AT12=\"\",IF(OR('1学期'!AA12=\"あり\",'2学期'!AA12=\"あり\"),\"特記事項なし\",\"皆勤\"),IF(AND('1学期'!AA12=\"\",'2学期'!AA12=\"\",COUNTBLANK(AI12:AQ12)=COUNTA($AI$2:$AQ$2)),\"皆勤、\"&LEFT(AT12,LEN(AT12)-1),LEFT(AT12,LEN(AT12)-1)))","v":"皆勤、感染症予防のため1"},null,null,null,null,null,null,null,null,null,null,null,null,null,null,null,null,null,null,null,{"$f":"IF(AND(L12=\"\",'1学期'!L12=\"\"),\"\",L$2&L12+'1学期'!L12&\"、\")","v":"感染症予防のため1、"},{"$f":"IF(AND(M12=\"\",'1学期'!M12=\"\"),\"\",M$2&M12+'1学期'!M12&\"、\")","v":""},{"$f":"IF(AND(N12=\"\",'1学期'!N12=\"\"),\"\",N$2&N12+'1学期'!N12&\"、\")","v":""},{"$f":"IF(AND(O12=\"\",'1学期'!O12=\"\"),\"\",O$2&O12+'1学期'!O12&\"、\")","v":""},{"$f":"IF(AND(P12=\"\",'1学期'!P12=\"\"),\"\",P$2&P12+'1学期'!P12&\"、\")","v":""},{"$f":"IF(AND(Q12=\"\",'1学期'!Q12=\"\"),\"\",Q$2&Q12+'1学期'!Q12&\"、\")","v":""},{"$f":"IF(AND(R12=\"\",'1学期'!R12=\"\"),\"\",R$2&R12+'1学期'!R12&\"、\")","v":""},{"$f":"IF(AND(S12=\"\",'1学期'!S12=\"\"),\"\",S$2&S12+'1学期'!S12&\"、\")","v":""},{"$f":"IF(AND(T12=\"\",'1学期'!T12=\"\"),\"\",T$2&T12+'1学期'!T12&\"、\")","v":""},{"$f":"IF(AND(U12=\"\",'1学期'!U12=\"\"),\"\",U$2&U12+'1学期'!U12&\"、\")","v":""},{"$f":"IF(AND(V12=\"\",'1学期'!V12=\"\"),\"\",V$2&V12+'1学期'!V12&\"、\")","v":""},{"$f":"IF(AND(W12=\"\",'1学期'!W12=\"\"),\"\",W$2&W12+'1学期'!W12&\"、\")","v":""},{"$f":"IF(AND(X12=\"\",'1学期'!X12=\"\"),\"\",X$2&X12+'1学期'!X12&\"、\")","v":""},{"$f":"IF(AND(Y12=\"\",'1学期'!Y12=\"\"),\"\",Y$2&Y12+'1学期'!Y12&\"、\")","v":""},{"$f":"IF(AND(Z12=\"\",'1学期'!Z12=\"\"),\"\",Z$2&Z12+'1学期'!Z12&\"、\")","v":""},null,{"$f":"CONCATENATE(AI12,AJ12,AK12,AL12,AM12,AN12,AO12,AP12,AQ12,AR12,AD12,AE12,AF12,AG12,AH12)","v":"感染症予防のため1、"}]
[{"$f":"IF(名簿!$A11=\"\",\"\",名簿!$A11)","v":1111},{"$f":"IFERROR(VLOOKUP($A13,名簿!$A:$C,3,0),\"\")","v":0},72,0,0,0,8,0,null,{"$f":"IF(AT13=\"\",IF(OR('1学期'!AA13=\"あり\",'2学期'!AA13=\"あり\"),\"特記事項なし\",\"皆勤\"),IF(AND('1学期'!AA13=\"\",'2学期'!AA13=\"\",COUNTBLANK(AI13:AQ13)=COUNTA($AI$2:$AQ$2)),\"皆勤、\"&LEFT(AT13,LEN(AT13)-1),LEFT(AT13,LEN(AT13)-1)))","v":"特記事項なし"},null,null,null,null,null,null,null,null,null,null,null,null,null,null,null,null,"あり",null,null,{"$f":"IF(AND(L13=\"\",'1学期'!L13=\"\"),\"\",L$2&L13+'1学期'!L13&\"、\")","v":""},{"$f":"IF(AND(M13=\"\",'1学期'!M13=\"\"),\"\",M$2&M13+'1学期'!M13&\"、\")","v":""},{"$f":"IF(AND(N13=\"\",'1学期'!N13=\"\"),\"\",N$2&N13+'1学期'!N13&\"、\")","v":""},{"$f":"IF(AND(O13=\"\",'1学期'!O13=\"\"),\"\",O$2&O13+'1学期'!O13&\"、\")","v":""},{"$f":"IF(AND(P13=\"\",'1学期'!P13=\"\"),\"\",P$2&P13+'1学期'!P13&\"、\")","v":""},{"$f":"IF(AND(Q13=\"\",'1学期'!Q13=\"\"),\"\",Q$2&Q13+'1学期'!Q13&\"、\")","v":""},{"$f":"IF(AND(R13=\"\",'1学期'!R13=\"\"),\"\",R$2&R13+'1学期'!R13&\"、\")","v":""},{"$f":"IF(AND(S13=\"\",'1学期'!S13=\"\"),\"\",S$2&S13+'1学期'!S13&\"、\")","v":""},{"$f":"IF(AND(T13=\"\",'1学期'!T13=\"\"),\"\",T$2&T13+'1学期'!T13&\"、\")","v":""},{"$f":"IF(AND(U13=\"\",'1学期'!U13=\"\"),\"\",U$2&U13+'1学期'!U13&\"、\")","v":""},{"$f":"IF(AND(V13=\"\",'1学期'!V13=\"\"),\"\",V$2&V13+'1学期'!V13&\"、\")","v":""},{"$f":"IF(AND(W13=\"\",'1学期'!W13=\"\"),\"\",W$2&W13+'1学期'!W13&\"、\")","v":""},{"$f":"IF(AND(X13=\"\",'1学期'!X13=\"\"),\"\",X$2&X13+'1学期'!X13&\"、\")","v":""},{"$f":"IF(AND(Y13=\"\",'1学期'!Y13=\"\"),\"\",Y$2&Y13+'1学期'!Y13&\"、\")","v":""},{"$f":"IF(AND(Z13=\"\",'1学期'!Z13=\"\"),\"\",Z$2&Z13+'1学期'!Z13&\"、\")","v":""},null,""]
[{"$f":"IF(名簿!$A12=\"\",\"\",名簿!$A12)","v":1112},{"$f":"IFERROR(VLOOKUP($A14,名簿!$A:$C,3,0),\"\")","v":0},72,1,0,0,0,0,null,{"$f":"IF(AT14=\"\",IF(OR('1学期'!AA14=\"あり\",'2学期'!AA14=\"あり\"),\"特記事項なし\",\"皆勤\"),IF(AND('1学期'!AA14=\"\",'2学期'!AA14=\"\",COUNTBLANK(AI14:AQ14)=COUNTA($AI$2:$AQ$2)),\"皆勤、\"&LEFT(AT14,LEN(AT14)-1),LEFT(AT14,LEN(AT14)-1)))","v":"皆勤、祖母葬儀1"},null,null,null,1,null,null,null,null,null,null,null,null,null,null,null,null,null,null,null,{"$f":"IF(AND(L14=\"\",'1学期'!L14=\"\"),\"\",L$2&L14+'1学期'!L14&\"、\")","v":""},{"$f":"IF(AND(M14=\"\",'1学期'!M14=\"\"),\"\",M$2&M14+'1学期'!M14&\"、\")","v":""},{"$f":"IF(AND(N14=\"\",'1学期'!N14=\"\"),\"\",N$2&N14+'1学期'!N14&\"、\")","v":"祖母葬儀1、"},{"$f":"IF(AND(O14=\"\",'1学期'!O14=\"\"),\"\",O$2&O14+'1学期'!O14&\"、\")","v":""},{"$f":"IF(AND(P14=\"\",'1学期'!P14=\"\"),\"\",P$2&P14+'1学期'!P14&\"、\")","v":""},{"$f":"IF(AND(Q14=\"\",'1学期'!Q14=\"\"),\"\",Q$2&Q14+'1学期'!Q14&\"、\")","v":""},{"$f":"IF(AND(R14=\"\",'1学期'!R14=\"\"),\"\",R$2&R14+'1学期'!R14&\"、\")","v":""},{"$f":"IF(AND(S14=\"\",'1学期'!S14=\"\"),\"\",S$2&S14+'1学期'!S14&\"、\")","v":""},{"$f":"IF(AND(T14=\"\",'1学期'!T14=\"\"),\"\",T$2&T14+'1学期'!T14&\"、\")","v":""},{"$f":"IF(AND(U14=\"\",'1学期'!U14=\"\"),\"\",U$2&U14+'1学期'!U14&\"、\")","v":""},{"$f":"IF(AND(V14=\"\",'1学期'!V14=\"\"),\"\",V$2&V14+'1学期'!V14&\"、\")","v":""},{"$f":"IF(AND(W14=\"\",'1学期'!W14=\"\"),\"\",W$2&W14+'1学期'!W14&\"、\")","v":""},{"$f":"IF(AND(X14=\"\",'1学期'!X14=\"\"),\"\",X$2&X14+'1学期'!X14&\"、\")","v":""},{"$f":"IF(AND(Y14=\"\",'1学期'!Y14=\"\"),\"\",Y$2&Y14+'1学期'!Y14&\"、\")","v":""},{"$f":"IF(AND(Z14=\"\",'1学期'!Z14=\"\"),\"\",Z$2&Z14+'1学期'!Z14&\"、\")","v":""},null,"祖母葬儀1、"]
[{"$f":"IF(名簿!$A13=\"\",\"\",名簿!$A13)","v":1113},{"$f":"IFERROR(VLOOKUP($A15,名簿!$A:$C,3,0),\"\")","v":0},72,0,0,0,0,0,null,{"$f":"IF(AT15=\"\",IF(OR('1学期'!AA15=\"あり\",'2学期'!AA15=\"あり\"),\"特記事項なし\",\"皆勤\"),IF(AND('1学期'!AA15=\"\",'2学期'!AA15=\"\",COUNTBLANK(AI15:AQ15)=COUNTA($AI$2:$AQ$2)),\"皆勤、\"&LEFT(AT15,LEN(AT15)-1),LEFT(AT15,LEN(AT15)-1)))","v":"皆勤"},null,null,null,null,null,null,null,null,null,null,null,null,null,null,null,null,null,null,null,{"$f":"IF(AND(L15=\"\",'1学期'!L15=\"\"),\"\",L$2&L15+'1学期'!L15&\"、\")","v":""},{"$f":"IF(AND(M15=\"\",'1学期'!M15=\"\"),\"\",M$2&M15+'1学期'!M15&\"、\")","v":""},{"$f":"IF(AND(N15=\"\",'1学期'!N15=\"\"),\"\",N$2&N15+'1学期'!N15&\"、\")","v":""},{"$f":"IF(AND(O15=\"\",'1学期'!O15=\"\"),\"\",O$2&O15+'1学期'!O15&\"、\")","v":""},{"$f":"IF(AND(P15=\"\",'1学期'!P15=\"\"),\"\",P$2&P15+'1学期'!P15&\"、\")","v":""},{"$f":"IF(AND(Q15=\"\",'1学期'!Q15=\"\"),\"\",Q$2&Q15+'1学期'!Q15&\"、\")","v":""},{"$f":"IF(AND(R15=\"\",'1学期'!R15=\"\"),\"\",R$2&R15+'1学期'!R15&\"、\")","v":""},{"$f":"IF(AND(S15=\"\",'1学期'!S15=\"\"),\"\",S$2&S15+'1学期'!S15&\"、\")","v":""},{"$f":"IF(AND(T15=\"\",'1学期'!T15=\"\"),\"\",T$2&T15+'1学期'!T15&\"、\")","v":""},{"$f":"IF(AND(U15=\"\",'1学期'!U15=\"\"),\"\",U$2&U15+'1学期'!U15&\"、\")","v":""},{"$f":"IF(AND(V15=\"\",'1学期'!V15=\"\"),\"\",V$2&V15+'1学期'!V15&\"、\")","v":""},{"$f":"IF(AND(W15=\"\",'1学期'!W15=\"\"),\"\",W$2&W15+'1学期'!W15&\"、\")","v":""},{"$f":"IF(AND(X15=\"\",'1学期'!X15=\"\"),\"\",X$2&X15+'1学期'!X15&\"、\")","v":""},{"$f":"IF(AND(Y15=\"\",'1学期'!Y15=\"\"),\"\",Y$2&Y15+'1学期'!Y15&\"、\")","v":""},{"$f":"IF(AND(Z15=\"\",'1学期'!Z15=\"\"),\"\",Z$2&Z15+'1学期'!Z15&\"、\")","v":""},null,""]
[{"$f":"IF(名簿!$A14=\"\",\"\",名簿!$A14)","v":1114},{"$f":"IFERROR(VLOOKUP($A16,名簿!$A:$C,3,0),\"\")","v":0},72,0,0,0,0,0,null,{"$f":"IF(AT16=\"\",IF(OR('1学期'!AA16=\"あり\",'2学期'!AA16=\"あり\"),\"特記事項なし\",\"皆勤\"),IF(AND('1学期'!AA16=\"\",'2学期'!AA16=\"\",COUNTBLANK(AI16:AQ16)=COUNTA($AI$2:$AQ$2)),\"皆勤、\"&LEFT(AT16,LEN(AT16)-1),LEFT(AT16,LEN(AT16)-1)))","v":"体調不良1"},null,null,null,null,null,null,null,null,null,null,null,null,null,null,null,null,null,null,null,{"$f":"IF(AND(L16=\"\",'1学期'!L16=\"\"),\"\",L$2&L16+'1学期'!L16&\"、\")","v":""},{"$f":"IF(AND(M16=\"\",'1学期'!M16=\"\"),\"\",M$2&M16+'1学期'!M16&\"、\")","v":""},{"$f":"IF(AND(N16=\"\",'1学期'!N16=\"\"),\"\",N$2&N16+'1学期'!N16&\"、\")","v":""},{"$f":"IF(AND(O16=\"\",'1学期'!O16=\"\"),\"\",O$2&O16+'1学期'!O16&\"、\")","v":""},{"$f":"IF(AND(P16=\"\",'1学期'!P16=\"\"),\"\",P$2&P16+'1学期'!P16&\"、\")","v":""},{"$f":"IF(AND(Q16=\"\",'1学期'!Q16=\"\"),\"\",Q$2&Q16+'1学期'!Q16&\"、\")","v":"体調不良1、"},{"$f":"IF(AND(R16=\"\",'1学期'!R16=\"\"),\"\",R$2&R16+'1学期'!R16&\"、\")","v":""},{"$f":"IF(AND(S16=\"\",'1学期'!S16=\"\"),\"\",S$2&S16+'1学期'!S16&\"、\")","v":""},{"$f":"IF(AND(T16=\"\",'1学期'!T16=\"\"),\"\",T$2&T16+'1学期'!T16&\"、\")","v":""},{"$f":"IF(AND(U16=\"\",'1学期'!U16=\"\"),\"\",U$2&U16+'1学期'!U16&\"、\")","v":""},{"$f":"IF(AND(V16=\"\",'1学期'!V16=\"\"),\"\",V$2&V16+'1学期'!V16&\"、\")","v":""},{"$f":"IF(AND(W16=\"\",'1学期'!W16=\"\"),\"\",W$2&W16+'1学期'!W16&\"、\")","v":""},{"$f":"IF(AND(X16=\"\",'1学期'!X16=\"\"),\"\",X$2&X16+'1学期'!X16&\"、\")","v":""},{"$f":"IF(AND(Y16=\"\",'1学期'!Y16=\"\"),\"\",Y$2&Y16+'1学期'!Y16&\"、\")","v":""},{"$f":"IF(AND(Z16=\"\",'1学期'!Z16=\"\"),\"\",Z$2&Z16+'1学期'!Z16&\"、\")","v":""},null,"体調不良1、"]
[{"$f":"IF(名簿!$A15=\"\",\"\",名簿!$A15)","v":1115},{"$f":"IFERROR(VLOOKUP($A17,名簿!$A:$C,3,0),\"\")","v":0},72,1,0,0,0,0,null,{"$f":"IF(AT17=\"\",IF(OR('1学期'!AA17=\"あり\",'2学期'!AA17=\"あり\"),\"特記事項なし\",\"皆勤\"),IF(AND('1学期'!AA17=\"\",'2学期'!AA17=\"\",COUNTBLANK(AI17:AQ17)=COUNTA($AI$2:$AQ$2)),\"皆勤、\"&LEFT(AT17,LEN(AT17)-1),LEFT(AT17,LEN(AT17)-1)))","v":"皆勤"},null,null,null,null,null,null,null,null,null,null,null,null,null,null,null,null,null,null,null,{"$f":"IF(AND(L17=\"\",'1学期'!L17=\"\"),\"\",L$2&L17+'1学期'!L17&\"、\")","v":""},{"$f":"IF(AND(M17=\"\",'1学期'!M17=\"\"),\"\",M$2&M17+'1学期'!M17&\"、\")","v":""},{"$f":"IF(AND(N17=\"\",'1学期'!N17=\"\"),\"\",N$2&N17+'1学期'!N17&\"、\")","v":""},{"$f":"IF(AND(O17=\"\",'1学期'!O17=\"\"),\"\",O$2&O17+'1学期'!O17&\"、\")","v":""},{"$f":"IF(AND(P17=\"\",'1学期'!P17=\"\"),\"\",P$2&P17+'1学期'!P17&\"、\")","v":""},{"$f":"IF(AND(Q17=\"\",'1学期'!Q17=\"\"),\"\",Q$2&Q17+'1学期'!Q17&\"、\")","v":""},{"$f":"IF(AND(R17=\"\",'1学期'!R17=\"\"),\"\",R$2&R17+'1学期'!R17&\"、\")","v":""},{"$f":"IF(AND(S17=\"\",'1学期'!S17=\"\"),\"\",S$2&S17+'1学期'!S17&\"、\")","v":""},{"$f":"IF(AND(T17=\"\",'1学期'!T17=\"\"),\"\",T$2&T17+'1学期'!T17&\"、\")","v":""},{"$f":"IF(AND(U17=\"\",'1学期'!U17=\"\"),\"\",U$2&U17+'1学期'!U17&\"、\")","v":""},{"$f":"IF(AND(V17=\"\",'1学期'!V17=\"\"),\"\",V$2&V17+'1学期'!V17&\"、\")","v":""},{"$f":"IF(AND(W17=\"\",'1学期'!W17=\"\"),\"\",W$2&W17+'1学期'!W17&\"、\")","v":""},{"$f":"IF(AND(X17=\"\",'1学期'!X17=\"\"),\"\",X$2&X17+'1学期'!X17&\"、\")","v":""},{"$f":"IF(AND(Y17=\"\",'1学期'!Y17=\"\"),\"\",Y$2&Y17+'1学期'!Y17&\"、\")","v":""},{"$f":"IF(AND(Z17=\"\",'1学期'!Z17=\"\"),\"\",Z$2&Z17+'1学期'!Z17&\"、\")","v":""},null,""]
[{"$f":"IF(名簿!$A16=\"\",\"\",名簿!$A16)","v":1116},{"$f":"IFERROR(VLOOKUP($A18,名簿!$A:$C,3,0),\"\")","v":0},72,0,0,0,0,0,null,{"$f":"IF(AT18=\"\",IF(OR('1学期'!AA18=\"あり\",'2学期'!AA18=\"あり\"),\"特記事項なし\",\"皆勤\"),IF(AND('1学期'!AA18=\"\",'2学期'!AA18=\"\",COUNTBLANK(AI18:AQ18)=COUNTA($AI$2:$AQ$2)),\"皆勤、\"&LEFT(AT18,LEN(AT18)-1),LEFT(AT18,LEN(AT18)-1)))","v":"皆勤"},null,null,null,null,null,null,null,null,null,null,null,null,null,null,null,null,null,null,null,{"$f":"IF(AND(L18=\"\",'1学期'!L18=\"\"),\"\",L$2&L18+'1学期'!L18&\"、\")","v":""},{"$f":"IF(AND(M18=\"\",'1学期'!M18=\"\"),\"\",M$2&M18+'1学期'!M18&\"、\")","v":""},{"$f":"IF(AND(N18=\"\",'1学期'!N18=\"\"),\"\",N$2&N18+'1学期'!N18&\"、\")","v":""},{"$f":"IF(AND(O18=\"\",'1学期'!O18=\"\"),\"\",O$2&O18+'1学期'!O18&\"、\")","v":""},{"$f":"IF(AND(P18=\"\",'1学期'!P18=\"\"),\"\",P$2&P18+'1学期'!P18&\"、\")","v":""},{"$f":"IF(AND(Q18=\"\",'1学期'!Q18=\"\"),\"\",Q$2&Q18+'1学期'!Q18&\"、\")","v":""},{"$f":"IF(AND(R18=\"\",'1学期'!R18=\"\"),\"\",R$2&R18+'1学期'!R18&\"、\")","v":""},{"$f":"IF(AND(S18=\"\",'1学期'!S18=\"\"),\"\",S$2&S18+'1学期'!S18&\"、\")","v":""},{"$f":"IF(AND(T18=\"\",'1学期'!T18=\"\"),\"\",T$2&T18+'1学期'!T18&\"、\")","v":""},{"$f":"IF(AND(U18=\"\",'1学期'!U18=\"\"),\"\",U$2&U18+'1学期'!U18&\"、\")","v":""},{"$f":"IF(AND(V18=\"\",'1学期'!V18=\"\"),\"\",V$2&V18+'1学期'!V18&\"、\")","v":""},{"$f":"IF(AND(W18=\"\",'1学期'!W18=\"\"),\"\",W$2&W18+'1学期'!W18&\"、\")","v":""},{"$f":"IF(AND(X18=\"\",'1学期'!X18=\"\"),\"\",X$2&X18+'1学期'!X18&\"、\")","v":""},{"$f":"IF(AND(Y18=\"\",'1学期'!Y18=\"\"),\"\",Y$2&Y18+'1学期'!Y18&\"、\")","v":""},{"$f":"IF(AND(Z18=\"\",'1学期'!Z18=\"\"),\"\",Z$2&Z18+'1学期'!Z18&\"、\")","v":""},null,""]
[{"$f":"IF(名簿!$A17=\"\",\"\",名簿!$A17)","v":1117},{"$f":"IFERROR(VLOOKUP($A19,名簿!$A:$C,3,0),\"\")","v":0},72,1,0,0,0,0,null,{"$f":"IF(AT19=\"\",IF(OR('1学期'!AA19=\"あり\",'2学期'!AA19=\"あり\"),\"特記事項なし\",\"皆勤\"),IF(AND('1学期'!AA19=\"\",'2学期'!AA19=\"\",COUNTBLANK(AI19:AQ19)=COUNTA($AI$2:$AQ$2)),\"皆勤、\"&LEFT(AT19,LEN(AT19)-1),LEFT(AT19,LEN(AT19)-1)))","v":"頭痛1"},null,null,null,null,null,null,null,null,null,null,null,null,null,null,null,null,null,null,null,{"$f":"IF(AND(L19=\"\",'1学期'!L19=\"\"),\"\",L$2&L19+'1学期'!L19&\"、\")","v":""},{"$f":"IF(AND(M19=\"\",'1学期'!M19=\"\"),\"\",M$2&M19+'1学期'!M19&\"、\")","v":""},{"$f":"IF(AND(N19=\"\",'1学期'!N19=\"\"),\"\",N$2&N19+'1学期'!N19&\"、\")","v":""},{"$f":"IF(AND(O19=\"\",'1学期'!O19=\"\"),\"\",O$2&O19+'1学期'!O19&\"、\")","v":""},{"$f":"IF(AND(P19=\"\",'1学期'!P19=\"\"),\"\",P$2&P19+'1学期'!P19&\"、\")","v":""},{"$f":"IF(AND(Q19=\"\",'1学期'!Q19=\"\"),\"\",Q$2&Q19+'1学期'!Q19&\"、\")","v":""},{"$f":"IF(AND(R19=\"\",'1学期'!R19=\"\"),\"\",R$2&R19+'1学期'!R19&\"、\")","v":""},{"$f":"IF(AND(S19=\"\",'1学期'!S19=\"\"),\"\",S$2&S19+'1学期'!S19&\"、\")","v":""},{"$f":"IF(AND(T19=\"\",'1学期'!T19=\"\"),\"\",T$2&T19+'1学期'!T19&\"、\")","v":"頭痛1、"},{"$f":"IF(AND(U19=\"\",'1学期'!U19=\"\"),\"\",U$2&U19+'1学期'!U19&\"、\")","v":""},{"$f":"IF(AND(V19=\"\",'1学期'!V19=\"\"),\"\",V$2&V19+'1学期'!V19&\"、\")","v":""},{"$f":"IF(AND(W19=\"\",'1学期'!W19=\"\"),\"\",W$2&W19+'1学期'!W19&\"、\")","v":""},{"$f":"IF(AND(X19=\"\",'1学期'!X19=\"\"),\"\",X$2&X19+'1学期'!X19&\"、\")","v":""},{"$f":"IF(AND(Y19=\"\",'1学期'!Y19=\"\"),\"\",Y$2&Y19+'1学期'!Y19&\"、\")","v":""},{"$f":"IF(AND(Z19=\"\",'1学期'!Z19=\"\"),\"\",Z$2&Z19+'1学期'!Z19&\"、\")","v":""},null,"頭痛1、"]
[{"$f":"IF(名簿!$A18=\"\",\"\",名簿!$A18)","v":1118},{"$f":"IFERROR(VLOOKUP($A20,名簿!$A:$C,3,0),\"\")","v":0},72,0,0,0,0,0,null,{"$f":"IF(AT20=\"\",IF(OR('1学期'!AA20=\"あり\",'2学期'!AA20=\"あり\"),\"特記事項なし\",\"皆勤\"),IF(AND('1学期'!AA20=\"\",'2学期'!AA20=\"\",COUNTBLANK(AI20:AQ20)=COUNTA($AI$2:$AQ$2)),\"皆勤、\"&LEFT(AT20,LEN(AT20)-1),LEFT(AT20,LEN(AT20)-1)))","v":"皆勤"},null,null,null,null,null,null,null,null,null,null,null,null,null,null,null,null,null,null,null,{"$f":"IF(AND(L20=\"\",'1学期'!L20=\"\"),\"\",L$2&L20+'1学期'!L20&\"、\")","v":""},{"$f":"IF(AND(M20=\"\",'1学期'!M20=\"\"),\"\",M$2&M20+'1学期'!M20&\"、\")","v":""},{"$f":"IF(AND(N20=\"\",'1学期'!N20=\"\"),\"\",N$2&N20+'1学期'!N20&\"、\")","v":""},{"$f":"IF(AND(O20=\"\",'1学期'!O20=\"\"),\"\",O$2&O20+'1学期'!O20&\"、\")","v":""},{"$f":"IF(AND(P20=\"\",'1学期'!P20=\"\"),\"\",P$2&P20+'1学期'!P20&\"、\")","v":""},{"$f":"IF(AND(Q20=\"\",'1学期'!Q20=\"\"),\"\",Q$2&Q20+'1学期'!Q20&\"、\")","v":""},{"$f":"IF(AND(R20=\"\",'1学期'!R20=\"\"),\"\",R$2&R20+'1学期'!R20&\"、\")","v":""},{"$f":"IF(AND(S20=\"\",'1学期'!S20=\"\"),\"\",S$2&S20+'1学期'!S20&\"、\")","v":""},{"$f":"IF(AND(T20=\"\",'1学期'!T20=\"\"),\"\",T$2&T20+'1学期'!T20&\"、\")","v":""},{"$f":"IF(AND(U20=\"\",'1学期'!U20=\"\"),\"\",U$2&U20+'1学期'!U20&\"、\")","v":""},{"$f":"IF(AND(V20=\"\",'1学期'!V20=\"\"),\"\",V$2&V20+'1学期'!V20&\"、\")","v":""},{"$f":"IF(AND(W20=\"\",'1学期'!W20=\"\"),\"\",W$2&W20+'1学期'!W20&\"、\")","v":""},{"$f":"IF(AND(X20=\"\",'1学期'!X20=\"\"),\"\",X$2&X20+'1学期'!X20&\"、\")","v":""},{"$f":"IF(AND(Y20=\"\",'1学期'!Y20=\"\"),\"\",Y$2&Y20+'1学期'!Y20&\"、\")","v":""},{"$f":"IF(AND(Z20=\"\",'1学期'!Z20=\"\"),\"\",Z$2&Z20+'1学期'!Z20&\"、\")","v":""},null,""]
[{"$f":"IF(名簿!$A19=\"\",\"\",名簿!$A19)","v":1119},{"$f":"IFERROR(VLOOKUP($A21,名簿!$A:$C,3,0),\"\")","v":0},72,8,0,1,0,0,null,{"$f":"IF(AT21=\"\",IF(OR('1学期'!AA21=\"あり\",'2学期'!AA21=\"あり\"),\"特記事項なし\",\"皆勤\"),IF(AND('1学期'!AA21=\"\",'2学期'!AA21=\"\",COUNTBLANK(AI21:AQ21)=COUNTA($AI$2:$AQ$2)),\"皆勤、\"&LEFT(AT21,LEN(AT21)-1),LEFT(AT21,LEN(AT21)-1)))","v":"発熱1、感染症のため8"},null,null,8,null,null,null,null,1,null,null,null,null,null,null,null,null,null,null,null,{"$f":"IF(AND(L21=\"\",'1学期'!L21=\"\"),\"\",L$2&L21+'1学期'!L21&\"、\")","v":""},{"$f":"IF(AND(M21=\"\",'1学期'!M21=\"\"),\"\",M$2&M21+'1学期'!M21&\"、\")","v":"感染症のため8、"},{"$f":"IF(AND(N21=\"\",'1学期'!N21=\"\"),\"\",N$2&N21+'1学期'!N21&\"、\")","v":""},{"$f":"IF(AND(O21=\"\",'1学期'!O21=\"\"),\"\",O$2&O21+'1学期'!O21&\"、\")","v":""},{"$f":"IF(AND(P21=\"\",'1学期'!P21=\"\"),\"\",P$2&P21+'1学期'!P21&\"、\")","v":""},{"$f":"IF(AND(Q21=\"\",'1学期'!Q21=\"\"),\"\",Q$2&Q21+'1学期'!Q21&\"、\")","v":""},{"$f":"IF(AND(R21=\"\",'1学期'!R21=\"\"),\"\",R$2&R21+'1学期'!R21&\"、\")","v":"発熱1、"},{"$f":"IF(AND(S21=\"\",'1学期'!S21=\"\"),\"\",S$2&S21+'1学期'!S21&\"、\")","v":""},{"$f":"IF(AND(T21=\"\",'1学期'!T21=\"\"),\"\",T$2&T21+'1学期'!T21&\"、\")","v":""},{"$f":"IF(AND(U21=\"\",'1学期'!U21=\"\"),\"\",U$2&U21+'1学期'!U21&\"、\")","v":""},{"$f":"IF(AND(V21=\"\",'1学期'!V21=\"\"),\"\",V$2&V21+'1学期'!V21&\"、\")","v":""},{"$f":"IF(AND(W21=\"\",'1学期'!W21=\"\"),\"\",W$2&W21+'1学期'!W21&\"、\")","v":""},{"$f":"IF(AND(X21=\"\",'1学期'!X21=\"\"),\"\",X$2&X21+'1学期'!X21&\"、\")","v":""},{"$f":"IF(AND(Y21=\"\",'1学期'!Y21=\"\"),\"\",Y$2&Y21+'1学期'!Y21&\"、\")","v":""},{"$f":"IF(AND(Z21=\"\",'1学期'!Z21=\"\"),\"\",Z$2&Z21+'1学期'!Z21&\"、\")","v":""},null,"発熱1、感染症のため8、"]
[{"$f":"IF(名簿!$A20=\"\",\"\",名簿!$A20)","v":1120},{"$f":"IFERROR(VLOOKUP($A22,名簿!$A:$C,3,0),\"\")","v":0},72,0,0,30,4,0,null,{"$f":"IF(AT22=\"\",IF(OR('1学期'!AA22=\"あり\",'2学期'!AA22=\"あり\"),\"特記事項なし\",\"皆勤\"),IF(AND('1学期'!AA22=\"\",'2学期'!AA22=\"\",COUNTBLANK(AI22:AQ22)=COUNTA($AI$2:$AQ$2)),\"皆勤、\"&LEFT(AT22,LEN(AT22)-1),LEFT(AT22,LEN(AT22)-1)))","v":"体調不良23、発熱9、頭痛2、腹痛2、自己都合16"},null,null,null,null,null,null,9,5,null,null,null,null,null,null,null,16,"あり",null,null,{"$f":"IF(AND(L22=\"\",'1学期'!L22=\"\"),\"\",L$2&L22+'1学期'!L22&\"、\")","v":""},{"$f":"IF(AND(M22=\"\",'1学期'!M22=\"\"),\"\",M$2&M22+'1学期'!M22&\"、\")","v":""},{"$f":"IF(AND(N22=\"\",'1学期'!N22=\"\"),\"\",N$2&N22+'1学期'!N22&\"、\")","v":""},{"$f":"IF(AND(O22=\"\",'1学期'!O22=\"\"),\"\",O$2&O22+'1学期'!O22&\"、\")","v":""},{"$f":"IF(AND(P22=\"\",'1学期'!P22=\"\"),\"\",P$2&P22+'1学期'!P22&\"、\")","v":""},{"$f":"IF(AND(Q22=\"\",'1学期'!Q22=\"\"),\"\",Q$2&Q22+'1学期'!Q22&\"、\")","v":"体調不良23、"},{"$f":"IF(AND(R22=\"\",'1学期'!R22=\"\"),\"\",R$2&R22+'1学期'!R22&\"、\")","v":"発熱9、"},{"$f":"IF(AND(S22=\"\",'1学期'!S22=\"\"),\"\",S$2&S22+'1学期'!S22&\"、\")","v":""},{"$f":"IF(AND(T22=\"\",'1学期'!T22=\"\"),\"\",T$2&T22+'1学期'!T22&\"、\")","v":"頭痛2、"},{"$f":"IF(AND(U22=\"\",'1学期'!U22=\"\"),\"\",U$2&U22+'1学期'!U22&\"、\")","v":"腹痛2、"},{"$f":"IF(AND(V22=\"\",'1学期'!V22=\"\"),\"\",V$2&V22+'1学期'!V22&\"、\")","v":""},{"$f":"IF(AND(W22=\"\",'1学期'!W22=\"\"),\"\",W$2&W22+'1学期'!W22&\"、\")","v":""},{"$f":"IF(AND(X22=\"\",'1学期'!X22=\"\"),\"\",X$2&X22+'1学期'!X22&\"、\")","v":""},{"$f":"IF(AND(Y22=\"\",'1学期'!Y22=\"\"),\"\",Y$2&Y22+'1学期'!Y22&\"、\")","v":""},{"$f":"IF(AND(Z22=\"\",'1学期'!Z22=\"\"),\"\",Z$2&Z22+'1学期'!Z22&\"、\")","v":"自己都合16、"},null,"体調不良23、発熱9、頭痛2、腹痛2、自己都合16、"]
[{"$f":"IF(名簿!$A21=\"\",\"\",名簿!$A21)","v":1121},{"$f":"IFERROR(VLOOKUP($A23,名簿!$A:$C,3,0),\"\")","v":0},72,0,0,12,1,0,null,{"$f":"IF(AT23=\"\",IF(OR('1学期'!AA23=\"あり\",'2学期'!AA23=\"あり\"),\"特記事項なし\",\"皆勤\"),IF(AND('1学期'!AA23=\"\",'2学期'!AA23=\"\",COUNTBLANK(AI23:AQ23)=COUNTA($AI$2:$AQ$2)),\"皆勤、\"&LEFT(AT23,LEN(AT23)-1),LEFT(AT23,LEN(AT23)-1)))","v":"体調不良13、腹痛1"},null,null,null,null,null,null,12,null,null,null,null,null,null,null,null,null,"あり",null,null,{"$f":"IF(AND(L23=\"\",'1学期'!L23=\"\"),\"\",L$2&L23+'1学期'!L23&\"、\")","v":""},{"$f":"IF(AND(M23=\"\",'1学期'!M23=\"\"),\"\",M$2&M23+'1学期'!M23&\"、\")","v":""},{"$f":"IF(AND(N23=\"\",'1学期'!N23=\"\"),\"\",N$2&N23+'1学期'!N23&\"、\")","v":""},{"$f":"IF(AND(O23=\"\",'1学期'!O23=\"\"),\"\",O$2&O23+'1学期'!O23&\"、\")","v":""},{"$f":"IF(AND(P23=\"\",'1学期'!P23=\"\"),\"\",P$2&P23+'1学期'!P23&\"、\")","v":""},{"$f":"IF(AND(Q23=\"\",'1学期'!Q23=\"\"),\"\",Q$2&Q23+'1学期'!Q23&\"、\")","v":"体調不良13、"},{"$f":"IF(AND(R23=\"\",'1学期'!R23=\"\"),\"\",R$2&R23+'1学期'!R23&\"、\")","v":""},{"$f":"IF(AND(S23=\"\",'1学期'!S23=\"\"),\"\",S$2&S23+'1学期'!S23&\"、\")","v":""},{"$f":"IF(AND(T23=\"\",'1学期'!T23=\"\"),\"\",T$2&T23+'1学期'!T23&\"、\")","v":""},{"$f":"IF(AND(U23=\"\",'1学期'!U23=\"\"),\"\",U$2&U23+'1学期'!U23&\"、\")","v":"腹痛1、"},{"$f":"IF(AND(V23=\"\",'1学期'!V23=\"\"),\"\",V$2&V23+'1学期'!V23&\"、\")","v":""},{"$f":"IF(AND(W23=\"\",'1学期'!W23=\"\"),\"\",W$2&W23+'1学期'!W23&\"、\")","v":""},{"$f":"IF(AND(X23=\"\",'1学期'!X23=\"\"),\"\",X$2&X23+'1学期'!X23&\"、\")","v":""},{"$f":"IF(AND(Y23=\"\",'1学期'!Y23=\"\"),\"\",Y$2&Y23+'1学期'!Y23&\"、\")","v":""},{"$f":"IF(AND(Z23=\"\",'1学期'!Z23=\"\"),\"\",Z$2&Z23+'1学期'!Z23&\"、\")","v":""},null,"体調不良13、腹痛1、"]
[{"$f":"IF(名簿!$A22=\"\",\"\",名簿!$A22)","v":1122},{"$f":"IFERROR(VLOOKUP($A24,名簿!$A:$C,3,0),\"\")","v":0},72,0,0,9,8,0,null,{"$f":"IF(AT24=\"\",IF(OR('1学期'!AA24=\"あり\",'2学期'!AA24=\"あり\"),\"特記事項なし\",\"皆勤\"),IF(AND('1学期'!AA24=\"\",'2学期'!AA24=\"\",COUNTBLANK(AI24:AQ24)=COUNTA($AI$2:$AQ$2)),\"皆勤、\"&LEFT(AT24,LEN(AT24)-1),LEFT(AT24,LEN(AT24)-1)))","v":"体調不良9、発熱1、家事都合2、感染症予防のため2"},null,null,null,null,null,null,7,null,null,null,null,null,null,null,2,null,"あり",null,null,{"$f":"IF(AND(L24=\"\",'1学期'!L24=\"\"),\"\",L$2&L24+'1学期'!L24&\"、\")","v":"感染症予防のため2、"},{"$f":"IF(AND(M24=\"\",'1学期'!M24=\"\"),\"\",M$2&M24+'1学期'!M24&\"、\")","v":""},{"$f":"IF(AND(N24=\"\",'1学期'!N24=\"\"),\"\",N$2&N24+'1学期'!N24&\"、\")","v":""},{"$f":"IF(AND(O24=\"\",'1学期'!O24=\"\"),\"\",O$2&O24+'1学期'!O24&\"、\")","v":""},{"$f":"IF(AND(P24=\"\",'1学期'!P24=\"\"),\"\",P$2&P24+'1学期'!P24&\"、\")","v":""},{"$f":"IF(AND(Q24=\"\",'1学期'!Q24=\"\"),\"\",Q$2&Q24+'1学期'!Q24&\"、\")","v":"体調不良9、"},{"$f":"IF(AND(R24=\"\",'1学期'!R24=\"\"),\"\",R$2&R24+'1学期'!R24&\"、\")","v":"発熱1、"},{"$f":"IF(AND(S24=\"\",'1学期'!S24=\"\"),\"\",S$2&S24+'1学期'!S24&\"、\")","v":""},{"$f":"IF(AND(T24=\"\",'1学期'!T24=\"\"),\"\",T$2&T24+'1学期'!T24&\"、\")","v":""},{"$f":"IF(AND(U24=\"\",'1学期'!U24=\"\"),\"\",U$2&U24+'1学期'!U24&\"、\")","v":""},{"$f":"IF(AND(V24=\"\",'1学期'!V24=\"\"),\"\",V$2&V24+'1学期'!V24&\"、\")","v":""},{"$f":"IF(AND(W24=\"\",'1学期'!W24=\"\"),\"\",W$2&W24+'1学期'!W24&\"、\")","v":""},{"$f":"IF(AND(X24=\"\",'1学期'!X24=\"\"),\"\",X$2&X24+'1学期'!X24&\"、\")","v":""},{"$f":"IF(AND(Y24=\"\",'1学期'!Y24=\"\"),\"\",Y$2&Y24+'1学期'!Y24&\"、\")","v":"家事都合2、"},{"$f":"IF(AND(Z24=\"\",'1学期'!Z24=\"\"),\"\",Z$2&Z24+'1学期'!Z24&\"、\")","v":""},null,"体調不良9、発熱1、家事都合2、感染症予防のため2、"]
[{"$f":"IF(名簿!$A23=\"\",\"\",名簿!$A23)","v":1123},{"$f":"IFERROR(VLOOKUP($A25,名簿!$A:$C,3,0),\"\")","v":0},72,0,0,0,0,0,null,{"$f":"IF(AT25=\"\",IF(OR('1学期'!AA25=\"あり\",'2学期'!AA25=\"あり\"),\"特記事項なし\",\"皆勤\"),IF(AND('1学期'!AA25=\"\",'2学期'!AA25=\"\",COUNTBLANK(AI25:AQ25)=COUNTA($AI$2:$AQ$2)),\"皆勤、\"&LEFT(AT25,LEN(AT25)-1),LEFT(AT25,LEN(AT25)-1)))","v":"皆勤"},null,null,null,null,null,null,null,null,null,null,null,null,null,null,null,null,null,null,null,{"$f":"IF(AND(L25=\"\",'1学期'!L25=\"\"),\"\",L$2&L25+'1学期'!L25&\"、\")","v":""},{"$f":"IF(AND(M25=\"\",'1学期'!M25=\"\"),\"\",M$2&M25+'1学期'!M25&\"、\")","v":""},{"$f":"IF(AND(N25=\"\",'1学期'!N25=\"\"),\"\",N$2&N25+'1学期'!N25&\"、\")","v":""},{"$f":"IF(AND(O25=\"\",'1学期'!O25=\"\"),\"\",O$2&O25+'1学期'!O25&\"、\")","v":""},{"$f":"IF(AND(P25=\"\",'1学期'!P25=\"\"),\"\",P$2&P25+'1学期'!P25&\"、\")","v":""},{"$f":"IF(AND(Q25=\"\",'1学期'!Q25=\"\"),\"\",Q$2&Q25+'1学期'!Q25&\"、\")","v":""},{"$f":"IF(AND(R25=\"\",'1学期'!R25=\"\"),\"\",R$2&R25+'1学期'!R25&\"、\")","v":""},{"$f":"IF(AND(S25=\"\",'1学期'!S25=\"\"),\"\",S$2&S25+'1学期'!S25&\"、\")","v":""},{"$f":"IF(AND(T25=\"\",'1学期'!T25=\"\"),\"\",T$2&T25+'1学期'!T25&\"、\")","v":""},{"$f":"IF(AND(U25=\"\",'1学期'!U25=\"\"),\"\",U$2&U25+'1学期'!U25&\"、\")","v":""},{"$f":"IF(AND(V25=\"\",'1学期'!V25=\"\"),\"\",V$2&V25+'1学期'!V25&\"、\")","v":""},{"$f":"IF(AND(W25=\"\",'1学期'!W25=\"\"),\"\",W$2&W25+'1学期'!W25&\"、\")","v":""},{"$f":"IF(AND(X25=\"\",'1学期'!X25=\"\"),\"\",X$2&X25+'1学期'!X25&\"、\")","v":""},{"$f":"IF(AND(Y25=\"\",'1学期'!Y25=\"\"),\"\",Y$2&Y25+'1学期'!Y25&\"、\")","v":""},{"$f":"IF(AND(Z25=\"\",'1学期'!Z25=\"\"),\"\",Z$2&Z25+'1学期'!Z25&\"、\")","v":""},null,""]
[{"$f":"IF(名簿!$A24=\"\",\"\",名簿!$A24)","v":1124},{"$f":"IFERROR(VLOOKUP($A26,名簿!$A:$C,3,0),\"\")","v":0},72,0,0,0,0,0,null,{"$f":"IF(AT26=\"\",IF(OR('1学期'!AA26=\"あり\",'2学期'!AA26=\"あり\"),\"特記事項なし\",\"皆勤\"),IF(AND('1学期'!AA26=\"\",'2学期'!AA26=\"\",COUNTBLANK(AI26:AQ26)=COUNTA($AI$2:$AQ$2)),\"皆勤、\"&LEFT(AT26,LEN(AT26)-1),LEFT(AT26,LEN(AT26)-1)))","v":"皆勤"},null,null,null,null,null,null,null,null,null,null,null,null,null,null,null,null,null,null,null,{"$f":"IF(AND(L26=\"\",'1学期'!L26=\"\"),\"\",L$2&L26+'1学期'!L26&\"、\")","v":""},{"$f":"IF(AND(M26=\"\",'1学期'!M26=\"\"),\"\",M$2&M26+'1学期'!M26&\"、\")","v":""},{"$f":"IF(AND(N26=\"\",'1学期'!N26=\"\"),\"\",N$2&N26+'1学期'!N26&\"、\")","v":""},{"$f":"IF(AND(O26=\"\",'1学期'!O26=\"\"),\"\",O$2&O26+'1学期'!O26&\"、\")","v":""},{"$f":"IF(AND(P26=\"\",'1学期'!P26=\"\"),\"\",P$2&P26+'1学期'!P26&\"、\")","v":""},{"$f":"IF(AND(Q26=\"\",'1学期'!Q26=\"\"),\"\",Q$2&Q26+'1学期'!Q26&\"、\")","v":""},{"$f":"IF(AND(R26=\"\",'1学期'!R26=\"\"),\"\",R$2&R26+'1学期'!R26&\"、\")","v":""},{"$f":"IF(AND(S26=\"\",'1学期'!S26=\"\"),\"\",S$2&S26+'1学期'!S26&\"、\")","v":""},{"$f":"IF(AND(T26=\"\",'1学期'!T26=\"\"),\"\",T$2&T26+'1学期'!T26&\"、\")","v":""},{"$f":"IF(AND(U26=\"\",'1学期'!U26=\"\"),\"\",U$2&U26+'1学期'!U26&\"、\")","v":""},{"$f":"IF(AND(V26=\"\",'1学期'!V26=\"\"),\"\",V$2&V26+'1学期'!V26&\"、\")","v":""},{"$f":"IF(AND(W26=\"\",'1学期'!W26=\"\"),\"\",W$2&W26+'1学期'!W26&\"、\")","v":""},{"$f":"IF(AND(X26=\"\",'1学期'!X26=\"\"),\"\",X$2&X26+'1学期'!X26&\"、\")","v":""},{"$f":"IF(AND(Y26=\"\",'1学期'!Y26=\"\"),\"\",Y$2&Y26+'1学期'!Y26&\"、\")","v":""},{"$f":"IF(AND(Z26=\"\",'1学期'!Z26=\"\"),\"\",Z$2&Z26+'1学期'!Z26&\"、\")","v":""},null,""]
[{"$f":"IF(名簿!$A25=\"\",\"\",名簿!$A25)","v":1125},{"$f":"IFERROR(VLOOKUP($A27,名簿!$A:$C,3,0),\"\")","v":0},72,0,0,2,3,0,null,{"$f":"IF(AT27=\"\",IF(OR('1学期'!AA27=\"あり\",'2学期'!AA27=\"あり\"),\"特記事項なし\",\"皆勤\"),IF(AND('1学期'!AA27=\"\",'2学期'!AA27=\"\",COUNTBLANK(AI27:AQ27)=COUNTA($AI$2:$AQ$2)),\"皆勤、\"&LEFT(AT27,LEN(AT27)-1),LEFT(AT27,LEN(AT27)-1)))","v":"体調不良2、感染症予防のため1"},null,1,null,null,null,null,1,null,null,null,null,null,null,null,null,null,"あり",null,null,{"$f":"IF(AND(L27=\"\",'1学期'!L27=\"\"),\"\",L$2&L27+'1学期'!L27&\"、\")","v":"感染症予防のため1、"},{"$f":"IF(AND(M27=\"\",'1学期'!M27=\"\"),\"\",M$2&M27+'1学期'!M27&\"、\")","v":""},{"$f":"IF(AND(N27=\"\",'1学期'!N27=\"\"),\"\",N$2&N27+'1学期'!N27&\"、\")","v":""},{"$f":"IF(AND(O27=\"\",'1学期'!O27=\"\"),\"\",O$2&O27+'1学期'!O27&\"、\")","v":""},{"$f":"IF(AND(P27=\"\",'1学期'!P27=\"\"),\"\",P$2&P27+'1学期'!P27&\"、\")","v":""},{"$f":"IF(AND(Q27=\"\",'1学期'!Q27=\"\"),\"\",Q$2&Q27+'1学期'!Q27&\"、\")","v":"体調不良2、"},{"$f":"IF(AND(R27=\"\",'1学期'!R27=\"\"),\"\",R$2&R27+'1学期'!R27&\"、\")","v":""},{"$f":"IF(AND(S27=\"\",'1学期'!S27=\"\"),\"\",S$2&S27+'1学期'!S27&\"、\")","v":""},{"$f":"IF(AND(T27=\"\",'1学期'!T27=\"\"),\"\",T$2&T27+'1学期'!T27&\"、\")","v":""},{"$f":"IF(AND(U27=\"\",'1学期'!U27=\"\"),\"\",U$2&U27+'1学期'!U27&\"、\")","v":""},{"$f":"IF(AND(V27=\"\",'1学期'!V27=\"\"),\"\",V$2&V27+'1学期'!V27&\"、\")","v":""},{"$f":"IF(AND(W27=\"\",'1学期'!W27=\"\"),\"\",W$2&W27+'1学期'!W27&\"、\")","v":""},{"$f":"IF(AND(X27=\"\",'1学期'!X27=\"\"),\"\",X$2&X27+'1学期'!X27&\"、\")","v":""},{"$f":"IF(AND(Y27=\"\",'1学期'!Y27=\"\"),\"\",Y$2&Y27+'1学期'!Y27&\"、\")","v":""},{"$f":"IF(AND(Z27=\"\",'1学期'!Z27=\"\"),\"\",Z$2&Z27+'1学期'!Z27&\"、\")","v":""},null,"体調不良2、感染症予防のため1、"]
[{"$f":"IF(名簿!$A26=\"\",\"\",名簿!$A26)","v":1126},{"$f":"IFERROR(VLOOKUP($A28,名簿!$A:$C,3,0),\"\")","v":0},72,0,0,0,0,0,null,{"$f":"IF(AT28=\"\",IF(OR('1学期'!AA28=\"あり\",'2学期'!AA28=\"あり\"),\"特記事項なし\",\"皆勤\"),IF(AND('1学期'!AA28=\"\",'2学期'!AA28=\"\",COUNTBLANK(AI28:AQ28)=COUNTA($AI$2:$AQ$2)),\"皆勤、\"&LEFT(AT28,LEN(AT28)-1),LEFT(AT28,LEN(AT28)-1)))","v":"体調不良43"},null,null,null,null,null,null,11,null,null,null,null,null,null,null,null,null,null,null,null,{"$f":"IF(AND(L28=\"\",'1学期'!L28=\"\"),\"\",L$2&L28+'1学期'!L28&\"、\")","v":""},{"$f":"IF(AND(M28=\"\",'1学期'!M28=\"\"),\"\",M$2&M28+'1学期'!M28&\"、\")","v":""},{"$f":"IF(AND(N28=\"\",'1学期'!N28=\"\"),\"\",N$2&N28+'1学期'!N28&\"、\")","v":""},{"$f":"IF(AND(O28=\"\",'1学期'!O28=\"\"),\"\",O$2&O28+'1学期'!O28&\"、\")","v":""},{"$f":"IF(AND(P28=\"\",'1学期'!P28=\"\"),\"\",P$2&P28+'1学期'!P28&\"、\")","v":""},{"$f":"IF(AND(Q28=\"\",'1学期'!Q28=\"\"),\"\",Q$2&Q28+'1学期'!Q28&\"、\")","v":"体調不良43、"},{"$f":"IF(AND(R28=\"\",'1学期'!R28=\"\"),\"\",R$2&R28+'1学期'!R28&\"、\")","v":""},{"$f":"IF(AND(S28=\"\",'1学期'!S28=\"\"),\"\",S$2&S28+'1学期'!S28&\"、\")","v":""},{"$f":"IF(AND(T28=\"\",'1学期'!T28=\"\"),\"\",T$2&T28+'1学期'!T28&\"、\")","v":""},{"$f":"IF(AND(U28=\"\",'1学期'!U28=\"\"),\"\",U$2&U28+'1学期'!U28&\"、\")","v":""},{"$f":"IF(AND(V28=\"\",'1学期'!V28=\"\"),\"\",V$2&V28+'1学期'!V28&\"、\")","v":""},{"$f":"IF(AND(W28=\"\",'1学期'!W28=\"\"),\"\",W$2&W28+'1学期'!W28&\"、\")","v":""},{"$f":"IF(AND(X28=\"\",'1学期'!X28=\"\"),\"\",X$2&X28+'1学期'!X28&\"、\")","v":""},{"$f":"IF(AND(Y28=\"\",'1学期'!Y28=\"\"),\"\",Y$2&Y28+'1学期'!Y28&\"、\")","v":""},{"$f":"IF(AND(Z28=\"\",'1学期'!Z28=\"\"),\"\",Z$2&Z28+'1学期'!Z28&\"、\")","v":""},null,"体調不良43、"]
[{"$f":"IF(名簿!$A27=\"\",\"\",名簿!$A27)","v":1127},{"$f":"IFERROR(VLOOKUP($A29,名簿!$A:$C,3,0),\"\")","v":0},72,0,0,17,4,0,null,{"$f":"IF(AT29=\"\",IF(OR('1学期'!AA29=\"あり\",'2学期'!AA29=\"あり\"),\"特記事項なし\",\"皆勤\"),IF(AND('1学期'!AA29=\"\",'2学期'!AA29=\"\",COUNTBLANK(AI29:AQ29)=COUNTA($AI$2:$AQ$2)),\"皆勤、\"&LEFT(AT29,LEN(AT29)-1),LEFT(AT29,LEN(AT29)-1)))","v":"体調不良24、発熱1"},null,null,null,null,null,null,17,null,null,null,null,null,null,null,null,null,"あり",null,null,{"$f":"IF(AND(L29=\"\",'1学期'!L29=\"\"),\"\",L$2&L29+'1学期'!L29&\"、\")","v":""},{"$f":"IF(AND(M29=\"\",'1学期'!M29=\"\"),\"\",M$2&M29+'1学期'!M29&\"、\")","v":""},{"$f":"IF(AND(N29=\"\",'1学期'!N29=\"\"),\"\",N$2&N29+'1学期'!N29&\"、\")","v":""},{"$f":"IF(AND(O29=\"\",'1学期'!O29=\"\"),\"\",O$2&O29+'1学期'!O29&\"、\")","v":""},{"$f":"IF(AND(P29=\"\",'1学期'!P29=\"\"),\"\",P$2&P29+'1学期'!P29&\"、\")","v":""},{"$f":"IF(AND(Q29=\"\",'1学期'!Q29=\"\"),\"\",Q$2&Q29+'1学期'!Q29&\"、\")","v":"体調不良24、"},{"$f":"IF(AND(R29=\"\",'1学期'!R29=\"\"),\"\",R$2&R29+'1学期'!R29&\"、\")","v":"発熱1、"},{"$f":"IF(AND(S29=\"\",'1学期'!S29=\"\"),\"\",S$2&S29+'1学期'!S29&\"、\")","v":""},{"$f":"IF(AND(T29=\"\",'1学期'!T29=\"\"),\"\",T$2&T29+'1学期'!T29&\"、\")","v":""},{"$f":"IF(AND(U29=\"\",'1学期'!U29=\"\"),\"\",U$2&U29+'1学期'!U29&\"、\")","v":""},{"$f":"IF(AND(V29=\"\",'1学期'!V29=\"\"),\"\",V$2&V29+'1学期'!V29&\"、\")","v":""},{"$f":"IF(AND(W29=\"\",'1学期'!W29=\"\"),\"\",W$2&W29+'1学期'!W29&\"、\")","v":""},{"$f":"IF(AND(X29=\"\",'1学期'!X29=\"\"),\"\",X$2&X29+'1学期'!X29&\"、\")","v":""},{"$f":"IF(AND(Y29=\"\",'1学期'!Y29=\"\"),\"\",Y$2&Y29+'1学期'!Y29&\"、\")","v":""},{"$f":"IF(AND(Z29=\"\",'1学期'!Z29=\"\"),\"\",Z$2&Z29+'1学期'!Z29&\"、\")","v":""},null,"体調不良24、発熱1、"]
[{"$f":"IF(名簿!$A28=\"\",\"\",名簿!$A28)","v":1128},{"$f":"IFERROR(VLOOKUP($A30,名簿!$A:$C,3,0),\"\")","v":0},72,0,0,0,0,0,null,{"$f":"IF(AT30=\"\",IF(OR('1学期'!AA30=\"あり\",'2学期'!AA30=\"あり\"),\"特記事項なし\",\"皆勤\"),IF(AND('1学期'!AA30=\"\",'2学期'!AA30=\"\",COUNTBLANK(AI30:AQ30)=COUNTA($AI$2:$AQ$2)),\"皆勤、\"&LEFT(AT30,LEN(AT30)-1),LEFT(AT30,LEN(AT30)-1)))","v":"頭痛2"},null,null,null,null,null,null,null,null,null,null,null,null,null,null,null,null,null,null,null,{"$f":"IF(AND(L30=\"\",'1学期'!L30=\"\"),\"\",L$2&L30+'1学期'!L30&\"、\")","v":""},{"$f":"IF(AND(M30=\"\",'1学期'!M30=\"\"),\"\",M$2&M30+'1学期'!M30&\"、\")","v":""},{"$f":"IF(AND(N30=\"\",'1学期'!N30=\"\"),\"\",N$2&N30+'1学期'!N30&\"、\")","v":""},{"$f":"IF(AND(O30=\"\",'1学期'!O30=\"\"),\"\",O$2&O30+'1学期'!O30&\"、\")","v":""},{"$f":"IF(AND(P30=\"\",'1学期'!P30=\"\"),\"\",P$2&P30+'1学期'!P30&\"、\")","v":""},{"$f":"IF(AND(Q30=\"\",'1学期'!Q30=\"\"),\"\",Q$2&Q30+'1学期'!Q30&\"、\")","v":""},{"$f":"IF(AND(R30=\"\",'1学期'!R30=\"\"),\"\",R$2&R30+'1学期'!R30&\"、\")","v":""},{"$f":"IF(AND(S30=\"\",'1学期'!S30=\"\"),\"\",S$2&S30+'1学期'!S30&\"、\")","v":""},{"$f":"IF(AND(T30=\"\",'1学期'!T30=\"\"),\"\",T$2&T30+'1学期'!T30&\"、\")","v":"頭痛2、"},{"$f":"IF(AND(U30=\"\",'1学期'!U30=\"\"),\"\",U$2&U30+'1学期'!U30&\"、\")","v":""},{"$f":"IF(AND(V30=\"\",'1学期'!V30=\"\"),\"\",V$2&V30+'1学期'!V30&\"、\")","v":""},{"$f":"IF(AND(W30=\"\",'1学期'!W30=\"\"),\"\",W$2&W30+'1学期'!W30&\"、\")","v":""},{"$f":"IF(AND(X30=\"\",'1学期'!X30=\"\"),\"\",X$2&X30+'1学期'!X30&\"、\")","v":""},{"$f":"IF(AND(Y30=\"\",'1学期'!Y30=\"\"),\"\",Y$2&Y30+'1学期'!Y30&\"、\")","v":""},{"$f":"IF(AND(Z30=\"\",'1学期'!Z30=\"\"),\"\",Z$2&Z30+'1学期'!Z30&\"、\")","v":""},null,"頭痛2、"]
[{"$f":"IF(名簿!$A29=\"\",\"\",名簿!$A29)","v":1129},{"$f":"IFERROR(VLOOKUP($A31,名簿!$A:$C,3,0),\"\")","v":0},72,0,0,1,0,0,null,{"$f":"IF(AT31=\"\",IF(OR('1学期'!AA31=\"あり\",'2学期'!AA31=\"あり\"),\"特記事項なし\",\"皆勤\"),IF(AND('1学期'!AA31=\"\",'2学期'!AA31=\"\",COUNTBLANK(AI31:AQ31)=COUNTA($AI$2:$AQ$2)),\"皆勤、\"&LEFT(AT31,LEN(AT31)-1),LEFT(AT31,LEN(AT31)-1)))","v":"頭痛1"},null,null,null,null,null,null,null,null,null,1,null,null,null,null,null,null,null,null,null,{"$f":"IF(AND(L31=\"\",'1学期'!L31=\"\"),\"\",L$2&L31+'1学期'!L31&\"、\")","v":""},{"$f":"IF(AND(M31=\"\",'1学期'!M31=\"\"),\"\",M$2&M31+'1学期'!M31&\"、\")","v":""},{"$f":"IF(AND(N31=\"\",'1学期'!N31=\"\"),\"\",N$2&N31+'1学期'!N31&\"、\")","v":""},{"$f":"IF(AND(O31=\"\",'1学期'!O31=\"\"),\"\",O$2&O31+'1学期'!O31&\"、\")","v":""},{"$f":"IF(AND(P31=\"\",'1学期'!P31=\"\"),\"\",P$2&P31+'1学期'!P31&\"、\")","v":""},{"$f":"IF(AND(Q31=\"\",'1学期'!Q31=\"\"),\"\",Q$2&Q31+'1学期'!Q31&\"、\")","v":""},{"$f":"IF(AND(R31=\"\",'1学期'!R31=\"\"),\"\",R$2&R31+'1学期'!R31&\"、\")","v":""},{"$f":"IF(AND(S31=\"\",'1学期'!S31=\"\"),\"\",S$2&S31+'1学期'!S31&\"、\")","v":""},{"$f":"IF(AND(T31=\"\",'1学期'!T31=\"\"),\"\",T$2&T31+'1学期'!T31&\"、\")","v":"頭痛1、"},{"$f":"IF(AND(U31=\"\",'1学期'!U31=\"\"),\"\",U$2&U31+'1学期'!U31&\"、\")","v":""},{"$f":"IF(AND(V31=\"\",'1学期'!V31=\"\"),\"\",V$2&V31+'1学期'!V31&\"、\")","v":""},{"$f":"IF(AND(W31=\"\",'1学期'!W31=\"\"),\"\",W$2&W31+'1学期'!W31&\"、\")","v":""},{"$f":"IF(AND(X31=\"\",'1学期'!X31=\"\"),\"\",X$2&X31+'1学期'!X31&\"、\")","v":""},{"$f":"IF(AND(Y31=\"\",'1学期'!Y31=\"\"),\"\",Y$2&Y31+'1学期'!Y31&\"、\")","v":""},{"$f":"IF(AND(Z31=\"\",'1学期'!Z31=\"\"),\"\",Z$2&Z31+'1学期'!Z31&\"、\")","v":""},null,"頭痛1、"]
[{"$f":"IF(名簿!$A30=\"\",\"\",名簿!$A30)","v":1130},{"$f":"IFERROR(VLOOKUP($A32,名簿!$A:$C,3,0),\"\")","v":0},72,0,0,0,0,0,null,{"$f":"IF(AT32=\"\",IF(OR('1学期'!AA32=\"あり\",'2学期'!AA32=\"あり\"),\"特記事項なし\",\"皆勤\"),IF(AND('1学期'!AA32=\"\",'2学期'!AA32=\"\",COUNTBLANK(AI32:AQ32)=COUNTA($AI$2:$AQ$2)),\"皆勤、\"&LEFT(AT32,LEN(AT32)-1),LEFT(AT32,LEN(AT32)-1)))","v":"皆勤"},null,null,null,null,null,null,null,null,null,null,null,null,null,null,null,null,null,null,null,{"$f":"IF(AND(L32=\"\",'1学期'!L32=\"\"),\"\",L$2&L32+'1学期'!L32&\"、\")","v":""},{"$f":"IF(AND(M32=\"\",'1学期'!M32=\"\"),\"\",M$2&M32+'1学期'!M32&\"、\")","v":""},{"$f":"IF(AND(N32=\"\",'1学期'!N32=\"\"),\"\",N$2&N32+'1学期'!N32&\"、\")","v":""},{"$f":"IF(AND(O32=\"\",'1学期'!O32=\"\"),\"\",O$2&O32+'1学期'!O32&\"、\")","v":""},{"$f":"IF(AND(P32=\"\",'1学期'!P32=\"\"),\"\",P$2&P32+'1学期'!P32&\"、\")","v":""},{"$f":"IF(AND(Q32=\"\",'1学期'!Q32=\"\"),\"\",Q$2&Q32+'1学期'!Q32&\"、\")","v":""},{"$f":"IF(AND(R32=\"\",'1学期'!R32=\"\"),\"\",R$2&R32+'1学期'!R32&\"、\")","v":""},{"$f":"IF(AND(S32=\"\",'1学期'!S32=\"\"),\"\",S$2&S32+'1学期'!S32&\"、\")","v":""},{"$f":"IF(AND(T32=\"\",'1学期'!T32=\"\"),\"\",T$2&T32+'1学期'!T32&\"、\")","v":""},{"$f":"IF(AND(U32=\"\",'1学期'!U32=\"\"),\"\",U$2&U32+'1学期'!U32&\"、\")","v":""},{"$f":"IF(AND(V32=\"\",'1学期'!V32=\"\"),\"\",V$2&V32+'1学期'!V32&\"、\")","v":""},{"$f":"IF(AND(W32=\"\",'1学期'!W32=\"\"),\"\",W$2&W32+'1学期'!W32&\"、\")","v":""},{"$f":"IF(AND(X32=\"\",'1学期'!X32=\"\"),\"\",X$2&X32+'1学期'!X32&\"、\")","v":""},{"$f":"IF(AND(Y32=\"\",'1学期'!Y32=\"\"),\"\",Y$2&Y32+'1学期'!Y32&\"、\")","v":""},{"$f":"IF(AND(Z32=\"\",'1学期'!Z32=\"\"),\"\",Z$2&Z32+'1学期'!Z32&\"、\")","v":""},null,""]
[{"$f":"IF(名簿!$A31=\"\",\"\",名簿!$A31)","v":1131},{"$f":"IFERROR(VLOOKUP($A33,名簿!$A:$C,3,0),\"\")","v":0},72,0,0,1,4,0,null,{"$f":"IF(AT33=\"\",IF(OR('1学期'!AA33=\"あり\",'2学期'!AA33=\"あり\"),\"特記事項なし\",\"皆勤\"),IF(AND('1学期'!AA33=\"\",'2学期'!AA33=\"\",COUNTBLANK(AI33:AQ33)=COUNTA($AI$2:$AQ$2)),\"皆勤、\"&LEFT(AT33,LEN(AT33)-1),LEFT(AT33,LEN(AT33)-1)))","v":"頭痛1、感染症予防のため2"},null,null,null,null,null,null,null,null,null,1,null,null,null,null,null,null,"あり",null,null,{"$f":"IF(AND(L33=\"\",'1学期'!L33=\"\"),\"\",L$2&L33+'1学期'!L33&\"、\")","v":"感染症予防のため2、"},{"$f":"IF(AND(M33=\"\",'1学期'!M33=\"\"),\"\",M$2&M33+'1学期'!M33&\"、\")","v":""},{"$f":"IF(AND(N33=\"\",'1学期'!N33=\"\"),\"\",N$2&N33+'1学期'!N33&\"、\")","v":""},{"$f":"IF(AND(O33=\"\",'1学期'!O33=\"\"),\"\",O$2&O33+'1学期'!O33&\"、\")","v":""},{"$f":"IF(AND(P33=\"\",'1学期'!P33=\"\"),\"\",P$2&P33+'1学期'!P33&\"、\")","v":""},{"$f":"IF(AND(Q33=\"\",'1学期'!Q33=\"\"),\"\",Q$2&Q33+'1学期'!Q33&\"、\")","v":""},{"$f":"IF(AND(R33=\"\",'1学期'!R33=\"\"),\"\",R$2&R33+'1学期'!R33&\"、\")","v":""},{"$f":"IF(AND(S33=\"\",'1学期'!S33=\"\"),\"\",S$2&S33+'1学期'!S33&\"、\")","v":""},{"$f":"IF(AND(T33=\"\",'1学期'!T33=\"\"),\"\",T$2&T33+'1学期'!T33&\"、\")","v":"頭痛1、"},{"$f":"IF(AND(U33=\"\",'1学期'!U33=\"\"),\"\",U$2&U33+'1学期'!U33&\"、\")","v":""},{"$f":"IF(AND(V33=\"\",'1学期'!V33=\"\"),\"\",V$2&V33+'1学期'!V33&\"、\")","v":""},{"$f":"IF(AND(W33=\"\",'1学期'!W33=\"\"),\"\",W$2&W33+'1学期'!W33&\"、\")","v":""},{"$f":"IF(AND(X33=\"\",'1学期'!X33=\"\"),\"\",X$2&X33+'1学期'!X33&\"、\")","v":""},{"$f":"IF(AND(Y33=\"\",'1学期'!Y33=\"\"),\"\",Y$2&Y33+'1学期'!Y33&\"、\")","v":""},{"$f":"IF(AND(Z33=\"\",'1学期'!Z33=\"\"),\"\",Z$2&Z33+'1学期'!Z33&\"、\")","v":""},null,"頭痛1、感染症予防のため2、"]
[{"$f":"IF(名簿!$A32=\"\",\"\",名簿!$A32)","v":1132},{"$f":"IFERROR(VLOOKUP($A34,名簿!$A:$C,3,0),\"\")","v":0},72,2,0,0,0,0,null,{"$f":"IF(AT34=\"\",IF(OR('1学期'!AA34=\"あり\",'2学期'!AA34=\"あり\"),\"特記事項なし\",\"皆勤\"),IF(AND('1学期'!AA34=\"\",'2学期'!AA34=\"\",COUNTBLANK(AI34:AQ34)=COUNTA($AI$2:$AQ$2)),\"皆勤、\"&LEFT(AT34,LEN(AT34)-1),LEFT(AT34,LEN(AT34)-1)))","v":"皆勤、感染症予防のため1、入試1"},null,1,null,null,null,1,null,null,null,null,null,null,null,null,null,null,null,null,null,{"$f":"IF(AND(L34=\"\",'1学期'!L34=\"\"),\"\",L$2&L34+'1学期'!L34&\"、\")","v":"感染症予防のため1、"},{"$f":"IF(AND(M34=\"\",'1学期'!M34=\"\"),\"\",M$2&M34+'1学期'!M34&\"、\")","v":""},{"$f":"IF(AND(N34=\"\",'1学期'!N34=\"\"),\"\",N$2&N34+'1学期'!N34&\"、\")","v":""},{"$f":"IF(AND(O34=\"\",'1学期'!O34=\"\"),\"\",O$2&O34+'1学期'!O34&\"、\")","v":""},{"$f":"IF(AND(P34=\"\",'1学期'!P34=\"\"),\"\",P$2&P34+'1学期'!P34&\"、\")","v":"入試1、"},{"$f":"IF(AND(Q34=\"\",'1学期'!Q34=\"\"),\"\",Q$2&Q34+'1学期'!Q34&\"、\")","v":""},{"$f":"IF(AND(R34=\"\",'1学期'!R34=\"\"),\"\",R$2&R34+'1学期'!R34&\"、\")","v":""},{"$f":"IF(AND(S34=\"\",'1学期'!S34=\"\"),\"\",S$2&S34+'1学期'!S34&\"、\")","v":""},{"$f":"IF(AND(T34=\"\",'1学期'!T34=\"\"),\"\",T$2&T34+'1学期'!T34&\"、\")","v":""},{"$f":"IF(AND(U34=\"\",'1学期'!U34=\"\"),\"\",U$2&U34+'1学期'!U34&\"、\")","v":""},{"$f":"IF(AND(V34=\"\",'1学期'!V34=\"\"),\"\",V$2&V34+'1学期'!V34&\"、\")","v":""},{"$f":"IF(AND(W34=\"\",'1学期'!W34=\"\"),\"\",W$2&W34+'1学期'!W34&\"、\")","v":""},{"$f":"IF(AND(X34=\"\",'1学期'!X34=\"\"),\"\",X$2&X34+'1学期'!X34&\"、\")","v":""},{"$f":"IF(AND(Y34=\"\",'1学期'!Y34=\"\"),\"\",Y$2&Y34+'1学期'!Y34&\"、\")","v":""},{"$f":"IF(AND(Z34=\"\",'1学期'!Z34=\"\"),\"\",Z$2&Z34+'1学期'!Z34&\"、\")","v":""},null,"感染症予防のため1、入試1、"]
[{"$f":"IF(名簿!$A33=\"\",\"\",名簿!$A33)","v":1133},{"$f":"IFERROR(VLOOKUP($A35,名簿!$A:$C,3,0),\"\")","v":0},72,0,0,0,1,0,null,{"$f":"IF(AT35=\"\",IF(OR('1学期'!AA35=\"あり\",'2学期'!AA35=\"あり\"),\"特記事項なし\",\"皆勤\"),IF(AND('1学期'!AA35=\"\",'2学期'!AA35=\"\",COUNTBLANK(AI35:AQ35)=COUNTA($AI$2:$AQ$2)),\"皆勤、\"&LEFT(AT35,LEN(AT35)-1),LEFT(AT35,LEN(AT35)-1)))","v":"感染症予防のため7"},null,null,null,null,null,null,null,null,null,null,null,null,null,null,null,null,"あり",null,null,{"$f":"IF(AND(L35=\"\",'1学期'!L35=\"\"),\"\",L$2&L35+'1学期'!L35&\"、\")","v":"感染症予防のため7、"},{"$f":"IF(AND(M35=\"\",'1学期'!M35=\"\"),\"\",M$2&M35+'1学期'!M35&\"、\")","v":""},{"$f":"IF(AND(N35=\"\",'1学期'!N35=\"\"),\"\",N$2&N35+'1学期'!N35&\"、\")","v":""},{"$f":"IF(AND(O35=\"\",'1学期'!O35=\"\"),\"\",O$2&O35+'1学期'!O35&\"、\")","v":""},{"$f":"IF(AND(P35=\"\",'1学期'!P35=\"\"),\"\",P$2&P35+'1学期'!P35&\"、\")","v":""},{"$f":"IF(AND(Q35=\"\",'1学期'!Q35=\"\"),\"\",Q$2&Q35+'1学期'!Q35&\"、\")","v":""},{"$f":"IF(AND(R35=\"\",'1学期'!R35=\"\"),\"\",R$2&R35+'1学期'!R35&\"、\")","v":""},{"$f":"IF(AND(S35=\"\",'1学期'!S35=\"\"),\"\",S$2&S35+'1学期'!S35&\"、\")","v":""},{"$f":"IF(AND(T35=\"\",'1学期'!T35=\"\"),\"\",T$2&T35+'1学期'!T35&\"、\")","v":""},{"$f":"IF(AND(U35=\"\",'1学期'!U35=\"\"),\"\",U$2&U35+'1学期'!U35&\"、\")","v":""},{"$f":"IF(AND(V35=\"\",'1学期'!V35=\"\"),\"\",V$2&V35+'1学期'!V35&\"、\")","v":""},{"$f":"IF(AND(W35=\"\",'1学期'!W35=\"\"),\"\",W$2&W35+'1学期'!W35&\"、\")","v":""},{"$f":"IF(AND(X35=\"\",'1学期'!X35=\"\"),\"\",X$2&X35+'1学期'!X35&\"、\")","v":""},{"$f":"IF(AND(Y35=\"\",'1学期'!Y35=\"\"),\"\",Y$2&Y35+'1学期'!Y35&\"、\")","v":""},{"$f":"IF(AND(Z35=\"\",'1学期'!Z35=\"\"),\"\",Z$2&Z35+'1学期'!Z35&\"、\")","v":""},null,"感染症予防のため7、"]
[{"$f":"IF(名簿!$A34=\"\",\"\",名簿!$A34)","v":1134},{"$f":"IFERROR(VLOOKUP($A36,名簿!$A:$C,3,0),\"\")","v":0},72,0,0,0,0,0,null,{"$f":"IF(AT36=\"\",IF(OR('1学期'!AA36=\"あり\",'2学期'!AA36=\"あり\"),\"特記事項なし\",\"皆勤\"),IF(AND('1学期'!AA36=\"\",'2学期'!AA36=\"\",COUNTBLANK(AI36:AQ36)=COUNTA($AI$2:$AQ$2)),\"皆勤、\"&LEFT(AT36,LEN(AT36)-1),LEFT(AT36,LEN(AT36)-1)))","v":"皆勤"},null,null,null,null,null,null,null,null,null,null,null,null,null,null,null,null,null,null,null,{"$f":"IF(AND(L36=\"\",'1学期'!L36=\"\"),\"\",L$2&L36+'1学期'!L36&\"、\")","v":""},{"$f":"IF(AND(M36=\"\",'1学期'!M36=\"\"),\"\",M$2&M36+'1学期'!M36&\"、\")","v":""},{"$f":"IF(AND(N36=\"\",'1学期'!N36=\"\"),\"\",N$2&N36+'1学期'!N36&\"、\")","v":""},{"$f":"IF(AND(O36=\"\",'1学期'!O36=\"\"),\"\",O$2&O36+'1学期'!O36&\"、\")","v":""},{"$f":"IF(AND(P36=\"\",'1学期'!P36=\"\"),\"\",P$2&P36+'1学期'!P36&\"、\")","v":""},{"$f":"IF(AND(Q36=\"\",'1学期'!Q36=\"\"),\"\",Q$2&Q36+'1学期'!Q36&\"、\")","v":""},{"$f":"IF(AND(R36=\"\",'1学期'!R36=\"\"),\"\",R$2&R36+'1学期'!R36&\"、\")","v":""},{"$f":"IF(AND(S36=\"\",'1学期'!S36=\"\"),\"\",S$2&S36+'1学期'!S36&\"、\")","v":""},{"$f":"IF(AND(T36=\"\",'1学期'!T36=\"\"),\"\",T$2&T36+'1学期'!T36&\"、\")","v":""},{"$f":"IF(AND(U36=\"\",'1学期'!U36=\"\"),\"\",U$2&U36+'1学期'!U36&\"、\")","v":""},{"$f":"IF(AND(V36=\"\",'1学期'!V36=\"\"),\"\",V$2&V36+'1学期'!V36&\"、\")","v":""},{"$f":"IF(AND(W36=\"\",'1学期'!W36=\"\"),\"\",W$2&W36+'1学期'!W36&\"、\")","v":""},{"$f":"IF(AND(X36=\"\",'1学期'!X36=\"\"),\"\",X$2&X36+'1学期'!X36&\"、\")","v":""},{"$f":"IF(AND(Y36=\"\",'1学期'!Y36=\"\"),\"\",Y$2&Y36+'1学期'!Y36&\"、\")","v":""},{"$f":"IF(AND(Z36=\"\",'1学期'!Z36=\"\"),\"\",Z$2&Z36+'1学期'!Z36&\"、\")","v":""},null,""]
[{"$f":"IF(名簿!$A35=\"\",\"\",名簿!$A35)","v":1135},{"$f":"IFERROR(VLOOKUP($A37,名簿!$A:$C,3,0),\"\")","v":0},72,0,0,3,0,0,null,{"$f":"IF(AT37=\"\",IF(OR('1学期'!AA37=\"あり\",'2学期'!AA37=\"あり\"),\"特記事項なし\",\"皆勤\"),IF(AND('1学期'!AA37=\"\",'2学期'!AA37=\"\",COUNTBLANK(AI37:AQ37)=COUNTA($AI$2:$AQ$2)),\"皆勤、\"&LEFT(AT37,LEN(AT37)-1),LEFT(AT37,LEN(AT37)-1)))","v":"体調不良3、腹痛1"},null,null,null,null,null,null,2,null,null,null,1,null,null,null,null,null,null,null,null,{"$f":"IF(AND(L37=\"\",'1学期'!L37=\"\"),\"\",L$2&L37+'1学期'!L37&\"、\")","v":""},{"$f":"IF(AND(M37=\"\",'1学期'!M37=\"\"),\"\",M$2&M37+'1学期'!M37&\"、\")","v":""},{"$f":"IF(AND(N37=\"\",'1学期'!N37=\"\"),\"\",N$2&N37+'1学期'!N37&\"、\")","v":""},{"$f":"IF(AND(O37=\"\",'1学期'!O37=\"\"),\"\",O$2&O37+'1学期'!O37&\"、\")","v":""},{"$f":"IF(AND(P37=\"\",'1学期'!P37=\"\"),\"\",P$2&P37+'1学期'!P37&\"、\")","v":""},{"$f":"IF(AND(Q37=\"\",'1学期'!Q37=\"\"),\"\",Q$2&Q37+'1学期'!Q37&\"、\")","v":"体調不良3、"},{"$f":"IF(AND(R37=\"\",'1学期'!R37=\"\"),\"\",R$2&R37+'1学期'!R37&\"、\")","v":""},{"$f":"IF(AND(S37=\"\",'1学期'!S37=\"\"),\"\",S$2&S37+'1学期'!S37&\"、\")","v":""},{"$f":"IF(AND(T37=\"\",'1学期'!T37=\"\"),\"\",T$2&T37+'1学期'!T37&\"、\")","v":""},{"$f":"IF(AND(U37=\"\",'1学期'!U37=\"\"),\"\",U$2&U37+'1学期'!U37&\"、\")","v":"腹痛1、"},{"$f":"IF(AND(V37=\"\",'1学期'!V37=\"\"),\"\",V$2&V37+'1学期'!V37&\"、\")","v":""},{"$f":"IF(AND(W37=\"\",'1学期'!W37=\"\"),\"\",W$2&W37+'1学期'!W37&\"、\")","v":""},{"$f":"IF(AND(X37=\"\",'1学期'!X37=\"\"),\"\",X$2&X37+'1学期'!X37&\"、\")","v":""},{"$f":"IF(AND(Y37=\"\",'1学期'!Y37=\"\"),\"\",Y$2&Y37+'1学期'!Y37&\"、\")","v":""},{"$f":"IF(AND(Z37=\"\",'1学期'!Z37=\"\"),\"\",Z$2&Z37+'1学期'!Z37&\"、\")","v":""},null,"体調不良3、腹痛1、"]
[{"$f":"IF(名簿!$A36=\"\",\"\",名簿!$A36)","v":1136},{"$f":"IFERROR(VLOOKUP($A38,名簿!$A:$C,3,0),\"\")","v":0},72,0,0,0,0,0,null,{"$f":"IF(AT38=\"\",IF(OR('1学期'!AA38=\"あり\",'2学期'!AA38=\"あり\"),\"特記事項なし\",\"皆勤\"),IF(AND('1学期'!AA38=\"\",'2学期'!AA38=\"\",COUNTBLANK(AI38:AQ38)=COUNTA($AI$2:$AQ$2)),\"皆勤、\"&LEFT(AT38,LEN(AT38)-1),LEFT(AT38,LEN(AT38)-1)))","v":"皆勤"},null,null,null,null,null,null,null,null,null,null,null,null,null,null,null,null,null,null,null,{"$f":"IF(AND(L38=\"\",'1学期'!L38=\"\"),\"\",L$2&L38+'1学期'!L38&\"、\")","v":""},{"$f":"IF(AND(M38=\"\",'1学期'!M38=\"\"),\"\",M$2&M38+'1学期'!M38&\"、\")","v":""},{"$f":"IF(AND(N38=\"\",'1学期'!N38=\"\"),\"\",N$2&N38+'1学期'!N38&\"、\")","v":""},{"$f":"IF(AND(O38=\"\",'1学期'!O38=\"\"),\"\",O$2&O38+'1学期'!O38&\"、\")","v":""},{"$f":"IF(AND(P38=\"\",'1学期'!P38=\"\"),\"\",P$2&P38+'1学期'!P38&\"、\")","v":""},{"$f":"IF(AND(Q38=\"\",'1学期'!Q38=\"\"),\"\",Q$2&Q38+'1学期'!Q38&\"、\")","v":""},{"$f":"IF(AND(R38=\"\",'1学期'!R38=\"\"),\"\",R$2&R38+'1学期'!R38&\"、\")","v":""},{"$f":"IF(AND(S38=\"\",'1学期'!S38=\"\"),\"\",S$2&S38+'1学期'!S38&\"、\")","v":""},{"$f":"IF(AND(T38=\"\",'1学期'!T38=\"\"),\"\",T$2&T38+'1学期'!T38&\"、\")","v":""},{"$f":"IF(AND(U38=\"\",'1学期'!U38=\"\"),\"\",U$2&U38+'1学期'!U38&\"、\")","v":""},{"$f":"IF(AND(V38=\"\",'1学期'!V38=\"\"),\"\",V$2&V38+'1学期'!V38&\"、\")","v":""},{"$f":"IF(AND(W38=\"\",'1学期'!W38=\"\"),\"\",W$2&W38+'1学期'!W38&\"、\")","v":""},{"$f":"IF(AND(X38=\"\",'1学期'!X38=\"\"),\"\",X$2&X38+'1学期'!X38&\"、\")","v":""},{"$f":"IF(AND(Y38=\"\",'1学期'!Y38=\"\"),\"\",Y$2&Y38+'1学期'!Y38&\"、\")","v":""},{"$f":"IF(AND(Z38=\"\",'1学期'!Z38=\"\"),\"\",Z$2&Z38+'1学期'!Z38&\"、\")","v":""},null,""]
[{"$f":"IF(名簿!$A37=\"\",\"\",名簿!$A37)","v":1137},{"$f":"IFERROR(VLOOKUP($A39,名簿!$A:$C,3,0),\"\")","v":0},72,0,0,0,0,0,null,{"$f":"IF(AT39=\"\",IF(OR('1学期'!AA39=\"あり\",'2学期'!AA39=\"あり\"),\"特記事項なし\",\"皆勤\"),IF(AND('1学期'!AA39=\"\",'2学期'!AA39=\"\",COUNTBLANK(AI39:AQ39)=COUNTA($AI$2:$AQ$2)),\"皆勤、\"&LEFT(AT39,LEN(AT39)-1),LEFT(AT39,LEN(AT39)-1)))","v":"皆勤"},null,null,null,null,null,null,null,null,null,null,null,null,null,null,null,null,null,null,null,{"$f":"IF(AND(L39=\"\",'1学期'!L39=\"\"),\"\",L$2&L39+'1学期'!L39&\"、\")","v":""},{"$f":"IF(AND(M39=\"\",'1学期'!M39=\"\"),\"\",M$2&M39+'1学期'!M39&\"、\")","v":""},{"$f":"IF(AND(N39=\"\",'1学期'!N39=\"\"),\"\",N$2&N39+'1学期'!N39&\"、\")","v":""},{"$f":"IF(AND(O39=\"\",'1学期'!O39=\"\"),\"\",O$2&O39+'1学期'!O39&\"、\")","v":""},{"$f":"IF(AND(P39=\"\",'1学期'!P39=\"\"),\"\",P$2&P39+'1学期'!P39&\"、\")","v":""},{"$f":"IF(AND(Q39=\"\",'1学期'!Q39=\"\"),\"\",Q$2&Q39+'1学期'!Q39&\"、\")","v":""},{"$f":"IF(AND(R39=\"\",'1学期'!R39=\"\"),\"\",R$2&R39+'1学期'!R39&\"、\")","v":""},{"$f":"IF(AND(S39=\"\",'1学期'!S39=\"\"),\"\",S$2&S39+'1学期'!S39&\"、\")","v":""},{"$f":"IF(AND(T39=\"\",'1学期'!T39=\"\"),\"\",T$2&T39+'1学期'!T39&\"、\")","v":""},{"$f":"IF(AND(U39=\"\",'1学期'!U39=\"\"),\"\",U$2&U39+'1学期'!U39&\"、\")","v":""},{"$f":"IF(AND(V39=\"\",'1学期'!V39=\"\"),\"\",V$2&V39+'1学期'!V39&\"、\")","v":""},{"$f":"IF(AND(W39=\"\",'1学期'!W39=\"\"),\"\",W$2&W39+'1学期'!W39&\"、\")","v":""},{"$f":"IF(AND(X39=\"\",'1学期'!X39=\"\"),\"\",X$2&X39+'1学期'!X39&\"、\")","v":""},{"$f":"IF(AND(Y39=\"\",'1学期'!Y39=\"\"),\"\",Y$2&Y39+'1学期'!Y39&\"、\")","v":""},{"$f":"IF(AND(Z39=\"\",'1学期'!Z39=\"\"),\"\",Z$2&Z39+'1学期'!Z39&\"、\")","v":""},null,""]
[{"$f":"IF(名簿!$A38=\"\",\"\",名簿!$A38)","v":1138},{"$f":"IFERROR(VLOOKUP($A40,名簿!$A:$C,3,0),\"\")","v":0},72,0,0,0,0,0,null,{"$f":"IF(AT40=\"\",IF(OR('1学期'!AA40=\"あり\",'2学期'!AA40=\"あり\"),\"特記事項なし\",\"皆勤\"),IF(AND('1学期'!AA40=\"\",'2学期'!AA40=\"\",COUNTBLANK(AI40:AQ40)=COUNTA($AI$2:$AQ$2)),\"皆勤、\"&LEFT(AT40,LEN(AT40)-1),LEFT(AT40,LEN(AT40)-1)))","v":"皆勤"},null,null,null,null,null,null,null,null,null,null,null,null,null,null,null,null,null,null,null,{"$f":"IF(AND(L40=\"\",'1学期'!L40=\"\"),\"\",L$2&L40+'1学期'!L40&\"、\")","v":""},{"$f":"IF(AND(M40=\"\",'1学期'!M40=\"\"),\"\",M$2&M40+'1学期'!M40&\"、\")","v":""},{"$f":"IF(AND(N40=\"\",'1学期'!N40=\"\"),\"\",N$2&N40+'1学期'!N40&\"、\")","v":""},{"$f":"IF(AND(O40=\"\",'1学期'!O40=\"\"),\"\",O$2&O40+'1学期'!O40&\"、\")","v":""},{"$f":"IF(AND(P40=\"\",'1学期'!P40=\"\"),\"\",P$2&P40+'1学期'!P40&\"、\")","v":""},{"$f":"IF(AND(Q40=\"\",'1学期'!Q40=\"\"),\"\",Q$2&Q40+'1学期'!Q40&\"、\")","v":""},{"$f":"IF(AND(R40=\"\",'1学期'!R40=\"\"),\"\",R$2&R40+'1学期'!R40&\"、\")","v":""},{"$f":"IF(AND(S40=\"\",'1学期'!S40=\"\"),\"\",S$2&S40+'1学期'!S40&\"、\")","v":""},{"$f":"IF(AND(T40=\"\",'1学期'!T40=\"\"),\"\",T$2&T40+'1学期'!T40&\"、\")","v":""},{"$f":"IF(AND(U40=\"\",'1学期'!U40=\"\"),\"\",U$2&U40+'1学期'!U40&\"、\")","v":""},{"$f":"IF(AND(V40=\"\",'1学期'!V40=\"\"),\"\",V$2&V40+'1学期'!V40&\"、\")","v":""},{"$f":"IF(AND(W40=\"\",'1学期'!W40=\"\"),\"\",W$2&W40+'1学期'!W40&\"、\")","v":""},{"$f":"IF(AND(X40=\"\",'1学期'!X40=\"\"),\"\",X$2&X40+'1学期'!X40&\"、\")","v":""},{"$f":"IF(AND(Y40=\"\",'1学期'!Y40=\"\"),\"\",Y$2&Y40+'1学期'!Y40&\"、\")","v":""},{"$f":"IF(AND(Z40=\"\",'1学期'!Z40=\"\"),\"\",Z$2&Z40+'1学期'!Z40&\"、\")","v":""},null,""]
[{"$f":"IF(名簿!$A39=\"\",\"\",名簿!$A39)","v":1139},{"$f":"IFERROR(VLOOKUP($A41,名簿!$A:$C,3,0),\"\")","v":0},72,0,0,0,0,0,null,{"$f":"IF(AT41=\"\",IF(OR('1学期'!AA41=\"あり\",'2学期'!AA41=\"あり\"),\"特記事項なし\",\"皆勤\"),IF(AND('1学期'!AA41=\"\",'2学期'!AA41=\"\",COUNTBLANK(AI41:AQ41)=COUNTA($AI$2:$AQ$2)),\"皆勤、\"&LEFT(AT41,LEN(AT41)-1),LEFT(AT41,LEN(AT41)-1)))","v":"皆勤"},null,null,null,null,null,null,null,null,null,null,null,null,null,null,null,null,null,null,null,{"$f":"IF(AND(L41=\"\",'1学期'!L41=\"\"),\"\",L$2&L41+'1学期'!L41&\"、\")","v":""},{"$f":"IF(AND(M41=\"\",'1学期'!M41=\"\"),\"\",M$2&M41+'1学期'!M41&\"、\")","v":""},{"$f":"IF(AND(N41=\"\",'1学期'!N41=\"\"),\"\",N$2&N41+'1学期'!N41&\"、\")","v":""},{"$f":"IF(AND(O41=\"\",'1学期'!O41=\"\"),\"\",O$2&O41+'1学期'!O41&\"、\")","v":""},{"$f":"IF(AND(P41=\"\",'1学期'!P41=\"\"),\"\",P$2&P41+'1学期'!P41&\"、\")","v":""},{"$f":"IF(AND(Q41=\"\",'1学期'!Q41=\"\"),\"\",Q$2&Q41+'1学期'!Q41&\"、\")","v":""},{"$f":"IF(AND(R41=\"\",'1学期'!R41=\"\"),\"\",R$2&R41+'1学期'!R41&\"、\")","v":""},{"$f":"IF(AND(S41=\"\",'1学期'!S41=\"\"),\"\",S$2&S41+'1学期'!S41&\"、\")","v":""},{"$f":"IF(AND(T41=\"\",'1学期'!T41=\"\"),\"\",T$2&T41+'1学期'!T41&\"、\")","v":""},{"$f":"IF(AND(U41=\"\",'1学期'!U41=\"\"),\"\",U$2&U41+'1学期'!U41&\"、\")","v":""},{"$f":"IF(AND(V41=\"\",'1学期'!V41=\"\"),\"\",V$2&V41+'1学期'!V41&\"、\")","v":""},{"$f":"IF(AND(W41=\"\",'1学期'!W41=\"\"),\"\",W$2&W41+'1学期'!W41&\"、\")","v":""},{"$f":"IF(AND(X41=\"\",'1学期'!X41=\"\"),\"\",X$2&X41+'1学期'!X41&\"、\")","v":""},{"$f":"IF(AND(Y41=\"\",'1学期'!Y41=\"\"),\"\",Y$2&Y41+'1学期'!Y41&\"、\")","v":""},{"$f":"IF(AND(Z41=\"\",'1学期'!Z41=\"\"),\"\",Z$2&Z41+'1学期'!Z41&\"、\")","v":""},null,""]
[{"$f":"IF(名簿!$A40=\"\",\"\",名簿!$A40)","v":1140},{"$f":"IFERROR(VLOOKUP($A42,名簿!$A:$C,3,0),\"\")","v":0},72,0,0,0,0,0,null,{"$f":"IF(AT42=\"\",IF(OR('1学期'!AA42=\"あり\",'2学期'!AA42=\"あり\"),\"特記事項なし\",\"皆勤\"),IF(AND('1学期'!AA42=\"\",'2学期'!AA42=\"\",COUNTBLANK(AI42:AQ42)=COUNTA($AI$2:$AQ$2)),\"皆勤、\"&LEFT(AT42,LEN(AT42)-1),LEFT(AT42,LEN(AT42)-1)))","v":"皆勤"},null,null,null,null,null,null,null,null,null,null,null,null,null,null,null,null,null,null,null,{"$f":"IF(AND(L42=\"\",'1学期'!L42=\"\"),\"\",L$2&L42+'1学期'!L42&\"、\")","v":""},{"$f":"IF(AND(M42=\"\",'1学期'!M42=\"\"),\"\",M$2&M42+'1学期'!M42&\"、\")","v":""},{"$f":"IF(AND(N42=\"\",'1学期'!N42=\"\"),\"\",N$2&N42+'1学期'!N42&\"、\")","v":""},{"$f":"IF(AND(O42=\"\",'1学期'!O42=\"\"),\"\",O$2&O42+'1学期'!O42&\"、\")","v":""},{"$f":"IF(AND(P42=\"\",'1学期'!P42=\"\"),\"\",P$2&P42+'1学期'!P42&\"、\")","v":""},{"$f":"IF(AND(Q42=\"\",'1学期'!Q42=\"\"),\"\",Q$2&Q42+'1学期'!Q42&\"、\")","v":""},{"$f":"IF(AND(R42=\"\",'1学期'!R42=\"\"),\"\",R$2&R42+'1学期'!R42&\"、\")","v":""},{"$f":"IF(AND(S42=\"\",'1学期'!S42=\"\"),\"\",S$2&S42+'1学期'!S42&\"、\")","v":""},{"$f":"IF(AND(T42=\"\",'1学期'!T42=\"\"),\"\",T$2&T42+'1学期'!T42&\"、\")","v":""},{"$f":"IF(AND(U42=\"\",'1学期'!U42=\"\"),\"\",U$2&U42+'1学期'!U42&\"、\")","v":""},{"$f":"IF(AND(V42=\"\",'1学期'!V42=\"\"),\"\",V$2&V42+'1学期'!V42&\"、\")","v":""},{"$f":"IF(AND(W42=\"\",'1学期'!W42=\"\"),\"\",W$2&W42+'1学期'!W42&\"、\")","v":""},{"$f":"IF(AND(X42=\"\",'1学期'!X42=\"\"),\"\",X$2&X42+'1学期'!X42&\"、\")","v":""},{"$f":"IF(AND(Y42=\"\",'1学期'!Y42=\"\"),\"\",Y$2&Y42+'1学期'!Y42&\"、\")","v":""},{"$f":"IF(AND(Z42=\"\",'1学期'!Z42=\"\"),\"\",Z$2&Z42+'1学期'!Z42&\"、\")","v":""},null,""]
[]
[]
[null,null,null,null,null,null,null,null,null,null,null,null,null,null,null,null,null,null,null,null,null,null,null,null,null,null,null,"あり"]

{"sheet":"3学期","index":5,"n_rows":45,"n_cols":48,"rows_kept":45,"cut":false,"hidden":false,"merged":[]}
[1,2,3,4,5,6,7,8,9,10]
["番号","名前","3学期の授業日数","3学期の出停忌引","3学期の留学日数","3学期の欠席日数","3学期の遅刻回数","3学期の早退回数","備考","連絡",null,"感染症予防のため","感染症のため","祖母葬儀","祖父葬儀","入試","体調不良","発熱","風邪","頭痛","腹痛","腰痛","通院","怪我","家事都合","自己都合","遅刻\n早退","欠席合計",null,"感染症予防のため","感染症のため","祖母葬儀","祖父葬儀","入試","体調不良","発熱","風邪","頭痛","腹痛","腰痛","通院","怪我","家事都合","自己都合",null,"、あり"]
[{"$f":"IF(名簿!$A1=\"\",\"\",名簿!$A1)","v":1101},{"$f":"IFERROR(VLOOKUP($A3,名簿!$A:$C,3,0),\"\")","v":"田中太郎"},56,0,0,0,0,0,null,{"$f":"IF(AT3=\"\",IF(OR('1学期'!AA3=\"あり\",'2学期'!AA3=\"あり\",AA3=\"あり\"),\"特記事項なし\",\"皆勤\"),IF(AND('1学期'!AA3=\"\",'2学期'!AA3=\"\",AA3=\"\",COUNTBLANK(AI3:AQ3)=COUNTA($AI$2:$AQ$2)),\"皆勤、\"&LEFT(AT3,LEN(AT3)-1),LEFT(AT3,LEN(AT3)-1)))","v":"皆勤"},null,null,null,null,null,null,null,null,null,null,null,null,null,null,null,null,null,null,null,{"$f":"IF(AND(L3=\"\",'1学期'!L3=\"\",'2学期'!L3=\"\"),\"\",L$2&L3+'1学期'!L3+'2学期'!L3&\"、\")","v":""},{"$f":"IF(AND(M3=\"\",'1学期'!M3=\"\",'2学期'!M3=\"\"),\"\",M$2&M3+'1学期'!M3+'2学期'!M3&\"、\")","v":""},{"$f":"IF(AND(N3=\"\",'1学期'!N3=\"\",'2学期'!N3=\"\"),\"\",N$2&N3+'1学期'!N3+'2学期'!N3&\"、\")","v":""},{"$f":"IF(AND(O3=\"\",'1学期'!O3=\"\",'2学期'!O3=\"\"),\"\",O$2&O3+'1学期'!O3+'2学期'!O3&\"、\")","v":""},{"$f":"IF(AND(P3=\"\",'1学期'!P3=\"\",'2学期'!P3=\"\"),\"\",P$2&P3+'1学期'!P3+'2学期'!P3&\"、\")","v":""},{"$f":"IF(AND(Q3=\"\",'1学期'!Q3=\"\",'2学期'!Q3=\"\"),\"\",Q$2&Q3+'1学期'!Q3+'2学期'!Q3&\"、\")","v":""},{"$f":"IF(AND(R3=\"\",'1学期'!R3=\"\",'2学期'!R3=\"\"),\"\",R$2&R3+'1学期'!R3+'2学期'!R3&\"、\")","v":""},{"$f":"IF(AND(S3=\"\",'1学期'!S3=\"\",'2学期'!S3=\"\"),\"\",S$2&S3+'1学期'!S3+'2学期'!S3&\"、\")","v":""},{"$f":"IF(AND(T3=\"\",'1学期'!T3=\"\",'2学期'!T3=\"\"),\"\",T$2&T3+'1学期'!T3+'2学期'!T3&\"、\")","v":""},{"$f":"IF(AND(U3=\"\",'1学期'!U3=\"\",'2学期'!U3=\"\"),\"\",U$2&U3+'1学期'!U3+'2学期'!U3&\"、\")","v":""},{"$f":"IF(AND(V3=\"\",'1学期'!V3=\"\",'2学期'!V3=\"\"),\"\",V$2&V3+'1学期'!V3+'2学期'!V3&\"、\")","v":""},{"$f":"IF(AND(W3=\"\",'1学期'!W3=\"\",'2学期'!W3=\"\"),\"\",W$2&W3+'1学期'!W3+'2学期'!W3&\"、\")","v":""},{"$f":"IF(AND(X3=\"\",'1学期'!X3=\"\",'2学期'!X3=\"\"),\"\",X$2&X3+'1学期'!X3+'2学期'!X3&\"、\")","v":""},{"$f":"IF(AND(Y3=\"\",'1学期'!Y3=\"\",'2学期'!Y3=\"\"),\"\",Y$2&Y3+'1学期'!Y3+'2学期'!Y3&\"、\")","v":""},{"$f":"IF(AND(Z3=\"\",'1学期'!Z3=\"\",'2学期'!Z3=\"\"),\"\",Z$2&Z3+'1学期'!Z3+'2学期'!Z3&\"、\")","v":""},null,{"$f":"CONCATENATE(AI3,AJ3,AK3,AL3,AM3,AN3,AO3,AP3,AQ3,AR3,AD3,AE3,AF3,AG3,AH3)","v":""},null,"\"=IF(AI3=\"\",IF(OR('1学期'!V3=\"あり\",'2学期'!V3=\"あり\",V3=\"あり\"),\"特記事項なし\",\"皆勤\"),IF(AND('1学期'!V3=\"\",'2学期'!V3=\"\",V3=\"\",COUNTBLANK(AA3:AG3)=COUNTA($AA$2:$AG$2)),\"皆勤、\"&LEFT(AI3,LEN(AI3)-1),LEFT(AI3,LEN(AI3)-1)))"]
[{"$f":"IF(名簿!$A2=\"\",\"\",名簿!$A2)","v":1102},{"$f":"IFERROR(VLOOKUP($A4,名簿!$A:$C,3,0),\"\")","v":"小林治郎"},56,0,0,0,0,0,null,{"$f":"IF(AT4=\"\",IF(OR('1学期'!AA4=\"あり\",'2学期'!AA4=\"あり\",AA4=\"あり\"),\"特記事項なし\",\"皆勤\"),IF(AND('1学期'!AA4=\"\",'2学期'!AA4=\"\",AA4=\"\",COUNTBLANK(AI4:AQ4)=COUNTA($AI$2:$AQ$2)),\"皆勤、\"&LEFT(AT4,LEN(AT4)-1),LEFT(AT4,LEN(AT4)-1)))","v":"皆勤、感染症予防のため7"},null,7,null,null,null,null,null,null,null,null,null,null,null,null,null,null,null,null,null,{"$f":"IF(AND(L4=\"\",'1学期'!L4=\"\",'2学期'!L4=\"\"),\"\",L$2&L4+'1学期'!L4+'2学期'!L4&\"、\")","v":"感染症予防のため7、"},{"$f":"IF(AND(M4=\"\",'1学期'!M4=\"\",'2学期'!M4=\"\"),\"\",M$2&M4+'1学期'!M4+'2学期'!M4&\"、\")","v":""},{"$f":"IF(AND(N4=\"\",'1学期'!N4=\"\",'2学期'!N4=\"\"),\"\",N$2&N4+'1学期'!N4+'2学期'!N4&\"、\")","v":""},{"$f":"IF(AND(O4=\"\",'1学期'!O4=\"\",'2学期'!O4=\"\"),\"\",O$2&O4+'1学期'!O4+'2学期'!O4&\"、\")","v":""},{"$f":"IF(AND(P4=\"\",'1学期'!P4=\"\",'2学期'!P4=\"\"),\"\",P$2&P4+'1学期'!P4+'2学期'!P4&\"、\")","v":""},{"$f":"IF(AND(Q4=\"\",'1学期'!Q4=\"\",'2学期'!Q4=\"\"),\"\",Q$2&Q4+'1学期'!Q4+'2学期'!Q4&\"、\")","v":""},{"$f":"IF(AND(R4=\"\",'1学期'!R4=\"\",'2学期'!R4=\"\"),\"\",R$2&R4+'1学期'!R4+'2学期'!R4&\"、\")","v":""},{"$f":"IF(AND(S4=\"\",'1学期'!S4=\"\",'2学期'!S4=\"\"),\"\",S$2&S4+'1学期'!S4+'2学期'!S4&\"、\")","v":""},{"$f":"IF(AND(T4=\"\",'1学期'!T4=\"\",'2学期'!T4=\"\"),\"\",T$2&T4+'1学期'!T4+'2学期'!T4&\"、\")","v":""},{"$f":"IF(AND(U4=\"\",'1学期'!U4=\"\",'2学期'!U4=\"\"),\"\",U$2&U4+'1学期'!U4+'2学期'!U4&\"、\")","v":""},{"$f":"IF(AND(V4=\"\",'1学期'!V4=\"\",'2学期'!V4=\"\"),\"\",V$2&V4+'1学期'!V4+'2学期'!V4&\"、\")","v":""},{"$f":"IF(AND(W4=\"\",'1学期'!W4=\"\",'2学期'!W4=\"\"),\"\",W$2&W4+'1学期'!W4+'2学期'!W4&\"、\")","v":""},{"$f":"IF(AND(X4=\"\",'1学期'!X4=\"\",'2学期'!X4=\"\"),\"\",X$2&X4+'1学期'!X4+'2学期'!X4&\"、\")","v":""},{"$f":"IF(AND(Y4=\"\",'1学期'!Y4=\"\",'2学期'!Y4=\"\"),\"\",Y$2&Y4+'1学期'!Y4+'2学期'!Y4&\"、\")","v":""},{"$f":"IF(AND(Z4=\"\",'1学期'!Z4=\"\",'2学期'!Z4=\"\"),\"\",Z$2&Z4+'1学期'!Z4+'2学期'!Z4&\"、\")","v":""},null,{"$f":"CONCATENATE(AI4,AJ4,AK4,AL4,AM4,AN4,AO4,AP4,AQ4,AR4,AD4,AE4,AF4,AG4,AH4)","v":"感染症予防のため7、"},null,"もしまとめたものが空白だったら、休んでいないいうことなので、１～３学期の遅刻早退があるか確認する。あれば特記事項なし、なければ皆勤。"]
[{"$f":"IF(名簿!$A3=\"\",\"\",名簿!$A3)","v":1103},{"$f":"IFERROR(VLOOKUP($A5,名簿!$A:$C,3,0),\"\")","v":"佐藤三郎"},56,0,0,0,0,0,null,{"$f":"IF(AT5=\"\",IF(OR('1学期'!AA5=\"あり\",'2学期'!AA5=\"あり\",AA5=\"あり\"),\"特記事項なし\",\"皆勤\"),IF(AND('1学期'!AA5=\"\",'2学期'!AA5=\"\",AA5=\"\",COUNTBLANK(AI5:AQ5)=COUNTA($AI$2:$AQ$2)),\"皆勤、\"&LEFT(AT5,LEN(AT5)-1),LEFT(AT5,LEN(AT5)-1)))","v":"皆勤、感染症予防のため1"},null,1,null,null,null,null,null,null,null,null,null,null,null,null,null,null,null,null,null,{"$f":"IF(AND(L5=\"\",'1学期'!L5=\"\",'2学期'!L5=\"\"),\"\",L$2&L5+'1学期'!L5+'2学期'!L5&\"、\")","v":"感染症予防のため1、"},{"$f":"IF(AND(M5=\"\",'1学期'!M5=\"\",'2学期'!M5=\"\"),\"\",M$2&M5+'1学期'!M5+'2学期'!M5&\"、\")","v":""},{"$f":"IF(AND(N5=\"\",'1学期'!N5=\"\",'2学期'!N5=\"\"),\"\",N$2&N5+'1学期'!N5+'2学期'!N5&\"、\")","v":""},{"$f":"IF(AND(O5=\"\",'1学期'!O5=\"\",'2学期'!O5=\"\"),\"\",O$2&O5+'1学期'!O5+'2学期'!O5&\"、\")","v":""},{"$f":"IF(AND(P5=\"\",'1学期'!P5=\"\",'2学期'!P5=\"\"),\"\",P$2&P5+'1学期'!P5+'2学期'!P5&\"、\")","v":""},{"$f":"IF(AND(Q5=\"\",'1学期'!Q5=\"\",'2学期'!Q5=\"\"),\"\",Q$2&Q5+'1学期'!Q5+'2学期'!Q5&\"、\")","v":""},{"$f":"IF(AND(R5=\"\",'1学期'!R5=\"\",'2学期'!R5=\"\"),\"\",R$2&R5+'1学期'!R5+'2学期'!R5&\"、\")","v":""},{"$f":"IF(AND(S5=\"\",'1学期'!S5=\"\",'2学期'!S5=\"\"),\"\",S$2&S5+'1学期'!S5+'2学期'!S5&\"、\")","v":""},{"$f":"IF(AND(T5=\"\",'1学期'!T5=\"\",'2学期'!T5=\"\"),\"\",T$2&T5+'1学期'!T5+'2学期'!T5&\"、\")","v":""},{"$f":"IF(AND(U5=\"\",'1学期'!U5=\"\",'2学期'!U5=\"\"),\"\",U$2&U5+'1学期'!U5+'2学期'!U5&\"、\")","v":""},{"$f":"IF(AND(V5=\"\",'1学期'!V5=\"\",'2学期'!V5=\"\"),\"\",V$2&V5+'1学期'!V5+'2学期'!V5&\"、\")","v":""},{"$f":"IF(AND(W5=\"\",'1学期'!W5=\"\",'2学期'!W5=\"\"),\"\",W$2&W5+'1学期'!W5+'2学期'!W5&\"、\")","v":""},{"$f":"IF(AND(X5=\"\",'1学期'!X5=\"\",'2学期'!X5=\"\"),\"\",X$2&X5+'1学期'!X5+'2学期'!X5&\"、\")","v":""},{"$f":"IF(AND(Y5=\"\",'1学期'!Y5=\"\",'2学期'!Y5=\"\"),\"\",Y$2&Y5+'1学期'!Y5+'2学期'!Y5&\"、\")","v":""},{"$f":"IF(AND(Z5=\"\",'1学期'!Z5=\"\",'2学期'!Z5=\"\"),\"\",Z$2&Z5+'1学期'!Z5+'2学期'!Z5&\"、\")","v":""},null,"感染症予防のため1、",null,"空白でなければ、休んだということだが、出席停止＆忌引きを確認する必要がある。１～３学期に遅刻がなく、体調不良などの欠席がなければ、「皆勤、祖父葬儀1」などと書かれるようにする。"]
[{"$f":"IF(名簿!$A4=\"\",\"\",名簿!$A4)","v":1104},{"$f":"IFERROR(VLOOKUP($A6,名簿!$A:$C,3,0),\"\")","v":"山田花子"},56,0,0,0,0,0,null,{"$f":"IF(AT6=\"\",IF(OR('1学期'!AA6=\"あり\",'2学期'!AA6=\"あり\",AA6=\"あり\"),\"特記事項なし\",\"皆勤\"),IF(AND('1学期'!AA6=\"\",'2学期'!AA6=\"\",AA6=\"\",COUNTBLANK(AI6:AQ6)=COUNTA($AI$2:$AQ$2)),\"皆勤、\"&LEFT(AT6,LEN(AT6)-1),LEFT(AT6,LEN(AT6)-1)))","v":"体調不良9、頭痛3、感染症のため3"},null,null,null,null,null,null,null,null,null,null,null,null,null,null,null,null,null,null,null,{"$f":"IF(AND(L6=\"\",'1学期'!L6=\"\",'2学期'!L6=\"\"),\"\",L$2&L6+'1学期'!L6+'2学期'!L6&\"、\")","v":""},{"$f":"IF(AND(M6=\"\",'1学期'!M6=\"\",'2学期'!M6=\"\"),\"\",M$2&M6+'1学期'!M6+'2学期'!M6&\"、\")","v":"感染症のため3、"},{"$f":"IF(AND(N6=\"\",'1学期'!N6=\"\",'2学期'!N6=\"\"),\"\",N$2&N6+'1学期'!N6+'2学期'!N6&\"、\")","v":""},{"$f":"IF(AND(O6=\"\",'1学期'!O6=\"\",'2学期'!O6=\"\"),\"\",O$2&O6+'1学期'!O6+'2学期'!O6&\"、\")","v":""},{"$f":"IF(AND(P6=\"\",'1学期'!P6=\"\",'2学期'!P6=\"\"),\"\",P$2&P6+'1学期'!P6+'2学期'!P6&\"、\")","v":""},{"$f":"IF(AND(Q6=\"\",'1学期'!Q6=\"\",'2学期'!Q6=\"\"),\"\",Q$2&Q6+'1学期'!Q6+'2学期'!Q6&\"、\")","v":"体調不良9、"},{"$f":"IF(AND(R6=\"\",'1学期'!R6=\"\",'2学期'!R6=\"\"),\"\",R$2&R6+'1学期'!R6+'2学期'!R6&\"、\")","v":""},{"$f":"IF(AND(S6=\"\",'1学期'!S6=\"\",'2学期'!S6=\"\"),\"\",S$2&S6+'1学期'!S6+'2学期'!S6&\"、\")","v":""},{"$f":"IF(AND(T6=\"\",'1学期'!T6=\"\",'2学期'!T6=\"\"),\"\",T$2&T6+'1学期'!T6+'2学期'!T6&\"、\")","v":"頭痛3、"},{"$f":"IF(AND(U6=\"\",'1学期'!U6=\"\",'2学期'!U6=\"\"),\"\",U$2&U6+'1学期'!U6+'2学期'!U6&\"、\")","v":""},{"$f":"IF(AND(V6=\"\",'1学期'!V6=\"\",'2学期'!V6=\"\"),\"\",V$2&V6+'1学期'!V6+'2学期'!V6&\"、\")","v":""},{"$f":"IF(AND(W6=\"\",'1学期'!W6=\"\",'2学期'!W6=\"\"),\"\",W$2&W6+'1学期'!W6+'2学期'!W6&\"、\")","v":""},{"$f":"IF(AND(X6=\"\",'1学期'!X6=\"\",'2学期'!X6=\"\"),\"\",X$2&X6+'1学期'!X6+'2学期'!X6&\"、\")","v":""},{"$f":"IF(AND(Y6=\"\",'1学期'!Y6=\"\",'2学期'!Y6=\"\"),\"\",Y$2&Y6+'1学期'!Y6+'2学期'!Y6&\"、\")","v":""},{"$f":"IF(AND(Z6=\"\",'1学期'!Z6=\"\",'2学期'!Z6=\"\"),\"\",Z$2&Z6+'1学期'!Z6+'2学期'!Z6&\"、\")","v":""},null,"体調不良9、頭痛3、感染症のため3、",null,"空白でなく、体調不良などの欠席があれば、そのまま入力するが、最後の「、」は消す。"]
[{"$f":"IF(名簿!$A5=\"\",\"\",名簿!$A5)","v":1105},{"$f":"IFERROR(VLOOKUP($A7,名簿!$A:$C,3,0),\"\")","v":"山本とし子"},56,0,0,0,0,0,null,{"$f":"IF(AT7=\"\",IF(OR('1学期'!AA7=\"あり\",'2学期'!AA7=\"あり\",AA7=\"あり\"),\"特記事項なし\",\"皆勤\"),IF(AND('1学期'!AA7=\"\",'2学期'!AA7=\"\",AA7=\"\",COUNTBLANK(AI7:AQ7)=COUNTA($AI$2:$AQ$2)),\"皆勤、\"&LEFT(AT7,LEN(AT7)-1),LEFT(AT7,LEN(AT7)-1)))","v":"体調不良2、感染症予防のため2"},null,null,null,null,null,null,null,null,null,null,null,null,null,null,null,null,null,null,null,{"$f":"IF(AND(L7=\"\",'1学期'!L7=\"\",'2学期'!L7=\"\"),\"\",L$2&L7+'1学期'!L7+'2学期'!L7&\"、\")","v":"感染症予防のため2、"},{"$f":"IF(AND(M7=\"\",'1学期'!M7=\"\",'2学期'!M7=\"\"),\"\",M$2&M7+'1学期'!M7+'2学期'!M7&\"、\")","v":""},{"$f":"IF(AND(N7=\"\",'1学期'!N7=\"\",'2学期'!N7=\"\"),\"\",N$2&N7+'1学期'!N7+'2学期'!N7&\"、\")","v":""},{"$f":"IF(AND(O7=\"\",'1学期'!O7=\"\",'2学期'!O7=\"\"),\"\",O$2&O7+'1学期'!O7+'2学期'!O7&\"、\")","v":""},{"$f":"IF(AND(P7=\"\",'1学期'!P7=\"\",'2学期'!P7=\"\"),\"\",P$2&P7+'1学期'!P7+'2学期'!P7&\"、\")","v":""},{"$f":"IF(AND(Q7=\"\",'1学期'!Q7=\"\",'2学期'!Q7=\"\"),\"\",Q$2&Q7+'1学期'!Q7+'2学期'!Q7&\"、\")","v":"体調不良2、"},{"$f":"IF(AND(R7=\"\",'1学期'!R7=\"\",'2学期'!R7=\"\"),\"\",R$2&R7+'1学期'!R7+'2学期'!R7&\"、\")","v":""},{"$f":"IF(AND(S7=\"\",'1学期'!S7=\"\",'2学期'!S7=\"\"),\"\",S$2&S7+'1学期'!S7+'2学期'!S7&\"、\")","v":""},{"$f":"IF(AND(T7=\"\",'1学期'!T7=\"\",'2学期'!T7=\"\"),\"\",T$2&T7+'1学期'!T7+'2学期'!T7&\"、\")","v":""},{"$f":"IF(AND(U7=\"\",'1学期'!U7=\"\",'2学期'!U7=\"\"),\"\",U$2&U7+'1学期'!U7+'2学期'!U7&\"、\")","v":""},{"$f":"IF(AND(V7=\"\",'1学期'!V7=\"\",'2学期'!V7=\"\"),\"\",V$2&V7+'1学期'!V7+'2学期'!V7&\"、\")","v":""},{"$f":"IF(AND(W7=\"\",'1学期'!W7=\"\",'2学期'!W7=\"\"),\"\",W$2&W7+'1学期'!W7+'2学期'!W7&\"、\")","v":""},{"$f":"IF(AND(X7=\"\",'1学期'!X7=\"\",'2学期'!X7=\"\"),\"\",X$2&X7+'1学期'!X7+'2学期'!X7&\"、\")","v":""},{"$f":"IF(AND(Y7=\"\",'1学期'!Y7=\"\",'2学期'!Y7=\"\"),\"\",Y$2&Y7+'1学期'!Y7+'2学期'!Y7&\"、\")","v":""},{"$f":"IF(AND(Z7=\"\",'1学期'!Z7=\"\",'2学期'!Z7=\"\"),\"\",Z$2&Z7+'1学期'!Z7+'2学期'!Z7&\"、\")","v":""},null,"体調不良2、感染症予防のため2、"]
[{"$f":"IF(名簿!$A6=\"\",\"\",名簿!$A6)","v":1106},{"$f":"IFERROR(VLOOKUP($A8,名簿!$A:$C,3,0),\"\")","v":0},56,0,0,0,0,0,null,{"$f":"IF(AT8=\"\",IF(OR('1学期'!AA8=\"あり\",'2学期'!AA8=\"あり\",AA8=\"あり\"),\"特記事項なし\",\"皆勤\"),IF(AND('1学期'!AA8=\"\",'2学期'!AA8=\"\",AA8=\"\",COUNTBLANK(AI8:AQ8)=COUNTA($AI$2:$AQ$2)),\"皆勤、\"&LEFT(AT8,LEN(AT8)-1),LEFT(AT8,LEN(AT8)-1)))","v":"体調不良3、発熱2、腹痛1、入試1"},null,null,null,null,null,1,null,null,null,null,null,null,null,null,null,null,null,null,null,{"$f":"IF(AND(L8=\"\",'1学期'!L8=\"\",'2学期'!L8=\"\"),\"\",L$2&L8+'1学期'!L8+'2学期'!L8&\"、\")","v":""},{"$f":"IF(AND(M8=\"\",'1学期'!M8=\"\",'2学期'!M8=\"\"),\"\",M$2&M8+'1学期'!M8+'2学期'!M8&\"、\")","v":""},{"$f":"IF(AND(N8=\"\",'1学期'!N8=\"\",'2学期'!N8=\"\"),\"\",N$2&N8+'1学期'!N8+'2学期'!N8&\"、\")","v":""},{"$f":"IF(AND(O8=\"\",'1学期'!O8=\"\",'2学期'!O8=\"\"),\"\",O$2&O8+'1学期'!O8+'2学期'!O8&\"、\")","v":""},{"$f":"IF(AND(P8=\"\",'1学期'!P8=\"\",'2学期'!P8=\"\"),\"\",P$2&P8+'1学期'!P8+'2学期'!P8&\"、\")","v":"入試1、"},{"$f":"IF(AND(Q8=\"\",'1学期'!Q8=\"\",'2学期'!Q8=\"\"),\"\",Q$2&Q8+'1学期'!Q8+'2学期'!Q8&\"、\")","v":"体調不良3、"},{"$f":"IF(AND(R8=\"\",'1学期'!R8=\"\",'2学期'!R8=\"\"),\"\",R$2&R8+'1学期'!R8+'2学期'!R8&\"、\")","v":"発熱2、"},{"$f":"IF(AND(S8=\"\",'1学期'!S8=\"\",'2学期'!S8=\"\"),\"\",S$2&S8+'1学期'!S8+'2学期'!S8&\"、\")","v":""},{"$f":"IF(AND(T8=\"\",'1学期'!T8=\"\",'2学期'!T8=\"\"),\"\",T$2&T8+'1学期'!T8+'2学期'!T8&\"、\")","v":""},{"$f":"IF(AND(U8=\"\",'1学期'!U8=\"\",'2学期'!U8=\"\"),\"\",U$2&U8+'1学期'!U8+'2学期'!U8&\"、\")","v":"腹痛1、"},{"$f":"IF(AND(V8=\"\",'1学期'!V8=\"\",'2学期'!V8=\"\"),\"\",V$2&V8+'1学期'!V8+'2学期'!V8&\"、\")","v":""},{"$f":"IF(AND(W8=\"\",'1学期'!W8=\"\",'2学期'!W8=\"\"),\"\",W$2&W8+'1学期'!W8+'2学期'!W8&\"、\")","v":""},{"$f":"IF(AND(X8=\"\",'1学期'!X8=\"\",'2学期'!X8=\"\"),\"\",X$2&X8+'1学期'!X8+'2学期'!X8&\"、\")","v":""},{"$f":"IF(AND(Y8=\"\",'1学期'!Y8=\"\",'2学期'!Y8=\"\"),\"\",Y$2&Y8+'1学期'!Y8+'2学期'!Y8&\"、\")","v":""},{"$f":"IF(AND(Z8=\"\",'1学期'!Z8=\"\",'2学期'!Z8=\"\"),\"\",Z$2&Z8+'1学期'!Z8+'2学期'!Z8&\"、\")","v":""},null,"体調不良3、発熱2、腹痛1、入試1、"]
[{"$f":"IF(名簿!$A7=\"\",\"\",名簿!$A7)","v":1107},{"$f":"IFERROR(VLOOKUP($A9,名簿!$A:$C,3,0),\"\")","v":0},56,0,0,0,0,0,null,{"$f":"IF(AT9=\"\",IF(OR('1学期'!AA9=\"あり\",'2学期'!AA9=\"あり\",AA9=\"あり\"),\"特記事項なし\",\"皆勤\"),IF(AND('1学期'!AA9=\"\",'2学期'!AA9=\"\",AA9=\"\",COUNTBLANK(AI9:AQ9)=COUNTA($AI$2:$AQ$2)),\"皆勤、\"&LEFT(AT9,LEN(AT9)-1),LEFT(AT9,LEN(AT9)-1)))","v":"皆勤"},null,null,null,null,null,null,null,null,null,null,null,null,null,null,null,null,null,null,null,{"$f":"IF(AND(L9=\"\",'1学期'!L9=\"\",'2学期'!L9=\"\"),\"\",L$2&L9+'1学期'!L9+'2学期'!L9&\"、\")","v":""},{"$f":"IF(AND(M9=\"\",'1学期'!M9=\"\",'2学期'!M9=\"\"),\"\",M$2&M9+'1学期'!M9+'2学期'!M9&\"、\")","v":""},{"$f":"IF(AND(N9=\"\",'1学期'!N9=\"\",'2学期'!N9=\"\"),\"\",N$2&N9+'1学期'!N9+'2学期'!N9&\"、\")","v":""},{"$f":"IF(AND(O9=\"\",'1学期'!O9=\"\",'2学期'!O9=\"\"),\"\",O$2&O9+'1学期'!O9+'2学期'!O9&\"、\")","v":""},{"$f":"IF(AND(P9=\"\",'1学期'!P9=\"\",'2学期'!P9=\"\"),\"\",P$2&P9+'1学期'!P9+'2学期'!P9&\"、\")","v":""},{"$f":"IF(AND(Q9=\"\",'1学期'!Q9=\"\",'2学期'!Q9=\"\"),\"\",Q$2&Q9+'1学期'!Q9+'2学期'!Q9&\"、\")","v":""},{"$f":"IF(AND(R9=\"\",'1学期'!R9=\"\",'2学期'!R9=\"\"),\"\",R$2&R9+'1学期'!R9+'2学期'!R9&\"、\")","v":""},{"$f":"IF(AND(S9=\"\",'1学期'!S9=\"\",'2学期'!S9=\"\"),\"\",S$2&S9+'1学期'!S9+'2学期'!S9&\"、\")","v":""},{"$f":"IF(AND(T9=\"\",'1学期'!T9=\"\",'2学期'!T9=\"\"),\"\",T$2&T9+'1学期'!T9+'2学期'!T9&\"、\")","v":""},{"$f":"IF(AND(U9=\"\",'1学期'!U9=\"\",'2学期'!U9=\"\"),\"\",U$2&U9+'1学期'!U9+'2学期'!U9&\"、\")","v":""},{"$f":"IF(AND(V9=\"\",'1学期'!V9=\"\",'2学期'!V9=\"\"),\"\",V$2&V9+'1学期'!V9+'2学期'!V9&\"、\")","v":""},{"$f":"IF(AND(W9=\"\",'1学期'!W9=\"\",'2学期'!W9=\"\"),\"\",W$2&W9+'1学期'!W9+'2学期'!W9&\"、\")","v":""},{"$f":"IF(AND(X9=\"\",'1学期'!X9=\"\",'2学期'!X9=\"\"),\"\",X$2&X9+'1学期'!X9+'2学期'!X9&\"、\")","v":""},{"$f":"IF(AND(Y9=\"\",'1学期'!Y9=\"\",'2学期'!Y9=\"\"),\"\",Y$2&Y9+'1学期'!Y9+'2学期'!Y9&\"、\")","v":""},{"$f":"IF(AND(Z9=\"\",'1学期'!Z9=\"\",'2学期'!Z9=\"\"),\"\",Z$2&Z9+'1学期'!Z9+'2学期'!Z9&\"、\")","v":""},null,""]
[{"$f":"IF(名簿!$A8=\"\",\"\",名簿!$A8)","v":1108},{"$f":"IFERROR(VLOOKUP($A10,名簿!$A:$C,3,0),\"\")","v":0},56,0,0,0,0,0,null,{"$f":"IF(AT10=\"\",IF(OR('1学期'!AA10=\"あり\",'2学期'!AA10=\"あり\",AA10=\"あり\"),\"特記事項なし\",\"皆勤\"),IF(AND('1学期'!AA10=\"\",'2学期'!AA10=\"\",AA10=\"\",COUNTBLANK(AI10:AQ10)=COUNTA($AI$2:$AQ$2)),\"皆勤、\"&LEFT(AT10,LEN(AT10)-1),LEFT(AT10,LEN(AT10)-1)))","v":"体調不良28、発熱7、感染症予防のため1、祖父葬儀1"},null,null,null,null,1,null,null,null,null,null,null,null,null,null,null,null,null,null,null,{"$f":"IF(AND(L10=\"\",'1学期'!L10=\"\",'2学期'!L10=\"\"),\"\",L$2&L10+'1学期'!L10+'2学期'!L10&\"、\")","v":"感染症予防のため1、"},{"$f":"IF(AND(M10=\"\",'1学期'!M10=\"\",'2学期'!M10=\"\"),\"\",M$2&M10+'1学期'!M10+'2学期'!M10&\"、\")","v":""},{"$f":"IF(AND(N10=\"\",'1学期'!N10=\"\",'2学期'!N10=\"\"),\"\",N$2&N10+'1学期'!N10+'2学期'!N10&\"、\")","v":""},{"$f":"IF(AND(O10=\"\",'1学期'!O10=\"\",'2学期'!O10=\"\"),\"\",O$2&O10+'1学期'!O10+'2学期'!O10&\"、\")","v":"祖父葬儀1、"},{"$f":"IF(AND(P10=\"\",'1学期'!P10=\"\",'2学期'!P10=\"\"),\"\",P$2&P10+'1学期'!P10+'2学期'!P10&\"、\")","v":""},{"$f":"IF(AND(Q10=\"\",'1学期'!Q10=\"\",'2学期'!Q10=\"\"),\"\",Q$2&Q10+'1学期'!Q10+'2学期'!Q10&\"、\")","v":"体調不良28、"},{"$f":"IF(AND(R10=\"\",'1学期'!R10=\"\",'2学期'!R10=\"\"),\"\",R$2&R10+'1学期'!R10+'2学期'!R10&\"、\")","v":"発熱7、"},{"$f":"IF(AND(S10=\"\",'1学期'!S10=\"\",'2学期'!S10=\"\"),\"\",S$2&S10+'1学期'!S10+'2学期'!S10&\"、\")","v":""},{"$f":"IF(AND(T10=\"\",'1学期'!T10=\"\",'2学期'!T10=\"\"),\"\",T$2&T10+'1学期'!T10+'2学期'!T10&\"、\")","v":""},{"$f":"IF(AND(U10=\"\",'1学期'!U10=\"\",'2学期'!U10=\"\"),\"\",U$2&U10+'1学期'!U10+'2学期'!U10&\"、\")","v":""},{"$f":"IF(AND(V10=\"\",'1学期'!V10=\"\",'2学期'!V10=\"\"),\"\",V$2&V10+'1学期'!V10+'2学期'!V10&\"、\")","v":""},{"$f":"IF(AND(W10=\"\",'1学期'!W10=\"\",'2学期'!W10=\"\"),\"\",W$2&W10+'1学期'!W10+'2学期'!W10&\"、\")","v":""},{"$f":"IF(AND(X10=\"\",'1学期'!X10=\"\",'2学期'!X10=\"\"),\"\",X$2&X10+'1学期'!X10+'2学期'!X10&\"、\")","v":""},{"$f":"IF(AND(Y10=\"\",'1学期'!Y10=\"\",'2学期'!Y10=\"\"),\"\",Y$2&Y10+'1学期'!Y10+'2学期'!Y10&\"、\")","v":""},{"$f":"IF(AND(Z10=\"\",'1学期'!Z10=\"\",'2学期'!Z10=\"\"),\"\",Z$2&Z10+'1学期'!Z10+'2学期'!Z10&\"、\")","v":""},null,"体調不良28、発熱7、感染症予防のため1、祖父葬儀1、"]
[{"$f":"IF(名簿!$A9=\"\",\"\",名簿!$A9)","v":1109},{"$f":"IFERROR(VLOOKUP($A11,名簿!$A:$C,3,0),\"\")","v":0},56,0,0,0,0,0,null,{"$f":"IF(AT11=\"\",IF(OR('1学期'!AA11=\"あり\",'2学期'!AA11=\"あり\",AA11=\"あり\"),\"特記事項なし\",\"皆勤\"),IF(AND('1学期'!AA11=\"\",'2学期'!AA11=\"\",AA11=\"\",COUNTBLANK(AI11:AQ11)=COUNTA($AI$2:$AQ$2)),\"皆勤、\"&LEFT(AT11,LEN(AT11)-1),LEFT(AT11,LEN(AT11)-1)))","v":"体調不良7、発熱1、頭痛1、腹痛1、感染症予防のため2"},null,null,null,null,null,null,null,null,null,null,null,null,null,null,null,null,null,null,null,{"$f":"IF(AND(L11=\"\",'1学期'!L11=\"\",'2学期'!L11=\"\"),\"\",L$2&L11+'1学期'!L11+'2学期'!L11&\"、\")","v":"感染症予防のため2、"},{"$f":"IF(AND(M11=\"\",'1学期'!M11=\"\",'2学期'!M11=\"\"),\"\",M$2&M11+'1学期'!M11+'2学期'!M11&\"、\")","v":""},{"$f":"IF(AND(N11=\"\",'1学期'!N11=\"\",'2学期'!N11=\"\"),\"\",N$2&N11+'1学期'!N11+'2学期'!N11&\"、\")","v":""},{"$f":"IF(AND(O11=\"\",'1学期'!O11=\"\",'2学期'!O11=\"\"),\"\",O$2&O11+'1学期'!O11+'2学期'!O11&\"、\")","v":""},{"$f":"IF(AND(P11=\"\",'1学期'!P11=\"\",'2学期'!P11=\"\"),\"\",P$2&P11+'1学期'!P11+'2学期'!P11&\"、\")","v":""},{"$f":"IF(AND(Q11=\"\",'1学期'!Q11=\"\",'2学期'!Q11=\"\"),\"\",Q$2&Q11+'1学期'!Q11+'2学期'!Q11&\"、\")","v":"体調不良7、"},{"$f":"IF(AND(R11=\"\",'1学期'!R11=\"\",'2学期'!R11=\"\"),\"\",R$2&R11+'1学期'!R11+'2学期'!R11&\"、\")","v":"発熱1、"},{"$f":"IF(AND(S11=\"\",'1学期'!S11=\"\",'2学期'!S11=\"\"),\"\",S$2&S11+'1学期'!S11+'2学期'!S11&\"、\")","v":""},{"$f":"IF(AND(T11=\"\",'1学期'!T11=\"\",'2学期'!T11=\"\"),\"\",T$2&T11+'1学期'!T11+'2学期'!T11&\"、\")","v":"頭痛1、"},{"$f":"IF(AND(U11=\"\",'1学期'!U11=\"\",'2学期'!U11=\"\"),\"\",U$2&U11+'1学期'!U11+'2学期'!U11&\"、\")","v":"腹痛1、"},{"$f":"IF(AND(V11=\"\",'1学期'!V11=\"\",'2学期'!V11=\"\"),\"\",V$2&V11+'1学期'!V11+'2学期'!V11&\"、\")","v":""},{"$f":"IF(AND(W11=\"\",'1学期'!W11=\"\",'2学期'!W11=\"\"),\"\",W$2&W11+'1学期'!W11+'2学期'!W11&\"、\")","v":""},{"$f":"IF(AND(X11=\"\",'1学期'!X11=\"\",'2学期'!X11=\"\"),\"\",X$2&X11+'1学期'!X11+'2学期'!X11&\"、\")","v":""},{"$f":"IF(AND(Y11=\"\",'1学期'!Y11=\"\",'2学期'!Y11=\"\"),\"\",Y$2&Y11+'1学期'!Y11+'2学期'!Y11&\"、\")","v":""},{"$f":"IF(AND(Z11=\"\",'1学期'!Z11=\"\",'2学期'!Z11=\"\"),\"\",Z$2&Z11+'1学期'!Z11+'2学期'!Z11&\"、\")","v":""},null,"体調不良7、発熱1、頭痛1、腹痛1、感染症予防のため2、"]
[{"$f":"IF(名簿!$A10=\"\",\"\",名簿!$A10)","v":1110},{"$f":"IFERROR(VLOOKUP($A12,名簿!$A:$C,3,0),\"\")","v":0},56,0,0,0,0,0,null,{"$f":"IF(AT12=\"\",IF(OR('1学期'!AA12=\"あり\",'2学期'!AA12=\"あり\",AA12=\"あり\"),\"特記事項なし\",\"皆勤\"),IF(AND('1学期'!AA12=\"\",'2学期'!AA12=\"\",AA12=\"\",COUNTBLANK(AI12:AQ12)=COUNTA($AI$2:$AQ$2)),\"皆勤、\"&LEFT(AT12,LEN(AT12)-1),LEFT(AT12,LEN(AT12)-1)))","v":"皆勤、感染症予防のため1"},null,null,null,null,null,null,null,null,null,null,null,null,null,null,null,null,null,null,null,{"$f":"IF(AND(L12=\"\",'1学期'!L12=\"\",'2学期'!L12=\"\"),\"\",L$2&L12+'1学期'!L12+'2学期'!L12&\"、\")","v":"感染症予防のため1、"},{"$f":"IF(AND(M12=\"\",'1学期'!M12=\"\",'2学期'!M12=\"\"),\"\",M$2&M12+'1学期'!M12+'2学期'!M12&\"、\")","v":""},{"$f":"IF(AND(N12=\"\",'1学期'!N12=\"\",'2学期'!N12=\"\"),\"\",N$2&N12+'1学期'!N12+'2学期'!N12&\"、\")","v":""},{"$f":"IF(AND(O12=\"\",'1学期'!O12=\"\",'2学期'!O12=\"\"),\"\",O$2&O12+'1学期'!O12+'2学期'!O12&\"、\")","v":""},{"$f":"IF(AND(P12=\"\",'1学期'!P12=\"\",'2学期'!P12=\"\"),\"\",P$2&P12+'1学期'!P12+'2学期'!P12&\"、\")","v":""},{"$f":"IF(AND(Q12=\"\",'1学期'!Q12=\"\",'2学期'!Q12=\"\"),\"\",Q$2&Q12+'1学期'!Q12+'2学期'!Q12&\"、\")","v":""},{"$f":"IF(AND(R12=\"\",'1学期'!R12=\"\",'2学期'!R12=\"\"),\"\",R$2&R12+'1学期'!R12+'2学期'!R12&\"、\")","v":""},{"$f":"IF(AND(S12=\"\",'1学期'!S12=\"\",'2学期'!S12=\"\"),\"\",S$2&S12+'1学期'!S12+'2学期'!S12&\"、\")","v":""},{"$f":"IF(AND(T12=\"\",'1学期'!T12=\"\",'2学期'!T12=\"\"),\"\",T$2&T12+'1学期'!T12+'2学期'!T12&\"、\")","v":""},{"$f":"IF(AND(U12=\"\",'1学期'!U12=\"\",'2学期'!U12=\"\"),\"\",U$2&U12+'1学期'!U12+'2学期'!U12&\"、\")","v":""},{"$f":"IF(AND(V12=\"\",'1学期'!V12=\"\",'2学期'!V12=\"\"),\"\",V$2&V12+'1学期'!V12+'2学期'!V12&\"、\")","v":""},{"$f":"IF(AND(W12=\"\",'1学期'!W12=\"\",'2学期'!W12=\"\"),\"\",W$2&W12+'1学期'!W12+'2学期'!W12&\"、\")","v":""},{"$f":"IF(AND(X12=\"\",'1学期'!X12=\"\",'2学期'!X12=\"\"),\"\",X$2&X12+'1学期'!X12+'2学期'!X12&\"、\")","v":""},{"$f":"IF(AND(Y12=\"\",'1学期'!Y12=\"\",'2学期'!Y12=\"\"),\"\",Y$2&Y12+'1学期'!Y12+'2学期'!Y12&\"、\")","v":""},{"$f":"IF(AND(Z12=\"\",'1学期'!Z12=\"\",'2学期'!Z12=\"\"),\"\",Z$2&Z12+'1学期'!Z12+'2学期'!Z12&\"、\")","v":""},null,"感染症予防のため1、"]
[{"$f":"IF(名簿!$A11=\"\",\"\",名簿!$A11)","v":1111},{"$f":"IFERROR(VLOOKUP($A13,名簿!$A:$C,3,0),\"\")","v":0},56,0,0,0,0,0,null,{"$f":"IF(AT13=\"\",IF(OR('1学期'!AA13=\"あり\",'2学期'!AA13=\"あり\",AA13=\"あり\"),\"特記事項なし\",\"皆勤\"),IF(AND('1学期'!AA13=\"\",'2学期'!AA13=\"\",AA13=\"\",COUNTBLANK(AI13:AQ13)=COUNTA($AI$2:$AQ$2)),\"皆勤、\"&LEFT(AT13,LEN(AT13)-1),LEFT(AT13,LEN(AT13)-1)))","v":"発熱1、祖父葬儀4"},null,null,null,null,4,null,null,1,null,null,null,null,null,null,null,null,null,null,null,{"$f":"IF(AND(L13=\"\",'1学期'!L13=\"\",'2学期'!L13=\"\"),\"\",L$2&L13+'1学期'!L13+'2学期'!L13&\"、\")","v":""},{"$f":"IF(AND(M13=\"\",'1学期'!M13=\"\",'2学期'!M13=\"\"),\"\",M$2&M13+'1学期'!M13+'2学期'!M13&\"、\")","v":""},{"$f":"IF(AND(N13=\"\",'1学期'!N13=\"\",'2学期'!N13=\"\"),\"\",N$2&N13+'1学期'!N13+'2学期'!N13&\"、\")","v":""},{"$f":"IF(AND(O13=\"\",'1学期'!O13=\"\",'2学期'!O13=\"\"),\"\",O$2&O13+'1学期'!O13+'2学期'!O13&\"、\")","v":"祖父葬儀4、"},{"$f":"IF(AND(P13=\"\",'1学期'!P13=\"\",'2学期'!P13=\"\"),\"\",P$2&P13+'1学期'!P13+'2学期'!P13&\"、\")","v":""},{"$f":"IF(AND(Q13=\"\",'1学期'!Q13=\"\",'2学期'!Q13=\"\"),\"\",Q$2&Q13+'1学期'!Q13+'2学期'!Q13&\"、\")","v":""},{"$f":"IF(AND(R13=\"\",'1学期'!R13=\"\",'2学期'!R13=\"\"),\"\",R$2&R13+'1学期'!R13+'2学期'!R13&\"、\")","v":"発熱1、"},{"$f":"IF(AND(S13=\"\",'1学期'!S13=\"\",'2学期'!S13=\"\"),\"\",S$2&S13+'1学期'!S13+'2学期'!S13&\"、\")","v":""},{"$f":"IF(AND(T13=\"\",'1学期'!T13=\"\",'2学期'!T13=\"\"),\"\",T$2&T13+'1学期'!T13+'2学期'!T13&\"、\")","v":""},{"$f":"IF(AND(U13=\"\",'1学期'!U13=\"\",'2学期'!U13=\"\"),\"\",U$2&U13+'1学期'!U13+'2学期'!U13&\"、\")","v":""},{"$f":"IF(AND(V13=\"\",'1学期'!V13=\"\",'2学期'!V13=\"\"),\"\",V$2&V13+'1学期'!V13+'2学期'!V13&\"、\")","v":""},{"$f":"IF(AND(W13=\"\",'1学期'!W13=\"\",'2学期'!W13=\"\"),\"\",W$2&W13+'1学期'!W13+'2学期'!W13&\"、\")","v":""},{"$f":"IF(AND(X13=\"\",'1学期'!X13=\"\",'2学期'!X13=\"\"),\"\",X$2&X13+'1学期'!X13+'2学期'!X13&\"、\")","v":""},{"$f":"IF(AND(Y13=\"\",'1学期'!Y13=\"\",'2学期'!Y13=\"\"),\"\",Y$2&Y13+'1学期'!Y13+'2学期'!Y13&\"、\")","v":""},{"$f":"IF(AND(Z13=\"\",'1学期'!Z13=\"\",'2学期'!Z13=\"\"),\"\",Z$2&Z13+'1学期'!Z13+'2学期'!Z13&\"、\")","v":""},null,"発熱1、祖父葬儀4、"]
[{"$f":"IF(名簿!$A12=\"\",\"\",名簿!$A12)","v":1112},{"$f":"IFERROR(VLOOKUP($A14,名簿!$A:$C,3,0),\"\")","v":0},56,0,0,0,0,0,null,{"$f":"IF(AT14=\"\",IF(OR('1学期'!AA14=\"あり\",'2学期'!AA14=\"あり\",AA14=\"あり\"),\"特記事項なし\",\"皆勤\"),IF(AND('1学期'!AA14=\"\",'2学期'!AA14=\"\",AA14=\"\",COUNTBLANK(AI14:AQ14)=COUNTA($AI$2:$AQ$2)),\"皆勤、\"&LEFT(AT14,LEN(AT14)-1),LEFT(AT14,LEN(AT14)-1)))","v":"皆勤、祖母葬儀1"},null,null,null,null,null,null,null,null,null,null,null,null,null,null,null,null,null,null,null,{"$f":"IF(AND(L14=\"\",'1学期'!L14=\"\",'2学期'!L14=\"\"),\"\",L$2&L14+'1学期'!L14+'2学期'!L14&\"、\")","v":""},{"$f":"IF(AND(M14=\"\",'1学期'!M14=\"\",'2学期'!M14=\"\"),\"\",M$2&M14+'1学期'!M14+'2学期'!M14&\"、\")","v":""},{"$f":"IF(AND(N14=\"\",'1学期'!N14=\"\",'2学期'!N14=\"\"),\"\",N$2&N14+'1学期'!N14+'2学期'!N14&\"、\")","v":"祖母葬儀1、"},{"$f":"IF(AND(O14=\"\",'1学期'!O14=\"\",'2学期'!O14=\"\"),\"\",O$2&O14+'1学期'!O14+'2学期'!O14&\"、\")","v":""},{"$f":"IF(AND(P14=\"\",'1学期'!P14=\"\",'2学期'!P14=\"\"),\"\",P$2&P14+'1学期'!P14+'2学期'!P14&\"、\")","v":""},{"$f":"IF(AND(Q14=\"\",'1学期'!Q14=\"\",'2学期'!Q14=\"\"),\"\",Q$2&Q14+'1学期'!Q14+'2学期'!Q14&\"、\")","v":""},{"$f":"IF(AND(R14=\"\",'1学期'!R14=\"\",'2学期'!R14=\"\"),\"\",R$2&R14+'1学期'!R14+'2学期'!R14&\"、\")","v":""},{"$f":"IF(AND(S14=\"\",'1学期'!S14=\"\",'2学期'!S14=\"\"),\"\",S$2&S14+'1学期'!S14+'2学期'!S14&\"、\")","v":""},{"$f":"IF(AND(T14=\"\",'1学期'!T14=\"\",'2学期'!T14=\"\"),\"\",T$2&T14+'1学期'!T14+'2学期'!T14&\"、\")","v":""},{"$f":"IF(AND(U14=\"\",'1学期'!U14=\"\",'2学期'!U14=\"\"),\"\",U$2&U14+'1学期'!U14+'2学期'!U14&\"、\")","v":""},{"$f":"IF(AND(V14=\"\",'1学期'!V14=\"\",'2学期'!V14=\"\"),\"\",V$2&V14+'1学期'!V14+'2学期'!V14&\"、\")","v":""},{"$f":"IF(AND(W14=\"\",'1学期'!W14=\"\",'2学期'!W14=\"\"),\"\",W$2&W14+'1学期'!W14+'2学期'!W14&\"、\")","v":""},{"$f":"IF(AND(X14=\"\",'1学期'!X14=\"\",'2学期'!X14=\"\"),\"\",X$2&X14+'1学期'!X14+'2学期'!X14&\"、\")","v":""},{"$f":"IF(AND(Y14=\"\",'1学期'!Y14=\"\",'2学期'!Y14=\"\"),\"\",Y$2&Y14+'1学期'!Y14+'2学期'!Y14&\"、\")","v":""},{"$f":"IF(AND(Z14=\"\",'1学期'!Z14=\"\",'2学期'!Z14=\"\"),\"\",Z$2&Z14+'1学期'!Z14+'2学期'!Z14&\"、\")","v":""},null,"祖母葬儀1、"]
[{"$f":"IF(名簿!$A13=\"\",\"\",名簿!$A13)","v":1113},{"$f":"IFERROR(VLOOKUP($A15,名簿!$A:$C,3,0),\"\")","v":0},56,0,0,0,0,0,null,{"$f":"IF(AT15=\"\",IF(OR('1学期'!AA15=\"あり\",'2学期'!AA15=\"あり\",AA15=\"あり\"),\"特記事項なし\",\"皆勤\"),IF(AND('1学期'!AA15=\"\",'2学期'!AA15=\"\",AA15=\"\",COUNTBLANK(AI15:AQ15)=COUNTA($AI$2:$AQ$2)),\"皆勤、\"&LEFT(AT15,LEN(AT15)-1),LEFT(AT15,LEN(AT15)-1)))","v":"皆勤"},null,null,null,null,null,null,null,null,null,null,null,null,null,null,null,null,null,null,null,{"$f":"IF(AND(L15=\"\",'1学期'!L15=\"\",'2学期'!L15=\"\"),\"\",L$2&L15+'1学期'!L15+'2学期'!L15&\"、\")","v":""},{"$f":"IF(AND(M15=\"\",'1学期'!M15=\"\",'2学期'!M15=\"\"),\"\",M$2&M15+'1学期'!M15+'2学期'!M15&\"、\")","v":""},{"$f":"IF(AND(N15=\"\",'1学期'!N15=\"\",'2学期'!N15=\"\"),\"\",N$2&N15+'1学期'!N15+'2学期'!N15&\"、\")","v":""},{"$f":"IF(AND(O15=\"\",'1学期'!O15=\"\",'2学期'!O15=\"\"),\"\",O$2&O15+'1学期'!O15+'2学期'!O15&\"、\")","v":""},{"$f":"IF(AND(P15=\"\",'1学期'!P15=\"\",'2学期'!P15=\"\"),\"\",P$2&P15+'1学期'!P15+'2学期'!P15&\"、\")","v":""},{"$f":"IF(AND(Q15=\"\",'1学期'!Q15=\"\",'2学期'!Q15=\"\"),\"\",Q$2&Q15+'1学期'!Q15+'2学期'!Q15&\"、\")","v":""},{"$f":"IF(AND(R15=\"\",'1学期'!R15=\"\",'2学期'!R15=\"\"),\"\",R$2&R15+'1学期'!R15+'2学期'!R15&\"、\")","v":""},{"$f":"IF(AND(S15=\"\",'1学期'!S15=\"\",'2学期'!S15=\"\"),\"\",S$2&S15+'1学期'!S15+'2学期'!S15&\"、\")","v":""},{"$f":"IF(AND(T15=\"\",'1学期'!T15=\"\",'2学期'!T15=\"\"),\"\",T$2&T15+'1学期'!T15+'2学期'!T15&\"、\")","v":""},{"$f":"IF(AND(U15=\"\",'1学期'!U15=\"\",'2学期'!U15=\"\"),\"\",U$2&U15+'1学期'!U15+'2学期'!U15&\"、\")","v":""},{"$f":"IF(AND(V15=\"\",'1学期'!V15=\"\",'2学期'!V15=\"\"),\"\",V$2&V15+'1学期'!V15+'2学期'!V15&\"、\")","v":""},{"$f":"IF(AND(W15=\"\",'1学期'!W15=\"\",'2学期'!W15=\"\"),\"\",W$2&W15+'1学期'!W15+'2学期'!W15&\"、\")","v":""},{"$f":"IF(AND(X15=\"\",'1学期'!X15=\"\",'2学期'!X15=\"\"),\"\",X$2&X15+'1学期'!X15+'2学期'!X15&\"、\")","v":""},{"$f":"IF(AND(Y15=\"\",'1学期'!Y15=\"\",'2学期'!Y15=\"\"),\"\",Y$2&Y15+'1学期'!Y15+'2学期'!Y15&\"、\")","v":""},{"$f":"IF(AND(Z15=\"\",'1学期'!Z15=\"\",'2学期'!Z15=\"\"),\"\",Z$2&Z15+'1学期'!Z15+'2学期'!Z15&\"、\")","v":""},null,""]
[{"$f":"IF(名簿!$A14=\"\",\"\",名簿!$A14)","v":1114},{"$f":"IFERROR(VLOOKUP($A16,名簿!$A:$C,3,0),\"\")","v":0},56,0,0,0,0,0,null,{"$f":"IF(AT16=\"\",IF(OR('1学期'!AA16=\"あり\",'2学期'!AA16=\"あり\",AA16=\"あり\"),\"特記事項なし\",\"皆勤\"),IF(AND('1学期'!AA16=\"\",'2学期'!AA16=\"\",AA16=\"\",COUNTBLANK(AI16:AQ16)=COUNTA($AI$2:$AQ$2)),\"皆勤、\"&LEFT(AT16,LEN(AT16)-1),LEFT(AT16,LEN(AT16)-1)))","v":"体調不良1、感染症予防のため2"},null,2,null,null,null,null,null,null,null,null,null,null,null,null,null,null,null,null,null,{"$f":"IF(AND(L16=\"\",'1学期'!L16=\"\",'2学期'!L16=\"\"),\"\",L$2&L16+'1学期'!L16+'2学期'!L16&\"、\")","v":"感染症予防のため2、"},{"$f":"IF(AND(M16=\"\",'1学期'!M16=\"\",'2学期'!M16=\"\"),\"\",M$2&M16+'1学期'!M16+'2学期'!M16&\"、\")","v":""},{"$f":"IF(AND(N16=\"\",'1学期'!N16=\"\",'2学期'!N16=\"\"),\"\",N$2&N16+'1学期'!N16+'2学期'!N16&\"、\")","v":""},{"$f":"IF(AND(O16=\"\",'1学期'!O16=\"\",'2学期'!O16=\"\"),\"\",O$2&O16+'1学期'!O16+'2学期'!O16&\"、\")","v":""},{"$f":"IF(AND(P16=\"\",'1学期'!P16=\"\",'2学期'!P16=\"\"),\"\",P$2&P16+'1学期'!P16+'2学期'!P16&\"、\")","v":""},{"$f":"IF(AND(Q16=\"\",'1学期'!Q16=\"\",'2学期'!Q16=\"\"),\"\",Q$2&Q16+'1学期'!Q16+'2学期'!Q16&\"、\")","v":"体調不良1、"},{"$f":"IF(AND(R16=\"\",'1学期'!R16=\"\",'2学期'!R16=\"\"),\"\",R$2&R16+'1学期'!R16+'2学期'!R16&\"、\")","v":""},{"$f":"IF(AND(S16=\"\",'1学期'!S16=\"\",'2学期'!S16=\"\"),\"\",S$2&S16+'1学期'!S16+'2学期'!S16&\"、\")","v":""},{"$f":"IF(AND(T16=\"\",'1学期'!T16=\"\",'2学期'!T16=\"\"),\"\",T$2&T16+'1学期'!T16+'2学期'!T16&\"、\")","v":""},{"$f":"IF(AND(U16=\"\",'1学期'!U16=\"\",'2学期'!U16=\"\"),\"\",U$2&U16+'1学期'!U16+'2学期'!U16&\"、\")","v":""},{"$f":"IF(AND(V16=\"\",'1学期'!V16=\"\",'2学期'!V16=\"\"),\"\",V$2&V16+'1学期'!V16+'2学期'!V16&\"、\")","v":""},{"$f":"IF(AND(W16=\"\",'1学期'!W16=\"\",'2学期'!W16=\"\"),\"\",W$2&W16+'1学期'!W16+'2学期'!W16&\"、\")","v":""},{"$f":"IF(AND(X16=\"\",'1学期'!X16=\"\",'2学期'!X16=\"\"),\"\",X$2&X16+'1学期'!X16+'2学期'!X16&\"、\")","v":""},{"$f":"IF(AND(Y16=\"\",'1学期'!Y16=\"\",'2学期'!Y16=\"\"),\"\",Y$2&Y16+'1学期'!Y16+'2学期'!Y16&\"、\")","v":""},{"$f":"IF(AND(Z16=\"\",'1学期'!Z16=\"\",'2学期'!Z16=\"\"),\"\",Z$2&Z16+'1学期'!Z16+'2学期'!Z16&\"、\")","v":""},null,"体調不良1、感染症予防のため2、"]
[{"$f":"IF(名簿!$A15=\"\",\"\",名簿!$A15)","v":1115},{"$f":"IFERROR(VLOOKUP($A17,名簿!$A:$C,3,0),\"\")","v":0},56,0,0,0,0,0,null,{"$f":"IF(AT17=\"\",IF(OR('1学期'!AA17=\"あり\",'2学期'!AA17=\"あり\",AA17=\"あり\"),\"特記事項なし\",\"皆勤\"),IF(AND('1学期'!AA17=\"\",'2学期'!AA17=\"\",AA17=\"\",COUNTBLANK(AI17:AQ17)=COUNTA($AI$2:$AQ$2)),\"皆勤、\"&LEFT(AT17,LEN(AT17)-1),LEFT(AT17,LEN(AT17)-1)))","v":"皆勤"},null,null,null,null,null,null,null,null,null,null,null,null,null,null,null,null,null,null,null,{"$f":"IF(AND(L17=\"\",'1学期'!L17=\"\",'2学期'!L17=\"\"),\"\",L$2&L17+'1学期'!L17+'2学期'!L17&\"、\")","v":""},{"$f":"IF(AND(M17=\"\",'1学期'!M17=\"\",'2学期'!M17=\"\"),\"\",M$2&M17+'1学期'!M17+'2学期'!M17&\"、\")","v":""},{"$f":"IF(AND(N17=\"\",'1学期'!N17=\"\",'2学期'!N17=\"\"),\"\",N$2&N17+'1学期'!N17+'2学期'!N17&\"、\")","v":""},{"$f":"IF(AND(O17=\"\",'1学期'!O17=\"\",'2学期'!O17=\"\"),\"\",O$2&O17+'1学期'!O17+'2学期'!O17&\"、\")","v":""},{"$f":"IF(AND(P17=\"\",'1学期'!P17=\"\",'2学期'!P17=\"\"),\"\",P$2&P17+'1学期'!P17+'2学期'!P17&\"、\")","v":""},{"$f":"IF(AND(Q17=\"\",'1学期'!Q17=\"\",'2学期'!Q17=\"\"),\"\",Q$2&Q17+'1学期'!Q17+'2学期'!Q17&\"、\")","v":""},{"$f":"IF(AND(R17=\"\",'1学期'!R17=\"\",'2学期'!R17=\"\"),\"\",R$2&R17+'1学期'!R17+'2学期'!R17&\"、\")","v":""},{"$f":"IF(AND(S17=\"\",'1学期'!S17=\"\",'2学期'!S17=\"\"),\"\",S$2&S17+'1学期'!S17+'2学期'!S17&\"、\")","v":""},{"$f":"IF(AND(T17=\"\",'1学期'!T17=\"\",'2学期'!T17=\"\"),\"\",T$2&T17+'1学期'!T17+'2学期'!T17&\"、\")","v":""},{"$f":"IF(AND(U17=\"\",'1学期'!U17=\"\",'2学期'!U17=\"\"),\"\",U$2&U17+'1学期'!U17+'2学期'!U17&\"、\")","v":""},{"$f":"IF(AND(V17=\"\",'1学期'!V17=\"\",'2学期'!V17=\"\"),\"\",V$2&V17+'1学期'!V17+'2学期'!V17&\"、\")","v":""},{"$f":"IF(AND(W17=\"\",'1学期'!W17=\"\",'2学期'!W17=\"\"),\"\",W$2&W17+'1学期'!W17+'2学期'!W17&\"、\")","v":""},{"$f":"IF(AND(X17=\"\",'1学期'!X17=\"\",'2学期'!X17=\"\"),\"\",X$2&X17+'1学期'!X17+'2学期'!X17&\"、\")","v":""},{"$f":"IF(AND(Y17=\"\",'1学期'!Y17=\"\",'2学期'!Y17=\"\"),\"\",Y$2&Y17+'1学期'!Y17+'2学期'!Y17&\"、\")","v":""},{"$f":"IF(AND(Z17=\"\",'1学期'!Z17=\"\",'2学期'!Z17=\"\"),\"\",Z$2&Z17+'1学期'!Z17+'2学期'!Z17&\"、\")","v":""},null,""]
[{"$f":"IF(名簿!$A16=\"\",\"\",名簿!$A16)","v":1116},{"$f":"IFERROR(VLOOKUP($A18,名簿!$A:$C,3,0),\"\")","v":0},56,0,0,0,0,0,null,{"$f":"IF(AT18=\"\",IF(OR('1学期'!AA18=\"あり\",'2学期'!AA18=\"あり\",AA18=\"あり\"),\"特記事項なし\",\"皆勤\"),IF(AND('1学期'!AA18=\"\",'2学期'!AA18=\"\",AA18=\"\",COUNTBLANK(AI18:AQ18)=COUNTA($AI$2:$AQ$2)),\"皆勤、\"&LEFT(AT18,LEN(AT18)-1),LEFT(AT18,LEN(AT18)-1)))","v":"皆勤"},null,null,null,null,null,null,null,null,null,null,null,null,null,null,null,null,null,null,null,{"$f":"IF(AND(L18=\"\",'1学期'!L18=\"\",'2学期'!L18=\"\"),\"\",L$2&L18+'1学期'!L18+'2学期'!L18&\"、\")","v":""},{"$f":"IF(AND(M18=\"\",'1学期'!M18=\"\",'2学期'!M18=\"\"),\"\",M$2&M18+'1学期'!M18+'2学期'!M18&\"、\")","v":""},{"$f":"IF(AND(N18=\"\",'1学期'!N18=\"\",'2学期'!N18=\"\"),\"\",N$2&N18+'1学期'!N18+'2学期'!N18&\"、\")","v":""},{"$f":"IF(AND(O18=\"\",'1学期'!O18=\"\",'2学期'!O18=\"\"),\"\",O$2&O18+'1学期'!O18+'2学期'!O18&\"、\")","v":""},{"$f":"IF(AND(P18=\"\",'1学期'!P18=\"\",'2学期'!P18=\"\"),\"\",P$2&P18+'1学期'!P18+'2学期'!P18&\"、\")","v":""},{"$f":"IF(AND(Q18=\"\",'1学期'!Q18=\"\",'2学期'!Q18=\"\"),\"\",Q$2&Q18+'1学期'!Q18+'2学期'!Q18&\"、\")","v":""},{"$f":"IF(AND(R18=\"\",'1学期'!R18=\"\",'2学期'!R18=\"\"),\"\",R$2&R18+'1学期'!R18+'2学期'!R18&\"、\")","v":""},{"$f":"IF(AND(S18=\"\",'1学期'!S18=\"\",'2学期'!S18=\"\"),\"\",S$2&S18+'1学期'!S18+'2学期'!S18&\"、\")","v":""},{"$f":"IF(AND(T18=\"\",'1学期'!T18=\"\",'2学期'!T18=\"\"),\"\",T$2&T18+'1学期'!T18+'2学期'!T18&\"、\")","v":""},{"$f":"IF(AND(U18=\"\",'1学期'!U18=\"\",'2学期'!U18=\"\"),\"\",U$2&U18+'1学期'!U18+'2学期'!U18&\"、\")","v":""},{"$f":"IF(AND(V18=\"\",'1学期'!V18=\"\",'2学期'!V18=\"\"),\"\",V$2&V18+'1学期'!V18+'2学期'!V18&\"、\")","v":""},{"$f":"IF(AND(W18=\"\",'1学期'!W18=\"\",'2学期'!W18=\"\"),\"\",W$2&W18+'1学期'!W18+'2学期'!W18&\"、\")","v":""},{"$f":"IF(AND(X18=\"\",'1学期'!X18=\"\",'2学期'!X18=\"\"),\"\",X$2&X18+'1学期'!X18+'2学期'!X18&\"、\")","v":""},{"$f":"IF(AND(Y18=\"\",'1学期'!Y18=\"\",'2学期'!Y18=\"\"),\"\",Y$2&Y18+'1学期'!Y18+'2学期'!Y18&\"、\")","v":""},{"$f":"IF(AND(Z18=\"\",'1学期'!Z18=\"\",'2学期'!Z18=\"\"),\"\",Z$2&Z18+'1学期'!Z18+'2学期'!Z18&\"、\")","v":""},null,""]
[{"$f":"IF(名簿!$A17=\"\",\"\",名簿!$A17)","v":1117},{"$f":"IFERROR(VLOOKUP($A19,名簿!$A:$C,3,0),\"\")","v":0},56,0,0,0,0,0,null,{"$f":"IF(AT19=\"\",IF(OR('1学期'!AA19=\"あり\",'2学期'!AA19=\"あり\",AA19=\"あり\"),\"特記事項なし\",\"皆勤\"),IF(AND('1学期'!AA19=\"\",'2学期'!AA19=\"\",AA19=\"\",COUNTBLANK(AI19:AQ19)=COUNTA($AI$2:$AQ$2)),\"皆勤、\"&LEFT(AT19,LEN(AT19)-1),LEFT(AT19,LEN(AT19)-1)))","v":"頭痛1、感染症予防のため6"},null,6,null,null,null,null,null,null,null,null,null,null,null,null,null,null,null,null,null,{"$f":"IF(AND(L19=\"\",'1学期'!L19=\"\",'2学期'!L19=\"\"),\"\",L$2&L19+'1学期'!L19+'2学期'!L19&\"、\")","v":"感染症予防のため6、"},{"$f":"IF(AND(M19=\"\",'1学期'!M19=\"\",'2学期'!M19=\"\"),\"\",M$2&M19+'1学期'!M19+'2学期'!M19&\"、\")","v":""},{"$f":"IF(AND(N19=\"\",'1学期'!N19=\"\",'2学期'!N19=\"\"),\"\",N$2&N19+'1学期'!N19+'2学期'!N19&\"、\")","v":""},{"$f":"IF(AND(O19=\"\",'1学期'!O19=\"\",'2学期'!O19=\"\"),\"\",O$2&O19+'1学期'!O19+'2学期'!O19&\"、\")","v":""},{"$f":"IF(AND(P19=\"\",'1学期'!P19=\"\",'2学期'!P19=\"\"),\"\",P$2&P19+'1学期'!P19+'2学期'!P19&\"、\")","v":""},{"$f":"IF(AND(Q19=\"\",'1学期'!Q19=\"\",'2学期'!Q19=\"\"),\"\",Q$2&Q19+'1学期'!Q19+'2学期'!Q19&\"、\")","v":""},{"$f":"IF(AND(R19=\"\",'1学期'!R19=\"\",'2学期'!R19=\"\"),\"\",R$2&R19+'1学期'!R19+'2学期'!R19&\"、\")","v":""},{"$f":"IF(AND(S19=\"\",'1学期'!S19=\"\",'2学期'!S19=\"\"),\"\",S$2&S19+'1学期'!S19+'2学期'!S19&\"、\")","v":""},{"$f":"IF(AND(T19=\"\",'1学期'!T19=\"\",'2学期'!T19=\"\"),\"\",T$2&T19+'1学期'!T19+'2学期'!T19&\"、\")","v":"頭痛1、"},{"$f":"IF(AND(U19=\"\",'1学期'!U19=\"\",'2学期'!U19=\"\"),\"\",U$2&U19+'1学期'!U19+'2学期'!U19&\"、\")","v":""},{"$f":"IF(AND(V19=\"\",'1学期'!V19=\"\",'2学期'!V19=\"\"),\"\",V$2&V19+'1学期'!V19+'2学期'!V19&\"、\")","v":""},{"$f":"IF(AND(W19=\"\",'1学期'!W19=\"\",'2学期'!W19=\"\"),\"\",W$2&W19+'1学期'!W19+'2学期'!W19&\"、\")","v":""},{"$f":"IF(AND(X19=\"\",'1学期'!X19=\"\",'2学期'!X19=\"\"),\"\",X$2&X19+'1学期'!X19+'2学期'!X19&\"、\")","v":""},{"$f":"IF(AND(Y19=\"\",'1学期'!Y19=\"\",'2学期'!Y19=\"\"),\"\",Y$2&Y19+'1学期'!Y19+'2学期'!Y19&\"、\")","v":""},{"$f":"IF(AND(Z19=\"\",'1学期'!Z19=\"\",'2学期'!Z19=\"\"),\"\",Z$2&Z19+'1学期'!Z19+'2学期'!Z19&\"、\")","v":""},null,"頭痛1、感染症予防のため6、"]
[{"$f":"IF(名簿!$A18=\"\",\"\",名簿!$A18)","v":1118},{"$f":"IFERROR(VLOOKUP($A20,名簿!$A:$C,3,0),\"\")","v":0},56,0,0,0,0,0,null,{"$f":"IF(AT20=\"\",IF(OR('1学期'!AA20=\"あり\",'2学期'!AA20=\"あり\",AA20=\"あり\"),\"特記事項なし\",\"皆勤\"),IF(AND('1学期'!AA20=\"\",'2学期'!AA20=\"\",AA20=\"\",COUNTBLANK(AI20:AQ20)=COUNTA($AI$2:$AQ$2)),\"皆勤、\"&LEFT(AT20,LEN(AT20)-1),LEFT(AT20,LEN(AT20)-1)))","v":"皆勤"},null,null,null,null,null,null,null,null,null,null,null,null,null,null,null,null,null,null,null,{"$f":"IF(AND(L20=\"\",'1学期'!L20=\"\",'2学期'!L20=\"\"),\"\",L$2&L20+'1学期'!L20+'2学期'!L20&\"、\")","v":""},{"$f":"IF(AND(M20=\"\",'1学期'!M20=\"\",'2学期'!M20=\"\"),\"\",M$2&M20+'1学期'!M20+'2学期'!M20&\"、\")","v":""},{"$f":"IF(AND(N20=\"\",'1学期'!N20=\"\",'2学期'!N20=\"\"),\"\",N$2&N20+'1学期'!N20+'2学期'!N20&\"、\")","v":""},{"$f":"IF(AND(O20=\"\",'1学期'!O20=\"\",'2学期'!O20=\"\"),\"\",O$2&O20+'1学期'!O20+'2学期'!O20&\"、\")","v":""},{"$f":"IF(AND(P20=\"\",'1学期'!P20=\"\",'2学期'!P20=\"\"),\"\",P$2&P20+'1学期'!P20+'2学期'!P20&\"、\")","v":""},{"$f":"IF(AND(Q20=\"\",'1学期'!Q20=\"\",'2学期'!Q20=\"\"),\"\",Q$2&Q20+'1学期'!Q20+'2学期'!Q20&\"、\")","v":""},{"$f":"IF(AND(R20=\"\",'1学期'!R20=\"\",'2学期'!R20=\"\"),\"\",R$2&R20+'1学期'!R20+'2学期'!R20&\"、\")","v":""},{"$f":"IF(AND(S20=\"\",'1学期'!S20=\"\",'2学期'!S20=\"\"),\"\",S$2&S20+'1学期'!S20+'2学期'!S20&\"、\")","v":""},{"$f":"IF(AND(T20=\"\",'1学期'!T20=\"\",'2学期'!T20=\"\"),\"\",T$2&T20+'1学期'!T20+'2学期'!T20&\"、\")","v":""},{"$f":"IF(AND(U20=\"\",'1学期'!U20=\"\",'2学期'!U20=\"\"),\"\",U$2&U20+'1学期'!U20+'2学期'!U20&\"、\")","v":""},{"$f":"IF(AND(V20=\"\",'1学期'!V20=\"\",'2学期'!V20=\"\"),\"\",V$2&V20+'1学期'!V20+'2学期'!V20&\"、\")","v":""},{"$f":"IF(AND(W20=\"\",'1学期'!W20=\"\",'2学期'!W20=\"\"),\"\",W$2&W20+'1学期'!W20+'2学期'!W20&\"、\")","v":""},{"$f":"IF(AND(X20=\"\",'1学期'!X20=\"\",'2学期'!X20=\"\"),\"\",X$2&X20+'1学期'!X20+'2学期'!X20&\"、\")","v":""},{"$f":"IF(AND(Y20=\"\",'1学期'!Y20=\"\",'2学期'!Y20=\"\"),\"\",Y$2&Y20+'1学期'!Y20+'2学期'!Y20&\"、\")","v":""},{"$f":"IF(AND(Z20=\"\",'1学期'!Z20=\"\",'2学期'!Z20=\"\"),\"\",Z$2&Z20+'1学期'!Z20+'2学期'!Z20&\"、\")","v":""},null,""]
[{"$f":"IF(名簿!$A19=\"\",\"\",名簿!$A19)","v":1119},{"$f":"IFERROR(VLOOKUP($A21,名簿!$A:$C,3,0),\"\")","v":0},56,0,0,0,0,0,null,{"$f":"IF(AT21=\"\",IF(OR('1学期'!AA21=\"あり\",'2学期'!AA21=\"あり\",AA21=\"あり\"),\"特記事項なし\",\"皆勤\"),IF(AND('1学期'!AA21=\"\",'2学期'!AA21=\"\",AA21=\"\",COUNTBLANK(AI21:AQ21)=COUNTA($AI$2:$AQ$2)),\"皆勤、\"&LEFT(AT21,LEN(AT21)-1),LEFT(AT21,LEN(AT21)-1)))","v":"発熱1、感染症のため8"},null,null,null,null,null,null,null,null,null,null,null,null,null,null,null,null,null,null,null,{"$f":"IF(AND(L21=\"\",'1学期'!L21=\"\",'2学期'!L21=\"\"),\"\",L$2&L21+'1学期'!L21+'2学期'!L21&\"、\")","v":""},{"$f":"IF(AND(M21=\"\",'1学期'!M21=\"\",'2学期'!M21=\"\"),\"\",M$2&M21+'1学期'!M21+'2学期'!M21&\"、\")","v":"感染症のため8、"},{"$f":"IF(AND(N21=\"\",'1学期'!N21=\"\",'2学期'!N21=\"\"),\"\",N$2&N21+'1学期'!N21+'2学期'!N21&\"、\")","v":""},{"$f":"IF(AND(O21=\"\",'1学期'!O21=\"\",'2学期'!O21=\"\"),\"\",O$2&O21+'1学期'!O21+'2学期'!O21&\"、\")","v":""},{"$f":"IF(AND(P21=\"\",'1学期'!P21=\"\",'2学期'!P21=\"\"),\"\",P$2&P21+'1学期'!P21+'2学期'!P21&\"、\")","v":""},{"$f":"IF(AND(Q21=\"\",'1学期'!Q21=\"\",'2学期'!Q21=\"\"),\"\",Q$2&Q21+'1学期'!Q21+'2学期'!Q21&\"、\")","v":""},{"$f":"IF(AND(R21=\"\",'1学期'!R21=\"\",'2学期'!R21=\"\"),\"\",R$2&R21+'1学期'!R21+'2学期'!R21&\"、\")","v":"発熱1、"},{"$f":"IF(AND(S21=\"\",'1学期'!S21=\"\",'2学期'!S21=\"\"),\"\",S$2&S21+'1学期'!S21+'2学期'!S21&\"、\")","v":""},{"$f":"IF(AND(T21=\"\",'1学期'!T21=\"\",'2学期'!T21=\"\"),\"\",T$2&T21+'1学期'!T21+'2学期'!T21&\"、\")","v":""},{"$f":"IF(AND(U21=\"\",'1学期'!U21=\"\",'2学期'!U21=\"\"),\"\",U$2&U21+'1学期'!U21+'2学期'!U21&\"、\")","v":""},{"$f":"IF(AND(V21=\"\",'1学期'!V21=\"\",'2学期'!V21=\"\"),\"\",V$2&V21+'1学期'!V21+'2学期'!V21&\"、\")","v":""},{"$f":"IF(AND(W21=\"\",'1学期'!W21=\"\",'2学期'!W21=\"\"),\"\",W$2&W21+'1学期'!W21+'2学期'!W21&\"、\")","v":""},{"$f":"IF(AND(X21=\"\",'1学期'!X21=\"\",'2学期'!X21=\"\"),\"\",X$2&X21+'1学期'!X21+'2学期'!X21&\"、\")","v":""},{"$f":"IF(AND(Y21=\"\",'1学期'!Y21=\"\",'2学期'!Y21=\"\"),\"\",Y$2&Y21+'1学期'!Y21+'2学期'!Y21&\"、\")","v":""},{"$f":"IF(AND(Z21=\"\",'1学期'!Z21=\"\",'2学期'!Z21=\"\"),\"\",Z$2&Z21+'1学期'!Z21+'2学期'!Z21&\"、\")","v":""},null,"発熱1、感染症のため8、"]
[{"$f":"IF(名簿!$A20=\"\",\"\",名簿!$A20)","v":1120},{"$f":"IFERROR(VLOOKUP($A22,名簿!$A:$C,3,0),\"\")","v":0},56,0,0,0,0,0,null,{"$f":"IF(AT22=\"\",IF(OR('1学期'!AA22=\"あり\",'2学期'!AA22=\"あり\",AA22=\"あり\"),\"特記事項なし\",\"皆勤\"),IF(AND('1学期'!AA22=\"\",'2学期'!AA22=\"\",AA22=\"\",COUNTBLANK(AI22:AQ22)=COUNTA($AI$2:$AQ$2)),\"皆勤、\"&LEFT(AT22,LEN(AT22)-1),LEFT(AT22,LEN(AT22)-1)))","v":"体調不良23、発熱9、頭痛2、腹痛2、自己都合16"},null,null,null,null,null,null,null,null,null,null,null,null,null,null,null,null,null,null,null,{"$f":"IF(AND(L22=\"\",'1学期'!L22=\"\",'2学期'!L22=\"\"),\"\",L$2&L22+'1学期'!L22+'2学期'!L22&\"、\")","v":""},{"$f":"IF(AND(M22=\"\",'1学期'!M22=\"\",'2学期'!M22=\"\"),\"\",M$2&M22+'1学期'!M22+'2学期'!M22&\"、\")","v":""},{"$f":"IF(AND(N22=\"\",'1学期'!N22=\"\",'2学期'!N22=\"\"),\"\",N$2&N22+'1学期'!N22+'2学期'!N22&\"、\")","v":""},{"$f":"IF(AND(O22=\"\",'1学期'!O22=\"\",'2学期'!O22=\"\"),\"\",O$2&O22+'1学期'!O22+'2学期'!O22&\"、\")","v":""},{"$f":"IF(AND(P22=\"\",'1学期'!P22=\"\",'2学期'!P22=\"\"),\"\",P$2&P22+'1学期'!P22+'2学期'!P22&\"、\")","v":""},{"$f":"IF(AND(Q22=\"\",'1学期'!Q22=\"\",'2学期'!Q22=\"\"),\"\",Q$2&Q22+'1学期'!Q22+'2学期'!Q22&\"、\")","v":"体調不良23、"},{"$f":"IF(AND(R22=\"\",'1学期'!R22=\"\",'2学期'!R22=\"\"),\"\",R$2&R22+'1学期'!R22+'2学期'!R22&\"、\")","v":"発熱9、"},{"$f":"IF(AND(S22=\"\",'1学期'!S22=\"\",'2学期'!S22=\"\"),\"\",S$2&S22+'1学期'!S22+'2学期'!S22&\"、\")","v":""},{"$f":"IF(AND(T22=\"\",'1学期'!T22=\"\",'2学期'!T22=\"\"),\"\",T$2&T22+'1学期'!T22+'2学期'!T22&\"、\")","v":"頭痛2、"},{"$f":"IF(AND(U22=\"\",'1学期'!U22=\"\",'2学期'!U22=\"\"),\"\",U$2&U22+'1学期'!U22+'2学期'!U22&\"、\")","v":"腹痛2、"},{"$f":"IF(AND(V22=\"\",'1学期'!V22=\"\",'2学期'!V22=\"\"),\"\",V$2&V22+'1学期'!V22+'2学期'!V22&\"、\")","v":""},{"$f":"IF(AND(W22=\"\",'1学期'!W22=\"\",'2学期'!W22=\"\"),\"\",W$2&W22+'1学期'!W22+'2学期'!W22&\"、\")","v":""},{"$f":"IF(AND(X22=\"\",'1学期'!X22=\"\",'2学期'!X22=\"\"),\"\",X$2&X22+'1学期'!X22+'2学期'!X22&\"、\")","v":""},{"$f":"IF(AND(Y22=\"\",'1学期'!Y22=\"\",'2学期'!Y22=\"\"),\"\",Y$2&Y22+'1学期'!Y22+'2学期'!Y22&\"、\")","v":""},{"$f":"IF(AND(Z22=\"\",'1学期'!Z22=\"\",'2学期'!Z22=\"\"),\"\",Z$2&Z22+'1学期'!Z22+'2学期'!Z22&\"、\")","v":"自己都合16、"},null,"体調不良23、発熱9、頭痛2、腹痛2、自己都合16、"]
[{"$f":"IF(名簿!$A21=\"\",\"\",名簿!$A21)","v":1121},{"$f":"IFERROR(VLOOKUP($A23,名簿!$A:$C,3,0),\"\")","v":0},56,0,0,0,0,0,null,{"$f":"IF(AT23=\"\",IF(OR('1学期'!AA23=\"あり\",'2学期'!AA23=\"あり\",AA23=\"あり\"),\"特記事項なし\",\"皆勤\"),IF(AND('1学期'!AA23=\"\",'2学期'!AA23=\"\",AA23=\"\",COUNTBLANK(AI23:AQ23)=COUNTA($AI$2:$AQ$2)),\"皆勤、\"&LEFT(AT23,LEN(AT23)-1),LEFT(AT23,LEN(AT23)-1)))","v":"体調不良13、腹痛4"},null,null,null,null,null,null,null,null,null,null,3,null,null,null,null,null,null,null,null,{"$f":"IF(AND(L23=\"\",'1学期'!L23=\"\",'2学期'!L23=\"\"),\"\",L$2&L23+'1学期'!L23+'2学期'!L23&\"、\")","v":""},{"$f":"IF(AND(M23=\"\",'1学期'!M23=\"\",'2学期'!M23=\"\"),\"\",M$2&M23+'1学期'!M23+'2学期'!M23&\"、\")","v":""},{"$f":"IF(AND(N23=\"\",'1学期'!N23=\"\",'2学期'!N23=\"\"),\"\",N$2&N23+'1学期'!N23+'2学期'!N23&\"、\")","v":""},{"$f":"IF(AND(O23=\"\",'1学期'!O23=\"\",'2学期'!O23=\"\"),\"\",O$2&O23+'1学期'!O23+'2学期'!O23&\"、\")","v":""},{"$f":"IF(AND(P23=\"\",'1学期'!P23=\"\",'2学期'!P23=\"\"),\"\",P$2&P23+'1学期'!P23+'2学期'!P23&\"、\")","v":""},{"$f":"IF(AND(Q23=\"\",'1学期'!Q23=\"\",'2学期'!Q23=\"\"),\"\",Q$2&Q23+'1学期'!Q23+'2学期'!Q23&\"、\")","v":"体調不良13、"},{"$f":"IF(AND(R23=\"\",'1学期'!R23=\"\",'2学期'!R23=\"\"),\"\",R$2&R23+'1学期'!R23+'2学期'!R23&\"、\")","v":""},{"$f":"IF(AND(S23=\"\",'1学期'!S23=\"\",'2学期'!S23=\"\"),\"\",S$2&S23+'1学期'!S23+'2学期'!S23&\"、\")","v":""},{"$f":"IF(AND(T23=\"\",'1学期'!T23=\"\",'2学期'!T23=\"\"),\"\",T$2&T23+'1学期'!T23+'2学期'!T23&\"、\")","v":""},{"$f":"IF(AND(U23=\"\",'1学期'!U23=\"\",'2学期'!U23=\"\"),\"\",U$2&U23+'1学期'!U23+'2学期'!U23&\"、\")","v":"腹痛4、"},{"$f":"IF(AND(V23=\"\",'1学期'!V23=\"\",'2学期'!V23=\"\"),\"\",V$2&V23+'1学期'!V23+'2学期'!V23&\"、\")","v":""},{"$f":"IF(AND(W23=\"\",'1学期'!W23=\"\",'2学期'!W23=\"\"),\"\",W$2&W23+'1学期'!W23+'2学期'!W23&\"、\")","v":""},{"$f":"IF(AND(X23=\"\",'1学期'!X23=\"\",'2学期'!X23=\"\"),\"\",X$2&X23+'1学期'!X23+'2学期'!X23&\"、\")","v":""},{"$f":"IF(AND(Y23=\"\",'1学期'!Y23=\"\",'2学期'!Y23=\"\"),\"\",Y$2&Y23+'1学期'!Y23+'2学期'!Y23&\"、\")","v":""},{"$f":"IF(AND(Z23=\"\",'1学期'!Z23=\"\",'2学期'!Z23=\"\"),\"\",Z$2&Z23+'1学期'!Z23+'2学期'!Z23&\"、\")","v":""},null,"体調不良13、腹痛4、"]
[{"$f":"IF(名簿!$A22=\"\",\"\",名簿!$A22)","v":1122},{"$f":"IFERROR(VLOOKUP($A24,名簿!$A:$C,3,0),\"\")","v":0},56,0,0,0,0,0,null,{"$f":"IF(AT24=\"\",IF(OR('1学期'!AA24=\"あり\",'2学期'!AA24=\"あり\",AA24=\"あり\"),\"特記事項なし\",\"皆勤\"),IF(AND('1学期'!AA24=\"\",'2学期'!AA24=\"\",AA24=\"\",COUNTBLANK(AI24:AQ24)=COUNTA($AI$2:$AQ$2)),\"皆勤、\"&LEFT(AT24,LEN(AT24)-1),LEFT(AT24,LEN(AT24)-1)))","v":"体調不良9、発熱1、家事都合2、感染症予防のため2"},null,null,null,null,null,null,null,null,null,null,null,null,null,null,null,null,null,null,null,{"$f":"IF(AND(L24=\"\",'1学期'!L24=\"\",'2学期'!L24=\"\"),\"\",L$2&L24+'1学期'!L24+'2学期'!L24&\"、\")","v":"感染症予防のため2、"},{"$f":"IF(AND(M24=\"\",'1学期'!M24=\"\",'2学期'!M24=\"\"),\"\",M$2&M24+'1学期'!M24+'2学期'!M24&\"、\")","v":""},{"$f":"IF(AND(N24=\"\",'1学期'!N24=\"\",'2学期'!N24=\"\"),\"\",N$2&N24+'1学期'!N24+'2学期'!N24&\"、\")","v":""},{"$f":"IF(AND(O24=\"\",'1学期'!O24=\"\",'2学期'!O24=\"\"),\"\",O$2&O24+'1学期'!O24+'2学期'!O24&\"、\")","v":""},{"$f":"IF(AND(P24=\"\",'1学期'!P24=\"\",'2学期'!P24=\"\"),\"\",P$2&P24+'1学期'!P24+'2学期'!P24&\"、\")","v":""},{"$f":"IF(AND(Q24=\"\",'1学期'!Q24=\"\",'2学期'!Q24=\"\"),\"\",Q$2&Q24+'1学期'!Q24+'2学期'!Q24&\"、\")","v":"体調不良9、"},{"$f":"IF(AND(R24=\"\",'1学期'!R24=\"\",'2学期'!R24=\"\"),\"\",R$2&R24+'1学期'!R24+'2学期'!R24&\"、\")","v":"発熱1、"},{"$f":"IF(AND(S24=\"\",'1学期'!S24=\"\",'2学期'!S24=\"\"),\"\",S$2&S24+'1学期'!S24+'2学期'!S24&\"、\")","v":""},{"$f":"IF(AND(T24=\"\",'1学期'!T24=\"\",'2学期'!T24=\"\"),\"\",T$2&T24+'1学期'!T24+'2学期'!T24&\"、\")","v":""},{"$f":"IF(AND(U24=\"\",'1学期'!U24=\"\",'2学期'!U24=\"\"),\"\",U$2&U24+'1学期'!U24+'2学期'!U24&\"、\")","v":""},{"$f":"IF(AND(V24=\"\",'1学期'!V24=\"\",'2学期'!V24=\"\"),\"\",V$2&V24+'1学期'!V24+'2学期'!V24&\"、\")","v":""},{"$f":"IF(AND(W24=\"\",'1学期'!W24=\"\",'2学期'!W24=\"\"),\"\",W$2&W24+'1学期'!W24+'2学期'!W24&\"、\")","v":""},{"$f":"IF(AND(X24=\"\",'1学期'!X24=\"\",'2学期'!X24=\"\"),\"\",X$2&X24+'1学期'!X24+'2学期'!X24&\"、\")","v":""},{"$f":"IF(AND(Y24=\"\",'1学期'!Y24=\"\",'2学期'!Y24=\"\"),\"\",Y$2&Y24+'1学期'!Y24+'2学期'!Y24&\"、\")","v":"家事都合2、"},{"$f":"IF(AND(Z24=\"\",'1学期'!Z24=\"\",'2学期'!Z24=\"\"),\"\",Z$2&Z24+'1学期'!Z24+'2学期'!Z24&\"、\")","v":""},null,"体調不良9、発熱1、家事都合2、感染症予防のため2、"]
[{"$f":"IF(名簿!$A23=\"\",\"\",名簿!$A23)","v":1123},{"$f":"IFERROR(VLOOKUP($A25,名簿!$A:$C,3,0),\"\")","v":0},56,0,0,0,0,0,null,{"$f":"IF(AT25=\"\",IF(OR('1学期'!AA25=\"あり\",'2学期'!AA25=\"あり\",AA25=\"あり\"),\"特記事項なし\",\"皆勤\"),IF(AND('1学期'!AA25=\"\",'2学期'!AA25=\"\",AA25=\"\",COUNTBLANK(AI25:AQ25)=COUNTA($AI$2:$AQ$2)),\"皆勤、\"&LEFT(AT25,LEN(AT25)-1),LEFT(AT25,LEN(AT25)-1)))","v":"皆勤、祖父葬儀1"},null,null,null,null,1,null,null,null,null,null,null,null,null,null,null,null,null,null,null,{"$f":"IF(AND(L25=\"\",'1学期'!L25=\"\",'2学期'!L25=\"\"),\"\",L$2&L25+'1学期'!L25+'2学期'!L25&\"、\")","v":""},{"$f":"IF(AND(M25=\"\",'1学期'!M25=\"\",'2学期'!M25=\"\"),\"\",M$2&M25+'1学期'!M25+'2学期'!M25&\"、\")","v":""},{"$f":"IF(AND(N25=\"\",'1学期'!N25=\"\",'2学期'!N25=\"\"),\"\",N$2&N25+'1学期'!N25+'2学期'!N25&\"、\")","v":""},{"$f":"IF(AND(O25=\"\",'1学期'!O25=\"\",'2学期'!O25=\"\"),\"\",O$2&O25+'1学期'!O25+'2学期'!O25&\"、\")","v":"祖父葬儀1、"},{"$f":"IF(AND(P25=\"\",'1学期'!P25=\"\",'2学期'!P25=\"\"),\"\",P$2&P25+'1学期'!P25+'2学期'!P25&\"、\")","v":""},{"$f":"IF(AND(Q25=\"\",'1学期'!Q25=\"\",'2学期'!Q25=\"\"),\"\",Q$2&Q25+'1学期'!Q25+'2学期'!Q25&\"、\")","v":""},{"$f":"IF(AND(R25=\"\",'1学期'!R25=\"\",'2学期'!R25=\"\"),\"\",R$2&R25+'1学期'!R25+'2学期'!R25&\"、\")","v":""},{"$f":"IF(AND(S25=\"\",'1学期'!S25=\"\",'2学期'!S25=\"\"),\"\",S$2&S25+'1学期'!S25+'2学期'!S25&\"、\")","v":""},{"$f":"IF(AND(T25=\"\",'1学期'!T25=\"\",'2学期'!T25=\"\"),\"\",T$2&T25+'1学期'!T25+'2学期'!T25&\"、\")","v":""},{"$f":"IF(AND(U25=\"\",'1学期'!U25=\"\",'2学期'!U25=\"\"),\"\",U$2&U25+'1学期'!U25+'2学期'!U25&\"、\")","v":""},{"$f":"IF(AND(V25=\"\",'1学期'!V25=\"\",'2学期'!V25=\"\"),\"\",V$2&V25+'1学期'!V25+'2学期'!V25&\"、\")","v":""},{"$f":"IF(AND(W25=\"\",'1学期'!W25=\"\",'2学期'!W25=\"\"),\"\",W$2&W25+'1学期'!W25+'2学期'!W25&\"、\")","v":""},{"$f":"IF(AND(X25=\"\",'1学期'!X25=\"\",'2学期'!X25=\"\"),\"\",X$2&X25+'1学期'!X25+'2学期'!X25&\"、\")","v":""},{"$f":"IF(AND(Y25=\"\",'1学期'!Y25=\"\",'2学期'!Y25=\"\"),\"\",Y$2&Y25+'1学期'!Y25+'2学期'!Y25&\"、\")","v":""},{"$f":"IF(AND(Z25=\"\",'1学期'!Z25=\"\",'2学期'!Z25=\"\"),\"\",Z$2&Z25+'1学期'!Z25+'2学期'!Z25&\"、\")","v":""},null,"祖父葬儀1、"]
[{"$f":"IF(名簿!$A24=\"\",\"\",名簿!$A24)","v":1124},{"$f":"IFERROR(VLOOKUP($A26,名簿!$A:$C,3,0),\"\")","v":0},56,0,0,0,0,0,null,{"$f":"IF(AT26=\"\",IF(OR('1学期'!AA26=\"あり\",'2学期'!AA26=\"あり\",AA26=\"あり\"),\"特記事項なし\",\"皆勤\"),IF(AND('1学期'!AA26=\"\",'2学期'!AA26=\"\",AA26=\"\",COUNTBLANK(AI26:AQ26)=COUNTA($AI$2:$AQ$2)),\"皆勤、\"&LEFT(AT26,LEN(AT26)-1),LEFT(AT26,LEN(AT26)-1)))","v":"皆勤"},null,null,null,null,null,null,null,null,null,null,null,null,null,null,null,null,null,null,null,{"$f":"IF(AND(L26=\"\",'1学期'!L26=\"\",'2学期'!L26=\"\"),\"\",L$2&L26+'1学期'!L26+'2学期'!L26&\"、\")","v":""},{"$f":"IF(AND(M26=\"\",'1学期'!M26=\"\",'2学期'!M26=\"\"),\"\",M$2&M26+'1学期'!M26+'2学期'!M26&\"、\")","v":""},{"$f":"IF(AND(N26=\"\",'1学期'!N26=\"\",'2学期'!N26=\"\"),\"\",N$2&N26+'1学期'!N26+'2学期'!N26&\"、\")","v":""},{"$f":"IF(AND(O26=\"\",'1学期'!O26=\"\",'2学期'!O26=\"\"),\"\",O$2&O26+'1学期'!O26+'2学期'!O26&\"、\")","v":""},{"$f":"IF(AND(P26=\"\",'1学期'!P26=\"\",'2学期'!P26=\"\"),\"\",P$2&P26+'1学期'!P26+'2学期'!P26&\"、\")","v":""},{"$f":"IF(AND(Q26=\"\",'1学期'!Q26=\"\",'2学期'!Q26=\"\"),\"\",Q$2&Q26+'1学期'!Q26+'2学期'!Q26&\"、\")","v":""},{"$f":"IF(AND(R26=\"\",'1学期'!R26=\"\",'2学期'!R26=\"\"),\"\",R$2&R26+'1学期'!R26+'2学期'!R26&\"、\")","v":""},{"$f":"IF(AND(S26=\"\",'1学期'!S26=\"\",'2学期'!S26=\"\"),\"\",S$2&S26+'1学期'!S26+'2学期'!S26&\"、\")","v":""},{"$f":"IF(AND(T26=\"\",'1学期'!T26=\"\",'2学期'!T26=\"\"),\"\",T$2&T26+'1学期'!T26+'2学期'!T26&\"、\")","v":""},{"$f":"IF(AND(U26=\"\",'1学期'!U26=\"\",'2学期'!U26=\"\"),\"\",U$2&U26+'1学期'!U26+'2学期'!U26&\"、\")","v":""},{"$f":"IF(AND(V26=\"\",'1学期'!V26=\"\",'2学期'!V26=\"\"),\"\",V$2&V26+'1学期'!V26+'2学期'!V26&\"、\")","v":""},{"$f":"IF(AND(W26=\"\",'1学期'!W26=\"\",'2学期'!W26=\"\"),\"\",W$2&W26+'1学期'!W26+'2学期'!W26&\"、\")","v":""},{"$f":"IF(AND(X26=\"\",'1学期'!X26=\"\",'2学期'!X26=\"\"),\"\",X$2&X26+'1学期'!X26+'2学期'!X26&\"、\")","v":""},{"$f":"IF(AND(Y26=\"\",'1学期'!Y26=\"\",'2学期'!Y26=\"\"),\"\",Y$2&Y26+'1学期'!Y26+'2学期'!Y26&\"、\")","v":""},{"$f":"IF(AND(Z26=\"\",'1学期'!Z26=\"\",'2学期'!Z26=\"\"),\"\",Z$2&Z26+'1学期'!Z26+'2学期'!Z26&\"、\")","v":""},null,""]
[{"$f":"IF(名簿!$A25=\"\",\"\",名簿!$A25)","v":1125},{"$f":"IFERROR(VLOOKUP($A27,名簿!$A:$C,3,0),\"\")","v":0},56,0,0,0,0,0,null,{"$f":"IF(AT27=\"\",IF(OR('1学期'!AA27=\"あり\",'2学期'!AA27=\"あり\",AA27=\"あり\"),\"特記事項なし\",\"皆勤\"),IF(AND('1学期'!AA27=\"\",'2学期'!AA27=\"\",AA27=\"\",COUNTBLANK(AI27:AQ27)=COUNTA($AI$2:$AQ$2)),\"皆勤、\"&LEFT(AT27,LEN(AT27)-1),LEFT(AT27,LEN(AT27)-1)))","v":"体調不良2、感染症予防のため1"},null,null,null,null,null,null,null,null,null,null,null,null,null,null,null,null,null,null,null,{"$f":"IF(AND(L27=\"\",'1学期'!L27=\"\",'2学期'!L27=\"\"),\"\",L$2&L27+'1学期'!L27+'2学期'!L27&\"、\")","v":"感染症予防のため1、"},{"$f":"IF(AND(M27=\"\",'1学期'!M27=\"\",'2学期'!M27=\"\"),\"\",M$2&M27+'1学期'!M27+'2学期'!M27&\"、\")","v":""},{"$f":"IF(AND(N27=\"\",'1学期'!N27=\"\",'2学期'!N27=\"\"),\"\",N$2&N27+'1学期'!N27+'2学期'!N27&\"、\")","v":""},{"$f":"IF(AND(O27=\"\",'1学期'!O27=\"\",'2学期'!O27=\"\"),\"\",O$2&O27+'1学期'!O27+'2学期'!O27&\"、\")","v":""},{"$f":"IF(AND(P27=\"\",'1学期'!P27=\"\",'2学期'!P27=\"\"),\"\",P$2&P27+'1学期'!P27+'2学期'!P27&\"、\")","v":""},{"$f":"IF(AND(Q27=\"\",'1学期'!Q27=\"\",'2学期'!Q27=\"\"),\"\",Q$2&Q27+'1学期'!Q27+'2学期'!Q27&\"、\")","v":"体調不良2、"},{"$f":"IF(AND(R27=\"\",'1学期'!R27=\"\",'2学期'!R27=\"\"),\"\",R$2&R27+'1学期'!R27+'2学期'!R27&\"、\")","v":""},{"$f":"IF(AND(S27=\"\",'1学期'!S27=\"\",'2学期'!S27=\"\"),\"\",S$2&S27+'1学期'!S27+'2学期'!S27&\"、\")","v":""},{"$f":"IF(AND(T27=\"\",'1学期'!T27=\"\",'2学期'!T27=\"\"),\"\",T$2&T27+'1学期'!T27+'2学期'!T27&\"、\")","v":""},{"$f":"IF(AND(U27=\"\",'1学期'!U27=\"\",'2学期'!U27=\"\"),\"\",U$2&U27+'1学期'!U27+'2学期'!U27&\"、\")","v":""},{"$f":"IF(AND(V27=\"\",'1学期'!V27=\"\",'2学期'!V27=\"\"),\"\",V$2&V27+'1学期'!V27+'2学期'!V27&\"、\")","v":""},{"$f":"IF(AND(W27=\"\",'1学期'!W27=\"\",'2学期'!W27=\"\"),\"\",W$2&W27+'1学期'!W27+'2学期'!W27&\"、\")","v":""},{"$f":"IF(AND(X27=\"\",'1学期'!X27=\"\",'2学期'!X27=\"\"),\"\",X$2&X27+'1学期'!X27+'2学期'!X27&\"、\")","v":""},{"$f":"IF(AND(Y27=\"\",'1学期'!Y27=\"\",'2学期'!Y27=\"\"),\"\",Y$2&Y27+'1学期'!Y27+'2学期'!Y27&\"、\")","v":""},{"$f":"IF(AND(Z27=\"\",'1学期'!Z27=\"\",'2学期'!Z27=\"\"),\"\",Z$2&Z27+'1学期'!Z27+'2学期'!Z27&\"、\")","v":""},null,"体調不良2、感染症予防のため1、"]
[{"$f":"IF(名簿!$A26=\"\",\"\",名簿!$A26)","v":1126},{"$f":"IFERROR(VLOOKUP($A28,名簿!$A:$C,3,0),\"\")","v":0},56,0,0,0,0,0,null,{"$f":"IF(AT28=\"\",IF(OR('1学期'!AA28=\"あり\",'2学期'!AA28=\"あり\",AA28=\"あり\"),\"特記事項なし\",\"皆勤\"),IF(AND('1学期'!AA28=\"\",'2学期'!AA28=\"\",AA28=\"\",COUNTBLANK(AI28:AQ28)=COUNTA($AI$2:$AQ$2)),\"皆勤、\"&LEFT(AT28,LEN(AT28)-1),LEFT(AT28,LEN(AT28)-1)))","v":"体調不良43、通院3"},null,null,null,null,null,null,null,null,null,null,null,null,3,null,null,null,null,null,null,{"$f":"IF(AND(L28=\"\",'1学期'!L28=\"\",'2学期'!L28=\"\"),\"\",L$2&L28+'1学期'!L28+'2学期'!L28&\"、\")","v":""},{"$f":"IF(AND(M28=\"\",'1学期'!M28=\"\",'2学期'!M28=\"\"),\"\",M$2&M28+'1学期'!M28+'2学期'!M28&\"、\")","v":""},{"$f":"IF(AND(N28=\"\",'1学期'!N28=\"\",'2学期'!N28=\"\"),\"\",N$2&N28+'1学期'!N28+'2学期'!N28&\"、\")","v":""},{"$f":"IF(AND(O28=\"\",'1学期'!O28=\"\",'2学期'!O28=\"\"),\"\",O$2&O28+'1学期'!O28+'2学期'!O28&\"、\")","v":""},{"$f":"IF(AND(P28=\"\",'1学期'!P28=\"\",'2学期'!P28=\"\"),\"\",P$2&P28+'1学期'!P28+'2学期'!P28&\"、\")","v":""},{"$f":"IF(AND(Q28=\"\",'1学期'!Q28=\"\",'2学期'!Q28=\"\"),\"\",Q$2&Q28+'1学期'!Q28+'2学期'!Q28&\"、\")","v":"体調不良43、"},{"$f":"IF(AND(R28=\"\",'1学期'!R28=\"\",'2学期'!R28=\"\"),\"\",R$2&R28+'1学期'!R28+'2学期'!R28&\"、\")","v":""},{"$f":"IF(AND(S28=\"\",'1学期'!S28=\"\",'2学期'!S28=\"\"),\"\",S$2&S28+'1学期'!S28+'2学期'!S28&\"、\")","v":""},{"$f":"IF(AND(T28=\"\",'1学期'!T28=\"\",'2学期'!T28=\"\"),\"\",T$2&T28+'1学期'!T28+'2学期'!T28&\"、\")","v":""},{"$f":"IF(AND(U28=\"\",'1学期'!U28=\"\",'2学期'!U28=\"\"),\"\",U$2&U28+'1学期'!U28+'2学期'!U28&\"、\")","v":""},{"$f":"IF(AND(V28=\"\",'1学期'!V28=\"\",'2学期'!V28=\"\"),\"\",V$2&V28+'1学期'!V28+'2学期'!V28&\"、\")","v":""},{"$f":"IF(AND(W28=\"\",'1学期'!W28=\"\",'2学期'!W28=\"\"),\"\",W$2&W28+'1学期'!W28+'2学期'!W28&\"、\")","v":"通院3、"},{"$f":"IF(AND(X28=\"\",'1学期'!X28=\"\",'2学期'!X28=\"\"),\"\",X$2&X28+'1学期'!X28+'2学期'!X28&\"、\")","v":""},{"$f":"IF(AND(Y28=\"\",'1学期'!Y28=\"\",'2学期'!Y28=\"\"),\"\",Y$2&Y28+'1学期'!Y28+'2学期'!Y28&\"、\")","v":""},{"$f":"IF(AND(Z28=\"\",'1学期'!Z28=\"\",'2学期'!Z28=\"\"),\"\",Z$2&Z28+'1学期'!Z28+'2学期'!Z28&\"、\")","v":""},null,"体調不良43、通院3、"]
[{"$f":"IF(名簿!$A27=\"\",\"\",名簿!$A27)","v":1127},{"$f":"IFERROR(VLOOKUP($A29,名簿!$A:$C,3,0),\"\")","v":0},56,0,0,0,0,0,null,{"$f":"IF(AT29=\"\",IF(OR('1学期'!AA29=\"あり\",'2学期'!AA29=\"あり\",AA29=\"あり\"),\"特記事項なし\",\"皆勤\"),IF(AND('1学期'!AA29=\"\",'2学期'!AA29=\"\",AA29=\"\",COUNTBLANK(AI29:AQ29)=COUNTA($AI$2:$AQ$2)),\"皆勤、\"&LEFT(AT29,LEN(AT29)-1),LEFT(AT29,LEN(AT29)-1)))","v":"体調不良24、発熱1、風邪2"},null,null,null,null,null,null,null,null,2,null,null,null,null,null,null,null,null,null,null,{"$f":"IF(AND(L29=\"\",'1学期'!L29=\"\",'2学期'!L29=\"\"),\"\",L$2&L29+'1学期'!L29+'2学期'!L29&\"、\")","v":""},{"$f":"IF(AND(M29=\"\",'1学期'!M29=\"\",'2学期'!M29=\"\"),\"\",M$2&M29+'1学期'!M29+'2学期'!M29&\"、\")","v":""},{"$f":"IF(AND(N29=\"\",'1学期'!N29=\"\",'2学期'!N29=\"\"),\"\",N$2&N29+'1学期'!N29+'2学期'!N29&\"、\")","v":""},{"$f":"IF(AND(O29=\"\",'1学期'!O29=\"\",'2学期'!O29=\"\"),\"\",O$2&O29+'1学期'!O29+'2学期'!O29&\"、\")","v":""},{"$f":"IF(AND(P29=\"\",'1学期'!P29=\"\",'2学期'!P29=\"\"),\"\",P$2&P29+'1学期'!P29+'2学期'!P29&\"、\")","v":""},{"$f":"IF(AND(Q29=\"\",'1学期'!Q29=\"\",'2学期'!Q29=\"\"),\"\",Q$2&Q29+'1学期'!Q29+'2学期'!Q29&\"、\")","v":"体調不良24、"},{"$f":"IF(AND(R29=\"\",'1学期'!R29=\"\",'2学期'!R29=\"\"),\"\",R$2&R29+'1学期'!R29+'2学期'!R29&\"、\")","v":"発熱1、"},{"$f":"IF(AND(S29=\"\",'1学期'!S29=\"\",'2学期'!S29=\"\"),\"\",S$2&S29+'1学期'!S29+'2学期'!S29&\"、\")","v":"風邪2、"},{"$f":"IF(AND(T29=\"\",'1学期'!T29=\"\",'2学期'!T29=\"\"),\"\",T$2&T29+'1学期'!T29+'2学期'!T29&\"、\")","v":""},{"$f":"IF(AND(U29=\"\",'1学期'!U29=\"\",'2学期'!U29=\"\"),\"\",U$2&U29+'1学期'!U29+'2学期'!U29&\"、\")","v":""},{"$f":"IF(AND(V29=\"\",'1学期'!V29=\"\",'2学期'!V29=\"\"),\"\",V$2&V29+'1学期'!V29+'2学期'!V29&\"、\")","v":""},{"$f":"IF(AND(W29=\"\",'1学期'!W29=\"\",'2学期'!W29=\"\"),\"\",W$2&W29+'1学期'!W29+'2学期'!W29&\"、\")","v":""},{"$f":"IF(AND(X29=\"\",'1学期'!X29=\"\",'2学期'!X29=\"\"),\"\",X$2&X29+'1学期'!X29+'2学期'!X29&\"、\")","v":""},{"$f":"IF(AND(Y29=\"\",'1学期'!Y29=\"\",'2学期'!Y29=\"\"),\"\",Y$2&Y29+'1学期'!Y29+'2学期'!Y29&\"、\")","v":""},{"$f":"IF(AND(Z29=\"\",'1学期'!Z29=\"\",'2学期'!Z29=\"\"),\"\",Z$2&Z29+'1学期'!Z29+'2学期'!Z29&\"、\")","v":""},null,"体調不良24、発熱1、風邪2、"]
[{"$f":"IF(名簿!$A28=\"\",\"\",名簿!$A28)","v":1128},{"$f":"IFERROR(VLOOKUP($A30,名簿!$A:$C,3,0),\"\")","v":0},56,0,0,0,0,0,null,{"$f":"IF(AT30=\"\",IF(OR('1学期'!AA30=\"あり\",'2学期'!AA30=\"あり\",AA30=\"あり\"),\"特記事項なし\",\"皆勤\"),IF(AND('1学期'!AA30=\"\",'2学期'!AA30=\"\",AA30=\"\",COUNTBLANK(AI30:AQ30)=COUNTA($AI$2:$AQ$2)),\"皆勤、\"&LEFT(AT30,LEN(AT30)-1),LEFT(AT30,LEN(AT30)-1)))","v":"風邪3、頭痛2、通院1、祖父葬儀1"},null,null,null,null,1,null,null,null,3,null,null,null,1,null,null,null,null,null,null,{"$f":"IF(AND(L30=\"\",'1学期'!L30=\"\",'2学期'!L30=\"\"),\"\",L$2&L30+'1学期'!L30+'2学期'!L30&\"、\")","v":""},{"$f":"IF(AND(M30=\"\",'1学期'!M30=\"\",'2学期'!M30=\"\"),\"\",M$2&M30+'1学期'!M30+'2学期'!M30&\"、\")","v":""},{"$f":"IF(AND(N30=\"\",'1学期'!N30=\"\",'2学期'!N30=\"\"),\"\",N$2&N30+'1学期'!N30+'2学期'!N30&\"、\")","v":""},{"$f":"IF(AND(O30=\"\",'1学期'!O30=\"\",'2学期'!O30=\"\"),\"\",O$2&O30+'1学期'!O30+'2学期'!O30&\"、\")","v":"祖父葬儀1、"},{"$f":"IF(AND(P30=\"\",'1学期'!P30=\"\",'2学期'!P30=\"\"),\"\",P$2&P30+'1学期'!P30+'2学期'!P30&\"、\")","v":""},{"$f":"IF(AND(Q30=\"\",'1学期'!Q30=\"\",'2学期'!Q30=\"\"),\"\",Q$2&Q30+'1学期'!Q30+'2学期'!Q30&\"、\")","v":""},{"$f":"IF(AND(R30=\"\",'1学期'!R30=\"\",'2学期'!R30=\"\"),\"\",R$2&R30+'1学期'!R30+'2学期'!R30&\"、\")","v":""},{"$f":"IF(AND(S30=\"\",'1学期'!S30=\"\",'2学期'!S30=\"\"),\"\",S$2&S30+'1学期'!S30+'2学期'!S30&\"、\")","v":"風邪3、"},{"$f":"IF(AND(T30=\"\",'1学期'!T30=\"\",'2学期'!T30=\"\"),\"\",T$2&T30+'1学期'!T30+'2学期'!T30&\"、\")","v":"頭痛2、"},{"$f":"IF(AND(U30=\"\",'1学期'!U30=\"\",'2学期'!U30=\"\"),\"\",U$2&U30+'1学期'!U30+'2学期'!U30&\"、\")","v":""},{"$f":"IF(AND(V30=\"\",'1学期'!V30=\"\",'2学期'!V30=\"\"),\"\",V$2&V30+'1学期'!V30+'2学期'!V30&\"、\")","v":""},{"$f":"IF(AND(W30=\"\",'1学期'!W30=\"\",'2学期'!W30=\"\"),\"\",W$2&W30+'1学期'!W30+'2学期'!W30&\"、\")","v":"通院1、"},{"$f":"IF(AND(X30=\"\",'1学期'!X30=\"\",'2学期'!X30=\"\"),\"\",X$2&X30+'1学期'!X30+'2学期'!X30&\"、\")","v":""},{"$f":"IF(AND(Y30=\"\",'1学期'!Y30=\"\",'2学期'!Y30=\"\"),\"\",Y$2&Y30+'1学期'!Y30+'2学期'!Y30&\"、\")","v":""},{"$f":"IF(AND(Z30=\"\",'1学期'!Z30=\"\",'2学期'!Z30=\"\"),\"\",Z$2&Z30+'1学期'!Z30+'2学期'!Z30&\"、\")","v":""},null,"風邪3、頭痛2、通院1、祖父葬儀1、"]
[{"$f":"IF(名簿!$A29=\"\",\"\",名簿!$A29)","v":1129},{"$f":"IFERROR(VLOOKUP($A31,名簿!$A:$C,3,0),\"\")","v":0},56,0,0,0,0,0,null,{"$f":"IF(AT31=\"\",IF(OR('1学期'!AA31=\"あり\",'2学期'!AA31=\"あり\",AA31=\"あり\"),\"特記事項なし\",\"皆勤\"),IF(AND('1学期'!AA31=\"\",'2学期'!AA31=\"\",AA31=\"\",COUNTBLANK(AI31:AQ31)=COUNTA($AI$2:$AQ$2)),\"皆勤、\"&LEFT(AT31,LEN(AT31)-1),LEFT(AT31,LEN(AT31)-1)))","v":"頭痛1"},null,null,null,null,null,null,null,null,null,null,null,null,null,null,null,null,null,null,null,{"$f":"IF(AND(L31=\"\",'1学期'!L31=\"\",'2学期'!L31=\"\"),\"\",L$2&L31+'1学期'!L31+'2学期'!L31&\"、\")","v":""},{"$f":"IF(AND(M31=\"\",'1学期'!M31=\"\",'2学期'!M31=\"\"),\"\",M$2&M31+'1学期'!M31+'2学期'!M31&\"、\")","v":""},{"$f":"IF(AND(N31=\"\",'1学期'!N31=\"\",'2学期'!N31=\"\"),\"\",N$2&N31+'1学期'!N31+'2学期'!N31&\"、\")","v":""},{"$f":"IF(AND(O31=\"\",'1学期'!O31=\"\",'2学期'!O31=\"\"),\"\",O$2&O31+'1学期'!O31+'2学期'!O31&\"、\")","v":""},{"$f":"IF(AND(P31=\"\",'1学期'!P31=\"\",'2学期'!P31=\"\"),\"\",P$2&P31+'1学期'!P31+'2学期'!P31&\"、\")","v":""},{"$f":"IF(AND(Q31=\"\",'1学期'!Q31=\"\",'2学期'!Q31=\"\"),\"\",Q$2&Q31+'1学期'!Q31+'2学期'!Q31&\"、\")","v":""},{"$f":"IF(AND(R31=\"\",'1学期'!R31=\"\",'2学期'!R31=\"\"),\"\",R$2&R31+'1学期'!R31+'2学期'!R31&\"、\")","v":""},{"$f":"IF(AND(S31=\"\",'1学期'!S31=\"\",'2学期'!S31=\"\"),\"\",S$2&S31+'1学期'!S31+'2学期'!S31&\"、\")","v":""},{"$f":"IF(AND(T31=\"\",'1学期'!T31=\"\",'2学期'!T31=\"\"),\"\",T$2&T31+'1学期'!T31+'2学期'!T31&\"、\")","v":"頭痛1、"},{"$f":"IF(AND(U31=\"\",'1学期'!U31=\"\",'2学期'!U31=\"\"),\"\",U$2&U31+'1学期'!U31+'2学期'!U31&\"、\")","v":""},{"$f":"IF(AND(V31=\"\",'1学期'!V31=\"\",'2学期'!V31=\"\"),\"\",V$2&V31+'1学期'!V31+'2学期'!V31&\"、\")","v":""},{"$f":"IF(AND(W31=\"\",'1学期'!W31=\"\",'2学期'!W31=\"\"),\"\",W$2&W31+'1学期'!W31+'2学期'!W31&\"、\")","v":""},{"$f":"IF(AND(X31=\"\",'1学期'!X31=\"\",'2学期'!X31=\"\"),\"\",X$2&X31+'1学期'!X31+'2学期'!X31&\"、\")","v":""},{"$f":"IF(AND(Y31=\"\",'1学期'!Y31=\"\",'2学期'!Y31=\"\"),\"\",Y$2&Y31+'1学期'!Y31+'2学期'!Y31&\"、\")","v":""},{"$f":"IF(AND(Z31=\"\",'1学期'!Z31=\"\",'2学期'!Z31=\"\"),\"\",Z$2&Z31+'1学期'!Z31+'2学期'!Z31&\"、\")","v":""},null,"頭痛1、"]
[{"$f":"IF(名簿!$A30=\"\",\"\",名簿!$A30)","v":1130},{"$f":"IFERROR(VLOOKUP($A32,名簿!$A:$C,3,0),\"\")","v":0},56,0,0,0,0,0,null,{"$f":"IF(AT32=\"\",IF(OR('1学期'!AA32=\"あり\",'2学期'!AA32=\"あり\",AA32=\"あり\"),\"特記事項なし\",\"皆勤\"),IF(AND('1学期'!AA32=\"\",'2学期'!AA32=\"\",AA32=\"\",COUNTBLANK(AI32:AQ32)=COUNTA($AI$2:$AQ$2)),\"皆勤、\"&LEFT(AT32,LEN(AT32)-1),LEFT(AT32,LEN(AT32)-1)))","v":"皆勤、感染症のため2"},null,null,2,null,null,null,null,null,null,null,null,null,null,null,null,null,null,null,null,{"$f":"IF(AND(L32=\"\",'1学期'!L32=\"\",'2学期'!L32=\"\"),\"\",L$2&L32+'1学期'!L32+'2学期'!L32&\"、\")","v":""},{"$f":"IF(AND(M32=\"\",'1学期'!M32=\"\",'2学期'!M32=\"\"),\"\",M$2&M32+'1学期'!M32+'2学期'!M32&\"、\")","v":"感染症のため2、"},{"$f":"IF(AND(N32=\"\",'1学期'!N32=\"\",'2学期'!N32=\"\"),\"\",N$2&N32+'1学期'!N32+'2学期'!N32&\"、\")","v":""},{"$f":"IF(AND(O32=\"\",'1学期'!O32=\"\",'2学期'!O32=\"\"),\"\",O$2&O32+'1学期'!O32+'2学期'!O32&\"、\")","v":""},{"$f":"IF(AND(P32=\"\",'1学期'!P32=\"\",'2学期'!P32=\"\"),\"\",P$2&P32+'1学期'!P32+'2学期'!P32&\"、\")","v":""},{"$f":"IF(AND(Q32=\"\",'1学期'!Q32=\"\",'2学期'!Q32=\"\"),\"\",Q$2&Q32+'1学期'!Q32+'2学期'!Q32&\"、\")","v":""},{"$f":"IF(AND(R32=\"\",'1学期'!R32=\"\",'2学期'!R32=\"\"),\"\",R$2&R32+'1学期'!R32+'2学期'!R32&\"、\")","v":""},{"$f":"IF(AND(S32=\"\",'1学期'!S32=\"\",'2学期'!S32=\"\"),\"\",S$2&S32+'1学期'!S32+'2学期'!S32&\"、\")","v":""},{"$f":"IF(AND(T32=\"\",'1学期'!T32=\"\",'2学期'!T32=\"\"),\"\",T$2&T32+'1学期'!T32+'2学期'!T32&\"、\")","v":""},{"$f":"IF(AND(U32=\"\",'1学期'!U32=\"\",'2学期'!U32=\"\"),\"\",U$2&U32+'1学期'!U32+'2学期'!U32&\"、\")","v":""},{"$f":"IF(AND(V32=\"\",'1学期'!V32=\"\",'2学期'!V32=\"\"),\"\",V$2&V32+'1学期'!V32+'2学期'!V32&\"、\")","v":""},{"$f":"IF(AND(W32=\"\",'1学期'!W32=\"\",'2学期'!W32=\"\"),\"\",W$2&W32+'1学期'!W32+'2学期'!W32&\"、\")","v":""},{"$f":"IF(AND(X32=\"\",'1学期'!X32=\"\",'2学期'!X32=\"\"),\"\",X$2&X32+'1学期'!X32+'2学期'!X32&\"、\")","v":""},{"$f":"IF(AND(Y32=\"\",'1学期'!Y32=\"\",'2学期'!Y32=\"\"),\"\",Y$2&Y32+'1学期'!Y32+'2学期'!Y32&\"、\")","v":""},{"$f":"IF(AND(Z32=\"\",'1学期'!Z32=\"\",'2学期'!Z32=\"\"),\"\",Z$2&Z32+'1学期'!Z32+'2学期'!Z32&\"、\")","v":""},null,"感染症のため2、"]
[{"$f":"IF(名簿!$A31=\"\",\"\",名簿!$A31)","v":1131},{"$f":"IFERROR(VLOOKUP($A33,名簿!$A:$C,3,0),\"\")","v":0},56,0,0,0,0,0,null,{"$f":"IF(AT33=\"\",IF(OR('1学期'!AA33=\"あり\",'2学期'!AA33=\"あり\",AA33=\"あり\"),\"特記事項なし\",\"皆勤\"),IF(AND('1学期'!AA33=\"\",'2学期'!AA33=\"\",AA33=\"\",COUNTBLANK(AI33:AQ33)=COUNTA($AI$2:$AQ$2)),\"皆勤、\"&LEFT(AT33,LEN(AT33)-1),LEFT(AT33,LEN(AT33)-1)))","v":"風邪2、頭痛1、感染症予防のため2"},null,null,null,null,null,null,null,null,2,null,null,null,null,null,null,null,null,null,null,{"$f":"IF(AND(L33=\"\",'1学期'!L33=\"\",'2学期'!L33=\"\"),\"\",L$2&L33+'1学期'!L33+'2学期'!L33&\"、\")","v":"感染症予防のため2、"},{"$f":"IF(AND(M33=\"\",'1学期'!M33=\"\",'2学期'!M33=\"\"),\"\",M$2&M33+'1学期'!M33+'2学期'!M33&\"、\")","v":""},{"$f":"IF(AND(N33=\"\",'1学期'!N33=\"\",'2学期'!N33=\"\"),\"\",N$2&N33+'1学期'!N33+'2学期'!N33&\"、\")","v":""},{"$f":"IF(AND(O33=\"\",'1学期'!O33=\"\",'2学期'!O33=\"\"),\"\",O$2&O33+'1学期'!O33+'2学期'!O33&\"、\")","v":""},{"$f":"IF(AND(P33=\"\",'1学期'!P33=\"\",'2学期'!P33=\"\"),\"\",P$2&P33+'1学期'!P33+'2学期'!P33&\"、\")","v":""},{"$f":"IF(AND(Q33=\"\",'1学期'!Q33=\"\",'2学期'!Q33=\"\"),\"\",Q$2&Q33+'1学期'!Q33+'2学期'!Q33&\"、\")","v":""},{"$f":"IF(AND(R33=\"\",'1学期'!R33=\"\",'2学期'!R33=\"\"),\"\",R$2&R33+'1学期'!R33+'2学期'!R33&\"、\")","v":""},{"$f":"IF(AND(S33=\"\",'1学期'!S33=\"\",'2学期'!S33=\"\"),\"\",S$2&S33+'1学期'!S33+'2学期'!S33&\"、\")","v":"風邪2、"},{"$f":"IF(AND(T33=\"\",'1学期'!T33=\"\",'2学期'!T33=\"\"),\"\",T$2&T33+'1学期'!T33+'2学期'!T33&\"、\")","v":"頭痛1、"},{"$f":"IF(AND(U33=\"\",'1学期'!U33=\"\",'2学期'!U33=\"\"),\"\",U$2&U33+'1学期'!U33+'2学期'!U33&\"、\")","v":""},{"$f":"IF(AND(V33=\"\",'1学期'!V33=\"\",'2学期'!V33=\"\"),\"\",V$2&V33+'1学期'!V33+'2学期'!V33&\"、\")","v":""},{"$f":"IF(AND(W33=\"\",'1学期'!W33=\"\",'2学期'!W33=\"\"),\"\",W$2&W33+'1学期'!W33+'2学期'!W33&\"、\")","v":""},{"$f":"IF(AND(X33=\"\",'1学期'!X33=\"\",'2学期'!X33=\"\"),\"\",X$2&X33+'1学期'!X33+'2学期'!X33&\"、\")","v":""},{"$f":"IF(AND(Y33=\"\",'1学期'!Y33=\"\",'2学期'!Y33=\"\"),\"\",Y$2&Y33+'1学期'!Y33+'2学期'!Y33&\"、\")","v":""},{"$f":"IF(AND(Z33=\"\",'1学期'!Z33=\"\",'2学期'!Z33=\"\"),\"\",Z$2&Z33+'1学期'!Z33+'2学期'!Z33&\"、\")","v":""},null,"風邪2、頭痛1、感染症予防のため2、"]
[{"$f":"IF(名簿!$A32=\"\",\"\",名簿!$A32)","v":1132},{"$f":"IFERROR(VLOOKUP($A34,名簿!$A:$C,3,0),\"\")","v":0},56,0,0,0,0,0,null,{"$f":"IF(AT34=\"\",IF(OR('1学期'!AA34=\"あり\",'2学期'!AA34=\"あり\",AA34=\"あり\"),\"特記事項なし\",\"皆勤\"),IF(AND('1学期'!AA34=\"\",'2学期'!AA34=\"\",AA34=\"\",COUNTBLANK(AI34:AQ34)=COUNTA($AI$2:$AQ$2)),\"皆勤、\"&LEFT(AT34,LEN(AT34)-1),LEFT(AT34,LEN(AT34)-1)))","v":"皆勤、感染症予防のため1、祖父葬儀3、入試1"},null,null,null,null,3,null,null,null,null,null,null,null,null,null,null,null,null,null,null,{"$f":"IF(AND(L34=\"\",'1学期'!L34=\"\",'2学期'!L34=\"\"),\"\",L$2&L34+'1学期'!L34+'2学期'!L34&\"、\")","v":"感染症予防のため1、"},{"$f":"IF(AND(M34=\"\",'1学期'!M34=\"\",'2学期'!M34=\"\"),\"\",M$2&M34+'1学期'!M34+'2学期'!M34&\"、\")","v":""},{"$f":"IF(AND(N34=\"\",'1学期'!N34=\"\",'2学期'!N34=\"\"),\"\",N$2&N34+'1学期'!N34+'2学期'!N34&\"、\")","v":""},{"$f":"IF(AND(O34=\"\",'1学期'!O34=\"\",'2学期'!O34=\"\"),\"\",O$2&O34+'1学期'!O34+'2学期'!O34&\"、\")","v":"祖父葬儀3、"},{"$f":"IF(AND(P34=\"\",'1学期'!P34=\"\",'2学期'!P34=\"\"),\"\",P$2&P34+'1学期'!P34+'2学期'!P34&\"、\")","v":"入試1、"},{"$f":"IF(AND(Q34=\"\",'1学期'!Q34=\"\",'2学期'!Q34=\"\"),\"\",Q$2&Q34+'1学期'!Q34+'2学期'!Q34&\"、\")","v":""},{"$f":"IF(AND(R34=\"\",'1学期'!R34=\"\",'2学期'!R34=\"\"),\"\",R$2&R34+'1学期'!R34+'2学期'!R34&\"、\")","v":""},{"$f":"IF(AND(S34=\"\",'1学期'!S34=\"\",'2学期'!S34=\"\"),\"\",S$2&S34+'1学期'!S34+'2学期'!S34&\"、\")","v":""},{"$f":"IF(AND(T34=\"\",'1学期'!T34=\"\",'2学期'!T34=\"\"),\"\",T$2&T34+'1学期'!T34+'2学期'!T34&\"、\")","v":""},{"$f":"IF(AND(U34=\"\",'1学期'!U34=\"\",'2学期'!U34=\"\"),\"\",U$2&U34+'1学期'!U34+'2学期'!U34&\"、\")","v":""},{"$f":"IF(AND(V34=\"\",'1学期'!V34=\"\",'2学期'!V34=\"\"),\"\",V$2&V34+'1学期'!V34+'2学期'!V34&\"、\")","v":""},{"$f":"IF(AND(W34=\"\",'1学期'!W34=\"\",'2学期'!W34=\"\"),\"\",W$2&W34+'1学期'!W34+'2学期'!W34&\"、\")","v":""},{"$f":"IF(AND(X34=\"\",'1学期'!X34=\"\",'2学期'!X34=\"\"),\"\",X$2&X34+'1学期'!X34+'2学期'!X34&\"、\")","v":""},{"$f":"IF(AND(Y34=\"\",'1学期'!Y34=\"\",'2学期'!Y34=\"\"),\"\",Y$2&Y34+'1学期'!Y34+'2学期'!Y34&\"、\")","v":""},{"$f":"IF(AND(Z34=\"\",'1学期'!Z34=\"\",'2学期'!Z34=\"\"),\"\",Z$2&Z34+'1学期'!Z34+'2学期'!Z34&\"、\")","v":""},null,"感染症予防のため1、祖父葬儀3、入試1、"]
[{"$f":"IF(名簿!$A33=\"\",\"\",名簿!$A33)","v":1133},{"$f":"IFERROR(VLOOKUP($A35,名簿!$A:$C,3,0),\"\")","v":0},56,0,0,0,0,0,null,{"$f":"IF(AT35=\"\",IF(OR('1学期'!AA35=\"あり\",'2学期'!AA35=\"あり\",AA35=\"あり\"),\"特記事項なし\",\"皆勤\"),IF(AND('1学期'!AA35=\"\",'2学期'!AA35=\"\",AA35=\"\",COUNTBLANK(AI35:AQ35)=COUNTA($AI$2:$AQ$2)),\"皆勤、\"&LEFT(AT35,LEN(AT35)-1),LEFT(AT35,LEN(AT35)-1)))","v":"感染症予防のため7、祖父葬儀3"},null,null,null,null,3,null,null,null,null,null,null,null,null,null,null,null,null,null,null,{"$f":"IF(AND(L35=\"\",'1学期'!L35=\"\",'2学期'!L35=\"\"),\"\",L$2&L35+'1学期'!L35+'2学期'!L35&\"、\")","v":"感染症予防のため7、"},{"$f":"IF(AND(M35=\"\",'1学期'!M35=\"\",'2学期'!M35=\"\"),\"\",M$2&M35+'1学期'!M35+'2学期'!M35&\"、\")","v":""},{"$f":"IF(AND(N35=\"\",'1学期'!N35=\"\",'2学期'!N35=\"\"),\"\",N$2&N35+'1学期'!N35+'2学期'!N35&\"、\")","v":""},{"$f":"IF(AND(O35=\"\",'1学期'!O35=\"\",'2学期'!O35=\"\"),\"\",O$2&O35+'1学期'!O35+'2学期'!O35&\"、\")","v":"祖父葬儀3、"},{"$f":"IF(AND(P35=\"\",'1学期'!P35=\"\",'2学期'!P35=\"\"),\"\",P$2&P35+'1学期'!P35+'2学期'!P35&\"、\")","v":""},{"$f":"IF(AND(Q35=\"\",'1学期'!Q35=\"\",'2学期'!Q35=\"\"),\"\",Q$2&Q35+'1学期'!Q35+'2学期'!Q35&\"、\")","v":""},{"$f":"IF(AND(R35=\"\",'1学期'!R35=\"\",'2学期'!R35=\"\"),\"\",R$2&R35+'1学期'!R35+'2学期'!R35&\"、\")","v":""},{"$f":"IF(AND(S35=\"\",'1学期'!S35=\"\",'2学期'!S35=\"\"),\"\",S$2&S35+'1学期'!S35+'2学期'!S35&\"、\")","v":""},{"$f":"IF(AND(T35=\"\",'1学期'!T35=\"\",'2学期'!T35=\"\"),\"\",T$2&T35+'1学期'!T35+'2学期'!T35&\"、\")","v":""},{"$f":"IF(AND(U35=\"\",'1学期'!U35=\"\",'2学期'!U35=\"\"),\"\",U$2&U35+'1学期'!U35+'2学期'!U35&\"、\")","v":""},{"$f":"IF(AND(V35=\"\",'1学期'!V35=\"\",'2学期'!V35=\"\"),\"\",V$2&V35+'1学期'!V35+'2学期'!V35&\"、\")","v":""},{"$f":"IF(AND(W35=\"\",'1学期'!W35=\"\",'2学期'!W35=\"\"),\"\",W$2&W35+'1学期'!W35+'2学期'!W35&\"、\")","v":""},{"$f":"IF(AND(X35=\"\",'1学期'!X35=\"\",'2学期'!X35=\"\"),\"\",X$2&X35+'1学期'!X35+'2学期'!X35&\"、\")","v":""},{"$f":"IF(AND(Y35=\"\",'1学期'!Y35=\"\",'2学期'!Y35=\"\"),\"\",Y$2&Y35+'1学期'!Y35+'2学期'!Y35&\"、\")","v":""},{"$f":"IF(AND(Z35=\"\",'1学期'!Z35=\"\",'2学期'!Z35=\"\"),\"\",Z$2&Z35+'1学期'!Z35+'2学期'!Z35&\"、\")","v":""},null,"感染症予防のため7、祖父葬儀3、"]
[{"$f":"IF(名簿!$A34=\"\",\"\",名簿!$A34)","v":1134},{"$f":"IFERROR(VLOOKUP($A36,名簿!$A:$C,3,0),\"\")","v":0},56,0,0,0,0,0,null,{"$f":"IF(AT36=\"\",IF(OR('1学期'!AA36=\"あり\",'2学期'!AA36=\"あり\",AA36=\"あり\"),\"特記事項なし\",\"皆勤\"),IF(AND('1学期'!AA36=\"\",'2学期'!AA36=\"\",AA36=\"\",COUNTBLANK(AI36:AQ36)=COUNTA($AI$2:$AQ$2)),\"皆勤、\"&LEFT(AT36,LEN(AT36)-1),LEFT(AT36,LEN(AT36)-1)))","v":"皆勤"},null,null,null,null,null,null,null,null,null,null,null,null,null,null,null,null,null,null,null,{"$f":"IF(AND(L36=\"\",'1学期'!L36=\"\",'2学期'!L36=\"\"),\"\",L$2&L36+'1学期'!L36+'2学期'!L36&\"、\")","v":""},{"$f":"IF(AND(M36=\"\",'1学期'!M36=\"\",'2学期'!M36=\"\"),\"\",M$2&M36+'1学期'!M36+'2学期'!M36&\"、\")","v":""},{"$f":"IF(AND(N36=\"\",'1学期'!N36=\"\",'2学期'!N36=\"\"),\"\",N$2&N36+'1学期'!N36+'2学期'!N36&\"、\")","v":""},{"$f":"IF(AND(O36=\"\",'1学期'!O36=\"\",'2学期'!O36=\"\"),\"\",O$2&O36+'1学期'!O36+'2学期'!O36&\"、\")","v":""},{"$f":"IF(AND(P36=\"\",'1学期'!P36=\"\",'2学期'!P36=\"\"),\"\",P$2&P36+'1学期'!P36+'2学期'!P36&\"、\")","v":""},{"$f":"IF(AND(Q36=\"\",'1学期'!Q36=\"\",'2学期'!Q36=\"\"),\"\",Q$2&Q36+'1学期'!Q36+'2学期'!Q36&\"、\")","v":""},{"$f":"IF(AND(R36=\"\",'1学期'!R36=\"\",'2学期'!R36=\"\"),\"\",R$2&R36+'1学期'!R36+'2学期'!R36&\"、\")","v":""},{"$f":"IF(AND(S36=\"\",'1学期'!S36=\"\",'2学期'!S36=\"\"),\"\",S$2&S36+'1学期'!S36+'2学期'!S36&\"、\")","v":""},{"$f":"IF(AND(T36=\"\",'1学期'!T36=\"\",'2学期'!T36=\"\"),\"\",T$2&T36+'1学期'!T36+'2学期'!T36&\"、\")","v":""},{"$f":"IF(AND(U36=\"\",'1学期'!U36=\"\",'2学期'!U36=\"\"),\"\",U$2&U36+'1学期'!U36+'2学期'!U36&\"、\")","v":""},{"$f":"IF(AND(V36=\"\",'1学期'!V36=\"\",'2学期'!V36=\"\"),\"\",V$2&V36+'1学期'!V36+'2学期'!V36&\"、\")","v":""},{"$f":"IF(AND(W36=\"\",'1学期'!W36=\"\",'2学期'!W36=\"\"),\"\",W$2&W36+'1学期'!W36+'2学期'!W36&\"、\")","v":""},{"$f":"IF(AND(X36=\"\",'1学期'!X36=\"\",'2学期'!X36=\"\"),\"\",X$2&X36+'1学期'!X36+'2学期'!X36&\"、\")","v":""},{"$f":"IF(AND(Y36=\"\",'1学期'!Y36=\"\",'2学期'!Y36=\"\"),\"\",Y$2&Y36+'1学期'!Y36+'2学期'!Y36&\"、\")","v":""},{"$f":"IF(AND(Z36=\"\",'1学期'!Z36=\"\",'2学期'!Z36=\"\"),\"\",Z$2&Z36+'1学期'!Z36+'2学期'!Z36&\"、\")","v":""},null,""]
[{"$f":"IF(名簿!$A35=\"\",\"\",名簿!$A35)","v":1135},{"$f":"IFERROR(VLOOKUP($A37,名簿!$A:$C,3,0),\"\")","v":0},56,0,0,0,0,0,null,{"$f":"IF(AT37=\"\",IF(OR('1学期'!AA37=\"あり\",'2学期'!AA37=\"あり\",AA37=\"あり\"),\"特記事項なし\",\"皆勤\"),IF(AND('1学期'!AA37=\"\",'2学期'!AA37=\"\",AA37=\"\",COUNTBLANK(AI37:AQ37)=COUNTA($AI$2:$AQ$2)),\"皆勤、\"&LEFT(AT37,LEN(AT37)-1),LEFT(AT37,LEN(AT37)-1)))","v":"体調不良3、腹痛1"},null,null,null,null,null,null,null,null,null,null,null,null,null,null,null,null,null,null,null,{"$f":"IF(AND(L37=\"\",'1学期'!L37=\"\",'2学期'!L37=\"\"),\"\",L$2&L37+'1学期'!L37+'2学期'!L37&\"、\")","v":""},{"$f":"IF(AND(M37=\"\",'1学期'!M37=\"\",'2学期'!M37=\"\"),\"\",M$2&M37+'1学期'!M37+'2学期'!M37&\"、\")","v":""},{"$f":"IF(AND(N37=\"\",'1学期'!N37=\"\",'2学期'!N37=\"\"),\"\",N$2&N37+'1学期'!N37+'2学期'!N37&\"、\")","v":""},{"$f":"IF(AND(O37=\"\",'1学期'!O37=\"\",'2学期'!O37=\"\"),\"\",O$2&O37+'1学期'!O37+'2学期'!O37&\"、\")","v":""},{"$f":"IF(AND(P37=\"\",'1学期'!P37=\"\",'2学期'!P37=\"\"),\"\",P$2&P37+'1学期'!P37+'2学期'!P37&\"、\")","v":""},{"$f":"IF(AND(Q37=\"\",'1学期'!Q37=\"\",'2学期'!Q37=\"\"),\"\",Q$2&Q37+'1学期'!Q37+'2学期'!Q37&\"、\")","v":"体調不良3、"},{"$f":"IF(AND(R37=\"\",'1学期'!R37=\"\",'2学期'!R37=\"\"),\"\",R$2&R37+'1学期'!R37+'2学期'!R37&\"、\")","v":""},{"$f":"IF(AND(S37=\"\",'1学期'!S37=\"\",'2学期'!S37=\"\"),\"\",S$2&S37+'1学期'!S37+'2学期'!S37&\"、\")","v":""},{"$f":"IF(AND(T37=\"\",'1学期'!T37=\"\",'2学期'!T37=\"\"),\"\",T$2&T37+'1学期'!T37+'2学期'!T37&\"、\")","v":""},{"$f":"IF(AND(U37=\"\",'1学期'!U37=\"\",'2学期'!U37=\"\"),\"\",U$2&U37+'1学期'!U37+'2学期'!U37&\"、\")","v":"腹痛1、"},{"$f":"IF(AND(V37=\"\",'1学期'!V37=\"\",'2学期'!V37=\"\"),\"\",V$2&V37+'1学期'!V37+'2学期'!V37&\"、\")","v":""},{"$f":"IF(AND(W37=\"\",'1学期'!W37=\"\",'2学期'!W37=\"\"),\"\",W$2&W37+'1学期'!W37+'2学期'!W37&\"、\")","v":""},{"$f":"IF(AND(X37=\"\",'1学期'!X37=\"\",'2学期'!X37=\"\"),\"\",X$2&X37+'1学期'!X37+'2学期'!X37&\"、\")","v":""},{"$f":"IF(AND(Y37=\"\",'1学期'!Y37=\"\",'2学期'!Y37=\"\"),\"\",Y$2&Y37+'1学期'!Y37+'2学期'!Y37&\"、\")","v":""},{"$f":"IF(AND(Z37=\"\",'1学期'!Z37=\"\",'2学期'!Z37=\"\"),\"\",Z$2&Z37+'1学期'!Z37+'2学期'!Z37&\"、\")","v":""},null,"体調不良3、腹痛1、"]
[{"$f":"IF(名簿!$A36=\"\",\"\",名簿!$A36)","v":1136},{"$f":"IFERROR(VLOOKUP($A38,名簿!$A:$C,3,0),\"\")","v":0},56,0,0,0,0,0,null,{"$f":"IF(AT38=\"\",IF(OR('1学期'!AA38=\"あり\",'2学期'!AA38=\"あり\",AA38=\"あり\"),\"特記事項なし\",\"皆勤\"),IF(AND('1学期'!AA38=\"\",'2学期'!AA38=\"\",AA38=\"\",COUNTBLANK(AI38:AQ38)=COUNTA($AI$2:$AQ$2)),\"皆勤、\"&LEFT(AT38,LEN(AT38)-1),LEFT(AT38,LEN(AT38)-1)))","v":"頭痛3"},null,null,null,null,null,null,null,null,null,3,null,null,null,null,null,null,null,null,null,{"$f":"IF(AND(L38=\"\",'1学期'!L38=\"\",'2学期'!L38=\"\"),\"\",L$2&L38+'1学期'!L38+'2学期'!L38&\"、\")","v":""},{"$f":"IF(AND(M38=\"\",'1学期'!M38=\"\",'2学期'!M38=\"\"),\"\",M$2&M38+'1学期'!M38+'2学期'!M38&\"、\")","v":""},{"$f":"IF(AND(N38=\"\",'1学期'!N38=\"\",'2学期'!N38=\"\"),\"\",N$2&N38+'1学期'!N38+'2学期'!N38&\"、\")","v":""},{"$f":"IF(AND(O38=\"\",'1学期'!O38=\"\",'2学期'!O38=\"\"),\"\",O$2&O38+'1学期'!O38+'2学期'!O38&\"、\")","v":""},{"$f":"IF(AND(P38=\"\",'1学期'!P38=\"\",'2学期'!P38=\"\"),\"\",P$2&P38+'1学期'!P38+'2学期'!P38&\"、\")","v":""},{"$f":"IF(AND(Q38=\"\",'1学期'!Q38=\"\",'2学期'!Q38=\"\"),\"\",Q$2&Q38+'1学期'!Q38+'2学期'!Q38&\"、\")","v":""},{"$f":"IF(AND(R38=\"\",'1学期'!R38=\"\",'2学期'!R38=\"\"),\"\",R$2&R38+'1学期'!R38+'2学期'!R38&\"、\")","v":""},{"$f":"IF(AND(S38=\"\",'1学期'!S38=\"\",'2学期'!S38=\"\"),\"\",S$2&S38+'1学期'!S38+'2学期'!S38&\"、\")","v":""},{"$f":"IF(AND(T38=\"\",'1学期'!T38=\"\",'2学期'!T38=\"\"),\"\",T$2&T38+'1学期'!T38+'2学期'!T38&\"、\")","v":"頭痛3、"},{"$f":"IF(AND(U38=\"\",'1学期'!U38=\"\",'2学期'!U38=\"\"),\"\",U$2&U38+'1学期'!U38+'2学期'!U38&\"、\")","v":""},{"$f":"IF(AND(V38=\"\",'1学期'!V38=\"\",'2学期'!V38=\"\"),\"\",V$2&V38+'1学期'!V38+'2学期'!V38&\"、\")","v":""},{"$f":"IF(AND(W38=\"\",'1学期'!W38=\"\",'2学期'!W38=\"\"),\"\",W$2&W38+'1学期'!W38+'2学期'!W38&\"、\")","v":""},{"$f":"IF(AND(X38=\"\",'1学期'!X38=\"\",'2学期'!X38=\"\"),\"\",X$2&X38+'1学期'!X38+'2学期'!X38&\"、\")","v":""},{"$f":"IF(AND(Y38=\"\",'1学期'!Y38=\"\",'2学期'!Y38=\"\"),\"\",Y$2&Y38+'1学期'!Y38+'2学期'!Y38&\"、\")","v":""},{"$f":"IF(AND(Z38=\"\",'1学期'!Z38=\"\",'2学期'!Z38=\"\"),\"\",Z$2&Z38+'1学期'!Z38+'2学期'!Z38&\"、\")","v":""},null,"頭痛3、"]
[{"$f":"IF(名簿!$A37=\"\",\"\",名簿!$A37)","v":1137},{"$f":"IFERROR(VLOOKUP($A39,名簿!$A:$C,3,0),\"\")","v":0},56,0,0,0,0,0,null,{"$f":"IF(AT39=\"\",IF(OR('1学期'!AA39=\"あり\",'2学期'!AA39=\"あり\",AA39=\"あり\"),\"特記事項なし\",\"皆勤\"),IF(AND('1学期'!AA39=\"\",'2学期'!AA39=\"\",AA39=\"\",COUNTBLANK(AI39:AQ39)=COUNTA($AI$2:$AQ$2)),\"皆勤、\"&LEFT(AT39,LEN(AT39)-1),LEFT(AT39,LEN(AT39)-1)))","v":"皆勤、感染症予防のため1"},null,1,null,null,null,null,null,null,null,null,null,null,null,null,null,null,null,null,null,{"$f":"IF(AND(L39=\"\",'1学期'!L39=\"\",'2学期'!L39=\"\"),\"\",L$2&L39+'1学期'!L39+'2学期'!L39&\"、\")","v":"感染症予防のため1、"},{"$f":"IF(AND(M39=\"\",'1学期'!M39=\"\",'2学期'!M39=\"\"),\"\",M$2&M39+'1学期'!M39+'2学期'!M39&\"、\")","v":""},{"$f":"IF(AND(N39=\"\",'1学期'!N39=\"\",'2学期'!N39=\"\"),\"\",N$2&N39+'1学期'!N39+'2学期'!N39&\"、\")","v":""},{"$f":"IF(AND(O39=\"\",'1学期'!O39=\"\",'2学期'!O39=\"\"),\"\",O$2&O39+'1学期'!O39+'2学期'!O39&\"、\")","v":""},{"$f":"IF(AND(P39=\"\",'1学期'!P39=\"\",'2学期'!P39=\"\"),\"\",P$2&P39+'1学期'!P39+'2学期'!P39&\"、\")","v":""},{"$f":"IF(AND(Q39=\"\",'1学期'!Q39=\"\",'2学期'!Q39=\"\"),\"\",Q$2&Q39+'1学期'!Q39+'2学期'!Q39&\"、\")","v":""},{"$f":"IF(AND(R39=\"\",'1学期'!R39=\"\",'2学期'!R39=\"\"),\"\",R$2&R39+'1学期'!R39+'2学期'!R39&\"、\")","v":""},{"$f":"IF(AND(S39=\"\",'1学期'!S39=\"\",'2学期'!S39=\"\"),\"\",S$2&S39+'1学期'!S39+'2学期'!S39&\"、\")","v":""},{"$f":"IF(AND(T39=\"\",'1学期'!T39=\"\",'2学期'!T39=\"\"),\"\",T$2&T39+'1学期'!T39+'2学期'!T39&\"、\")","v":""},{"$f":"IF(AND(U39=\"\",'1学期'!U39=\"\",'2学期'!U39=\"\"),\"\",U$2&U39+'1学期'!U39+'2学期'!U39&\"、\")","v":""},{"$f":"IF(AND(V39=\"\",'1学期'!V39=\"\",'2学期'!V39=\"\"),\"\",V$2&V39+'1学期'!V39+'2学期'!V39&\"、\")","v":""},{"$f":"IF(AND(W39=\"\",'1学期'!W39=\"\",'2学期'!W39=\"\"),\"\",W$2&W39+'1学期'!W39+'2学期'!W39&\"、\")","v":""},{"$f":"IF(AND(X39=\"\",'1学期'!X39=\"\",'2学期'!X39=\"\"),\"\",X$2&X39+'1学期'!X39+'2学期'!X39&\"、\")","v":""},{"$f":"IF(AND(Y39=\"\",'1学期'!Y39=\"\",'2学期'!Y39=\"\"),\"\",Y$2&Y39+'1学期'!Y39+'2学期'!Y39&\"、\")","v":""},{"$f":"IF(AND(Z39=\"\",'1学期'!Z39=\"\",'2学期'!Z39=\"\"),\"\",Z$2&Z39+'1学期'!Z39+'2学期'!Z39&\"、\")","v":""},null,"感染症予防のため1、"]
[{"$f":"IF(名簿!$A38=\"\",\"\",名簿!$A38)","v":1138},{"$f":"IFERROR(VLOOKUP($A40,名簿!$A:$C,3,0),\"\")","v":0},56,0,0,0,0,0,null,{"$f":"IF(AT40=\"\",IF(OR('1学期'!AA40=\"あり\",'2学期'!AA40=\"あり\",AA40=\"あり\"),\"特記事項なし\",\"皆勤\"),IF(AND('1学期'!AA40=\"\",'2学期'!AA40=\"\",AA40=\"\",COUNTBLANK(AI40:AQ40)=COUNTA($AI$2:$AQ$2)),\"皆勤、\"&LEFT(AT40,LEN(AT40)-1),LEFT(AT40,LEN(AT40)-1)))","v":"皆勤"},null,null,null,null,null,null,null,null,null,null,null,null,null,null,null,null,null,null,null,{"$f":"IF(AND(L40=\"\",'1学期'!L40=\"\",'2学期'!L40=\"\"),\"\",L$2&L40+'1学期'!L40+'2学期'!L40&\"、\")","v":""},{"$f":"IF(AND(M40=\"\",'1学期'!M40=\"\",'2学期'!M40=\"\"),\"\",M$2&M40+'1学期'!M40+'2学期'!M40&\"、\")","v":""},{"$f":"IF(AND(N40=\"\",'1学期'!N40=\"\",'2学期'!N40=\"\"),\"\",N$2&N40+'1学期'!N40+'2学期'!N40&\"、\")","v":""},{"$f":"IF(AND(O40=\"\",'1学期'!O40=\"\",'2学期'!O40=\"\"),\"\",O$2&O40+'1学期'!O40+'2学期'!O40&\"、\")","v":""},{"$f":"IF(AND(P40=\"\",'1学期'!P40=\"\",'2学期'!P40=\"\"),\"\",P$2&P40+'1学期'!P40+'2学期'!P40&\"、\")","v":""},{"$f":"IF(AND(Q40=\"\",'1学期'!Q40=\"\",'2学期'!Q40=\"\"),\"\",Q$2&Q40+'1学期'!Q40+'2学期'!Q40&\"、\")","v":""},{"$f":"IF(AND(R40=\"\",'1学期'!R40=\"\",'2学期'!R40=\"\"),\"\",R$2&R40+'1学期'!R40+'2学期'!R40&\"、\")","v":""},{"$f":"IF(AND(S40=\"\",'1学期'!S40=\"\",'2学期'!S40=\"\"),\"\",S$2&S40+'1学期'!S40+'2学期'!S40&\"、\")","v":""},{"$f":"IF(AND(T40=\"\",'1学期'!T40=\"\",'2学期'!T40=\"\"),\"\",T$2&T40+'1学期'!T40+'2学期'!T40&\"、\")","v":""},{"$f":"IF(AND(U40=\"\",'1学期'!U40=\"\",'2学期'!U40=\"\"),\"\",U$2&U40+'1学期'!U40+'2学期'!U40&\"、\")","v":""},{"$f":"IF(AND(V40=\"\",'1学期'!V40=\"\",'2学期'!V40=\"\"),\"\",V$2&V40+'1学期'!V40+'2学期'!V40&\"、\")","v":""},{"$f":"IF(AND(W40=\"\",'1学期'!W40=\"\",'2学期'!W40=\"\"),\"\",W$2&W40+'1学期'!W40+'2学期'!W40&\"、\")","v":""},{"$f":"IF(AND(X40=\"\",'1学期'!X40=\"\",'2学期'!X40=\"\"),\"\",X$2&X40+'1学期'!X40+'2学期'!X40&\"、\")","v":""},{"$f":"IF(AND(Y40=\"\",'1学期'!Y40=\"\",'2学期'!Y40=\"\"),\"\",Y$2&Y40+'1学期'!Y40+'2学期'!Y40&\"、\")","v":""},{"$f":"IF(AND(Z40=\"\",'1学期'!Z40=\"\",'2学期'!Z40=\"\"),\"\",Z$2&Z40+'1学期'!Z40+'2学期'!Z40&\"、\")","v":""},null,""]
[{"$f":"IF(名簿!$A39=\"\",\"\",名簿!$A39)","v":1139},{"$f":"IFERROR(VLOOKUP($A41,名簿!$A:$C,3,0),\"\")","v":0},56,0,0,0,0,0,null,{"$f":"IF(AT41=\"\",IF(OR('1学期'!AA41=\"あり\",'2学期'!AA41=\"あり\",AA41=\"あり\"),\"特記事項なし\",\"皆勤\"),IF(AND('1学期'!AA41=\"\",'2学期'!AA41=\"\",AA41=\"\",COUNTBLANK(AI41:AQ41)=COUNTA($AI$2:$AQ$2)),\"皆勤、\"&LEFT(AT41,LEN(AT41)-1),LEFT(AT41,LEN(AT41)-1)))","v":"皆勤、感染症予防のため3"},null,3,null,null,null,null,null,null,null,null,null,null,null,null,null,null,null,null,null,{"$f":"IF(AND(L41=\"\",'1学期'!L41=\"\",'2学期'!L41=\"\"),\"\",L$2&L41+'1学期'!L41+'2学期'!L41&\"、\")","v":"感染症予防のため3、"},{"$f":"IF(AND(M41=\"\",'1学期'!M41=\"\",'2学期'!M41=\"\"),\"\",M$2&M41+'1学期'!M41+'2学期'!M41&\"、\")","v":""},{"$f":"IF(AND(N41=\"\",'1学期'!N41=\"\",'2学期'!N41=\"\"),\"\",N$2&N41+'1学期'!N41+'2学期'!N41&\"、\")","v":""},{"$f":"IF(AND(O41=\"\",'1学期'!O41=\"\",'2学期'!O41=\"\"),\"\",O$2&O41+'1学期'!O41+'2学期'!O41&\"、\")","v":""},{"$f":"IF(AND(P41=\"\",'1学期'!P41=\"\",'2学期'!P41=\"\"),\"\",P$2&P41+'1学期'!P41+'2学期'!P41&\"、\")","v":""},{"$f":"IF(AND(Q41=\"\",'1学期'!Q41=\"\",'2学期'!Q41=\"\"),\"\",Q$2&Q41+'1学期'!Q41+'2学期'!Q41&\"、\")","v":""},{"$f":"IF(AND(R41=\"\",'1学期'!R41=\"\",'2学期'!R41=\"\"),\"\",R$2&R41+'1学期'!R41+'2学期'!R41&\"、\")","v":""},{"$f":"IF(AND(S41=\"\",'1学期'!S41=\"\",'2学期'!S41=\"\"),\"\",S$2&S41+'1学期'!S41+'2学期'!S41&\"、\")","v":""},{"$f":"IF(AND(T41=\"\",'1学期'!T41=\"\",'2学期'!T41=\"\"),\"\",T$2&T41+'1学期'!T41+'2学期'!T41&\"、\")","v":""},{"$f":"IF(AND(U41=\"\",'1学期'!U41=\"\",'2学期'!U41=\"\"),\"\",U$2&U41+'1学期'!U41+'2学期'!U41&\"、\")","v":""},{"$f":"IF(AND(V41=\"\",'1学期'!V41=\"\",'2学期'!V41=\"\"),\"\",V$2&V41+'1学期'!V41+'2学期'!V41&\"、\")","v":""},{"$f":"IF(AND(W41=\"\",'1学期'!W41=\"\",'2学期'!W41=\"\"),\"\",W$2&W41+'1学期'!W41+'2学期'!W41&\"、\")","v":""},{"$f":"IF(AND(X41=\"\",'1学期'!X41=\"\",'2学期'!X41=\"\"),\"\",X$2&X41+'1学期'!X41+'2学期'!X41&\"、\")","v":""},{"$f":"IF(AND(Y41=\"\",'1学期'!Y41=\"\",'2学期'!Y41=\"\"),\"\",Y$2&Y41+'1学期'!Y41+'2学期'!Y41&\"、\")","v":""},{"$f":"IF(AND(Z41=\"\",'1学期'!Z41=\"\",'2学期'!Z41=\"\"),\"\",Z$2&Z41+'1学期'!Z41+'2学期'!Z41&\"、\")","v":""},null,"感染症予防のため3、"]
[{"$f":"IF(名簿!$A40=\"\",\"\",名簿!$A40)","v":1140},{"$f":"IFERROR(VLOOKUP($A42,名簿!$A:$C,3,0),\"\")","v":0},56,0,0,0,0,0,null,{"$f":"IF(AT42=\"\",IF(OR('1学期'!AA42=\"あり\",'2学期'!AA42=\"あり\",AA42=\"あり\"),\"特記事項なし\",\"皆勤\"),IF(AND('1学期'!AA42=\"\",'2学期'!AA42=\"\",AA42=\"\",COUNTBLANK(AI42:AQ42)=COUNTA($AI$2:$AQ$2)),\"皆勤、\"&LEFT(AT42,LEN(AT42)-1),LEFT(AT42,LEN(AT42)-1)))","v":"皆勤"},null,null,null,null,null,null,null,null,null,null,null,null,null,null,null,null,null,null,null,{"$f":"IF(AND(L42=\"\",'1学期'!L42=\"\",'2学期'!L42=\"\"),\"\",L$2&L42+'1学期'!L42+'2学期'!L42&\"、\")","v":""},{"$f":"IF(AND(M42=\"\",'1学期'!M42=\"\",'2学期'!M42=\"\"),\"\",M$2&M42+'1学期'!M42+'2学期'!M42&\"、\")","v":""},{"$f":"IF(AND(N42=\"\",'1学期'!N42=\"\",'2学期'!N42=\"\"),\"\",N$2&N42+'1学期'!N42+'2学期'!N42&\"、\")","v":""},{"$f":"IF(AND(O42=\"\",'1学期'!O42=\"\",'2学期'!O42=\"\"),\"\",O$2&O42+'1学期'!O42+'2学期'!O42&\"、\")","v":""},{"$f":"IF(AND(P42=\"\",'1学期'!P42=\"\",'2学期'!P42=\"\"),\"\",P$2&P42+'1学期'!P42+'2学期'!P42&\"、\")","v":""},{"$f":"IF(AND(Q42=\"\",'1学期'!Q42=\"\",'2学期'!Q42=\"\"),\"\",Q$2&Q42+'1学期'!Q42+'2学期'!Q42&\"、\")","v":""},{"$f":"IF(AND(R42=\"\",'1学期'!R42=\"\",'2学期'!R42=\"\"),\"\",R$2&R42+'1学期'!R42+'2学期'!R42&\"、\")","v":""},{"$f":"IF(AND(S42=\"\",'1学期'!S42=\"\",'2学期'!S42=\"\"),\"\",S$2&S42+'1学期'!S42+'2学期'!S42&\"、\")","v":""},{"$f":"IF(AND(T42=\"\",'1学期'!T42=\"\",'2学期'!T42=\"\"),\"\",T$2&T42+'1学期'!T42+'2学期'!T42&\"、\")","v":""},{"$f":"IF(AND(U42=\"\",'1学期'!U42=\"\",'2学期'!U42=\"\"),\"\",U$2&U42+'1学期'!U42+'2学期'!U42&\"、\")","v":""},{"$f":"IF(AND(V42=\"\",'1学期'!V42=\"\",'2学期'!V42=\"\"),\"\",V$2&V42+'1学期'!V42+'2学期'!V42&\"、\")","v":""},{"$f":"IF(AND(W42=\"\",'1学期'!W42=\"\",'2学期'!W42=\"\"),\"\",W$2&W42+'1学期'!W42+'2学期'!W42&\"、\")","v":""},{"$f":"IF(AND(X42=\"\",'1学期'!X42=\"\",'2学期'!X42=\"\"),\"\",X$2&X42+'1学期'!X42+'2学期'!X42&\"、\")","v":""},{"$f":"IF(AND(Y42=\"\",'1学期'!Y42=\"\",'2学期'!Y42=\"\"),\"\",Y$2&Y42+'1学期'!Y42+'2学期'!Y42&\"、\")","v":""},{"$f":"IF(AND(Z42=\"\",'1学期'!Z42=\"\",'2学期'!Z42=\"\"),\"\",Z$2&Z42+'1学期'!Z42+'2学期'!Z42&\"、\")","v":""},null,""]
[]
[]
[null,null,null,null,null,null,null,null,null,null,null,null,null,null,null,null,null,null,null,null,null,null,null,null,null,null,"あり"]

{"sheet":"出席簿に貼る","index":6,"n_rows":47,"n_cols":15,"rows_kept":47,"cut":false,"hidden":false,"merged":[]}
[]
[]
[]
[]
[]
[]
[null,"番号","名前","出席停止","忌引","体調不良","発熱","風邪","頭痛","腹痛","腰痛","通院","怪我","家事都合","その他"]
[null,{"$f":"IF(名簿!$A1=\"\",\"\",名簿!$A1)","v":1101},{"$f":"IFERROR(VLOOKUP($B8,名簿!$A:$C,3,0),\"\")","v":"田中太郎"}]
[null,{"$f":"IF(名簿!$A2=\"\",\"\",名簿!$A2)","v":1102},{"$f":"IFERROR(VLOOKUP($B9,名簿!$A:$C,3,0),\"\")","v":"小林治郎"}]
[null,{"$f":"IF(名簿!$A3=\"\",\"\",名簿!$A3)","v":1103},{"$f":"IFERROR(VLOOKUP($B10,名簿!$A:$C,3,0),\"\")","v":"佐藤三郎"}]
[null,{"$f":"IF(名簿!$A4=\"\",\"\",名簿!$A4)","v":1104},{"$f":"IFERROR(VLOOKUP($B11,名簿!$A:$C,3,0),\"\")","v":"山田花子"}]
[null,{"$f":"IF(名簿!$A5=\"\",\"\",名簿!$A5)","v":1105},{"$f":"IFERROR(VLOOKUP($B12,名簿!$A:$C,3,0),\"\")","v":"山本とし子"}]
[null,{"$f":"IF(名簿!$A6=\"\",\"\",名簿!$A6)","v":1106},{"$f":"IFERROR(VLOOKUP($B13,名簿!$A:$C,3,0),\"\")","v":0}]
[null,{"$f":"IF(名簿!$A7=\"\",\"\",名簿!$A7)","v":1107},{"$f":"IFERROR(VLOOKUP($B14,名簿!$A:$C,3,0),\"\")","v":0}]
[null,{"$f":"IF(名簿!$A8=\"\",\"\",名簿!$A8)","v":1108},{"$f":"IFERROR(VLOOKUP($B15,名簿!$A:$C,3,0),\"\")","v":0}]
[null,{"$f":"IF(名簿!$A9=\"\",\"\",名簿!$A9)","v":1109},{"$f":"IFERROR(VLOOKUP($B16,名簿!$A:$C,3,0),\"\")","v":0}]
[null,{"$f":"IF(名簿!$A10=\"\",\"\",名簿!$A10)","v":1110},{"$f":"IFERROR(VLOOKUP($B17,名簿!$A:$C,3,0),\"\")","v":0}]
[null,{"$f":"IF(名簿!$A11=\"\",\"\",名簿!$A11)","v":1111},{"$f":"IFERROR(VLOOKUP($B18,名簿!$A:$C,3,0),\"\")","v":0}]
[null,{"$f":"IF(名簿!$A12=\"\",\"\",名簿!$A12)","v":1112},{"$f":"IFERROR(VLOOKUP($B19,名簿!$A:$C,3,0),\"\")","v":0}]
[null,{"$f":"IF(名簿!$A13=\"\",\"\",名簿!$A13)","v":1113},{"$f":"IFERROR(VLOOKUP($B20,名簿!$A:$C,3,0),\"\")","v":0}]
[null,{"$f":"IF(名簿!$A14=\"\",\"\",名簿!$A14)","v":1114},{"$f":"IFERROR(VLOOKUP($B21,名簿!$A:$C,3,0),\"\")","v":0}]
[null,{"$f":"IF(名簿!$A15=\"\",\"\",名簿!$A15)","v":1115},{"$f":"IFERROR(VLOOKUP($B22,名簿!$A:$C,3,0),\"\")","v":0}]
[null,{"$f":"IF(名簿!$A16=\"\",\"\",名簿!$A16)","v":1116},{"$f":"IFERROR(VLOOKUP($B23,名簿!$A:$C,3,0),\"\")","v":0}]
[null,{"$f":"IF(名簿!$A17=\"\",\"\",名簿!$A17)","v":1117},{"$f":"IFERROR(VLOOKUP($B24,名簿!$A:$C,3,0),\"\")","v":0}]
[null,{"$f":"IF(名簿!$A18=\"\",\"\",名簿!$A18)","v":1118},{"$f":"IFERROR(VLOOKUP($B25,名簿!$A:$C,3,0),\"\")","v":0}]
[null,{"$f":"IF(名簿!$A19=\"\",\"\",名簿!$A19)","v":1119},{"$f":"IFERROR(VLOOKUP($B26,名簿!$A:$C,3,0),\"\")","v":0}]
[null,{"$f":"IF(名簿!$A20=\"\",\"\",名簿!$A20)","v":1120},{"$f":"IFERROR(VLOOKUP($B27,名簿!$A:$C,3,0),\"\")","v":0}]
[null,{"$f":"IF(名簿!$A21=\"\",\"\",名簿!$A21)","v":1121},{"$f":"IFERROR(VLOOKUP($B28,名簿!$A:$C,3,0),\"\")","v":0}]
[null,{"$f":"IF(名簿!$A22=\"\",\"\",名簿!$A22)","v":1122},{"$f":"IFERROR(VLOOKUP($B29,名簿!$A:$C,3,0),\"\")","v":0}]
[null,{"$f":"IF(名簿!$A23=\"\",\"\",名簿!$A23)","v":1123},{"$f":"IFERROR(VLOOKUP($B30,名簿!$A:$C,3,0),\"\")","v":0}]
[null,{"$f":"IF(名簿!$A24=\"\",\"\",名簿!$A24)","v":1124},{"$f":"IFERROR(VLOOKUP($B31,名簿!$A:$C,3,0),\"\")","v":0}]
[null,{"$f":"IF(名簿!$A25=\"\",\"\",名簿!$A25)","v":1125},{"$f":"IFERROR(VLOOKUP($B32,名簿!$A:$C,3,0),\"\")","v":0}]
[null,{"$f":"IF(名簿!$A26=\"\",\"\",名簿!$A26)","v":1126},{"$f":"IFERROR(VLOOKUP($B33,名簿!$A:$C,3,0),\"\")","v":0}]
[null,{"$f":"IF(名簿!$A27=\"\",\"\",名簿!$A27)","v":1127},{"$f":"IFERROR(VLOOKUP($B34,名簿!$A:$C,3,0),\"\")","v":0}]
[null,{"$f":"IF(名簿!$A28=\"\",\"\",名簿!$A28)","v":1128},{"$f":"IFERROR(VLOOKUP($B35,名簿!$A:$C,3,0),\"\")","v":0}]
[null,{"$f":"IF(名簿!$A29=\"\",\"\",名簿!$A29)","v":1129},{"$f":"IFERROR(VLOOKUP($B36,名簿!$A:$C,3,0),\"\")","v":0}]
[null,{"$f":"IF(名簿!$A30=\"\",\"\",名簿!$A30)","v":1130},{"$f":"IFERROR(VLOOKUP($B37,名簿!$A:$C,3,0),\"\")","v":0}]
[null,{"$f":"IF(名簿!$A31=\"\",\"\",名簿!$A31)","v":1131},{"$f":"IFERROR(VLOOKUP($B38,名簿!$A:$C,3,0),\"\")","v":0}]
[null,{"$f":"IF(名簿!$A32=\"\",\"\",名簿!$A32)","v":1132},{"$f":"IFERROR(VLOOKUP($B39,名簿!$A:$C,3,0),\"\")","v":0}]
[null,{"$f":"IF(名簿!$A33=\"\",\"\",名簿!$A33)","v":1133},{"$f":"IFERROR(VLOOKUP($B40,名簿!$A:$C,3,0),\"\")","v":0}]
[null,{"$f":"IF(名簿!$A34=\"\",\"\",名簿!$A34)","v":1134},{"$f":"IFERROR(VLOOKUP($B41,名簿!$A:$C,3,0),\"\")","v":0}]
[null,{"$f":"IF(名簿!$A35=\"\",\"\",名簿!$A35)","v":1135},{"$f":"IFERROR(VLOOKUP($B42,名簿!$A:$C,3,0),\"\")","v":0}]
[null,{"$f":"IF(名簿!$A36=\"\",\"\",名簿!$A36)","v":1136},{"$f":"IFERROR(VLOOKUP($B43,名簿!$A:$C,3,0),\"\")","v":0}]
[null,{"$f":"IF(名簿!$A37=\"\",\"\",名簿!$A37)","v":1137},{"$f":"IFERROR(VLOOKUP($B44,名簿!$A:$C,3,0),\"\")","v":0}]
[null,{"$f":"IF(名簿!$A38=\"\",\"\",名簿!$A38)","v":1138},{"$f":"IFERROR(VLOOKUP($B45,名簿!$A:$C,3,0),\"\")","v":0}]
[null,{"$f":"IF(名簿!$A39=\"\",\"\",名簿!$A39)","v":1139},{"$f":"IFERROR(VLOOKUP($B46,名簿!$A:$C,3,0),\"\")","v":0}]
[null,{"$f":"IF(名簿!$A40=\"\",\"\",名簿!$A40)","v":1140},{"$f":"IFERROR(VLOOKUP($B47,名簿!$A:$C,3,0),\"\")","v":0}]

{"sheet":"名簿","index":7,"n_rows":40,"n_cols":3,"rows_kept":40,"cut":false,"hidden":false,"merged":[]}
[1101,1,"田中太郎"]
[1102,2,"小林治郎"]
[1103,3,"佐藤三郎"]
[1104,4,"山田花子"]
[1105,5,"山本とし子"]
[1106,6]
[1107,7]
[1108,8]
[1109,9]
[1110,10]
[1111,11]
[1112,12]
[1113,13]
[1114,14]
[1115,15]
[1116,16]
[1117,17]
[1118,18]
[1119,19]
[1120,20]
[1121,21]
[1122,22]
[1123,23]
[1124,24]
[1125,25]
[1126,26]
[1127,27]
[1128,28]
[1129,29]
[1130,30]
[1131,31]
[1132,32]
[1133,33]
[1134,34]
[1135,35]
[1136,36]
[1137,37]
[1138,38]
[1139,39]
[1140,40]